{"text_format":"1","workbook":"xlsx","n_sheets":11,"sheets":["Board","Gant","Actions","Act+Res","Resources","Issues","Risks","Settings","Ref","System","Maintenance"],"not_rendered":{"charts":0,"images":7,"macros":1,"external_links":0,"defined_names":36,"comments":0,"pivot_tables":0},"unopened":[],"bounds":{"document_bytes":16777216,"sheet_cells":100000,"rows_first":2000,"rows_last":500,"rows_between":2000,"halvings":0,"cell_chars":16384,"cell_head_chars":4096},"cells_cut":0,"cells_raw":0,"read":"whole","date_system":"1900"}

{"sheet":"Board","index":0,"n_rows":73,"n_cols":30,"rows_kept":73,"cut":false,"hidden":false,"merged":[[24,3,24,4],[24,9,24,10],[33,7,34,9],[33,10,34,10],[33,11,34,11],[25,7,26,9],[25,10,26,10],[25,11,26,11],[27,7,28,9],[27,10,28,10],[27,11,28,11],[33,1,34,3],[33,4,34,4],[33,5,34,5],[25,1,26,3],[25,4,26,4],[35,7,36,9],[35,10,36,10],[35,11,36,11],[29,7,30,9],[29,10,30,10],[29,11,30,11],[31,7,32,9],[31,10,32,10],[31,11,32,11],[35,1,36,3],[35,4,36,4],[35,5,36,5],[29,1,30,3],[29,4,30,4],[29,5,30,5],[31,1,32,3],[31,4,32,4],[31,5,32,5],[25,5,26,5],[27,1,28,3],[27,4,28,4],[27,5,28,5],[15,15,18,16],[16,1,16,6],[17,1,17,6],[18,1,18,6],[19,1,19,6],[20,1,20,6],[19,7,19,8],[20,7,20,8],[19,9,19,10],[20,9,20,10],[16,9,16,10],[17,9,17,10],[9,22,10,23],[12,22,13,23],[15,22,16,23],[18,22,19,23],[9,18,10,19],[12,18,13,19],[15,18,16,19],[18,18,19,19],[2,23,2,24],[0,23,0,24],[0,2,2,8],[1,1,2,1],[8,1,8,6],[8,7,8,8],[8,9,8,10],[0,20,0,22],[2,20,2,22],[0,9,0,11],[2,9,2,11],[0,12,0,16],[2,12,2,16],[0,17,0,19],[2,17,2,19],[10,7,10,8],[11,7,11,8],[12,7,12,8],[13,7,13,8],[9,1,9,6],[10,1,10,6],[11,1,11,6],[12,1,12,6],[13,1,13,6],[18,9,18,10],[14,1,14,6],[15,1,15,6],[9,9,9,10],[10,9,10,10],[11,9,11,10],[12,9,12,10],[13,9,13,10],[14,9,14,10],[15,9,15,10],[14,7,14,8],[15,7,15,8],[16,7,16,8],[17,7,17,8],[18,7,18,8],[9,7,9,8]]}
[null,null,{"$f":"rngProjectName","v":"Ремонт в квартире"},null,null,null,null,null,null,"Менеджер проекта:",null,null,{"$f":"rngProjectManager","v":"Пиявкин Серёжа"},null,null,null,null,"Отчёт на:",null,null,{"$f":"rngReportDate","v":"2014-10-25"},null,null,"© Батьянов Д.С."]
[null,"Проект"]
[null,null,null,null,null,null,null,null,null,"Спонсор проекта:",null,null,{"$f":"rngProjectSponsor","v":"Пиявкина Раиса Марковна"},null,null,null,null,"Стадия проекта:",null,null,"Реализация",null,null,"perfect-excel.ru"]
[]
[]
[]
[]
[]
[null,"Пункт плана",null,null,null,null,null,"Начало",null,"Окончание",null,"Статус"]
[null,{"$f":"IFERROR(INDEX(rngSystemData,SMALL(rngSystemL1,ROW()-9)-1,2),\"\")","v":"Планирование"},null,null,null,null,null,{"$f":"IFERROR(INDEX(rngSystemData,SMALL(rngSystemL1,ROW()-9)-1,6),\"\")","v":"2014-03-01"},null,{"$f":"IFERROR(INDEX(rngSystemData,SMALL(rngSystemL1,ROW()-9)-1,7),\"\")","v":"2014-05-13"},null,{"$f":"IFERROR(INDEX(rngSystemData,SMALL(rngSystemL1,ROW()-9)-1,12),\"\")","v":0.97872340425531912},null,null,null,null,null,null,"График",null,null,null,"Риски"]
[null,"Реализация",null,null,null,null,null,"2014-05-14",null,"2014-08-06",null,0.77978723404255312]
[null,"Завершение",null,null,null,null,null,"2014-08-04",null,"2014-08-09",null,0]
[null,"",null,null,null,null,null,"",null,"",null,"",null,null,null,null,null,null,"Бюджет",null,null,null,"Проблемы"]
[null,"",null,null,null,null,null,"",null,"",null,""]
[null,"",null,null,null,null,null,"",null,"",null,""]
[null,"",null,null,null,null,null,"",null,"",null,"",null,null,null,"Статус проекта",null,null,"Качество"]
[null,"",null,null,null,null,null,"",null,"",null,""]
[null,"",null,null,null,null,null,"",null,"",null,""]
[null,"",null,null,null,null,null,"",null,"",null,"",null,null,null,null,null,null,"Ресурсы"]
[null,"",null,null,null,null,null,"",null,"",null,""]
[]
[]
[]
[]
[null,"Проблема",null,"Серьёзность",null,"Статус",null,"Риск",null,"Серьёзность",null,"Вероятность",null,"Количество этапов",null,null,null,1,{"$f":"System!AD102","v":32}]
[null,{"$f":"IFERROR(INDEX(tblIssues[],(ROW()-24)/2,1),\"\")","v":"Плохое качество материалов"},null,null,{"$f":"IFERROR(VLOOKUP(INDEX(tblIssues[],(ROW()-24)/2,2),refIssueDamage[],2,0),\"\")","v":0.25},{"$f":"IFERROR(VLOOKUP(INDEX(tblIssues[],(ROW()-24)/2,3),refIssueStatus[],3,0),\"\")","v":"@"},null,{"$f":"IFERROR(INDEX(tblRisks[],(ROW()-24)/2,1),\"\")","v":"Запой Михалыча"},null,null,{"$f":"IFERROR(VLOOKUP(INDEX(tblRisks[],(ROW()-24)/2,2),refRiskDamage[],2,0),\"\")","v":0.25},{"$f":"IFERROR(VLOOKUP(INDEX(tblRisks[],(ROW()-24)/2,3),refRiskProb[],2,0),\"\")","v":0.25},null,"из них выполнено",null,null,null,{"$f":"IFERROR(S26/S25,0)","v":0.59375},{"$f":"System!$L$102","v":19}]
[null,null,null,null,null,null,null,null,null,null,null,null,null,"Количество вех",null,null,null,1,{"$f":"System!$D$102","v":8}]
[null,{"$f":"IFERROR(INDEX(tblIssues[],(ROW()-24)/2,1),\"\")","v":""},null,null,{"$f":"IFERROR(VLOOKUP(INDEX(tblIssues[],(ROW()-24)/2,2),refIssueDamage[],2,0),\"\")","v":""},{"$f":"IFERROR(VLOOKUP(INDEX(tblIssues[],(ROW()-24)/2,3),refIssueStatus[],3,0),\"\")","v":""},null,{"$f":"IFERROR(INDEX(tblRisks[],(ROW()-24)/2,1),\"\")","v":"Проблемы с финансированием"},null,null,{"$f":"IFERROR(VLOOKUP(INDEX(tblRisks[],(ROW()-24)/2,2),refRiskDamage[],2,0),\"\")","v":0.5},{"$f":"IFERROR(VLOOKUP(INDEX(tblRisks[],(ROW()-24)/2,3),refRiskProb[],2,0),\"\")","v":0.05},null,"из них пройдено",null,null,null,{"$f":"IFERROR(S28/S27,0)","v":0.375},{"$f":"System!F113","v":3}]
[null,null,null,null,null,null,null,null,null,null,null,null,null,"Всего дней по плану",null,null,null,null,{"$f":"System!$H$102","v":162}]
[null,{"$f":"IFERROR(INDEX(tblIssues[],(ROW()-24)/2,1),\"\")","v":""},null,null,{"$f":"IFERROR(VLOOKUP(INDEX(tblIssues[],(ROW()-24)/2,2),refIssueDamage[],2,0),\"\")","v":""},{"$f":"IFERROR(VLOOKUP(INDEX(tblIssues[],(ROW()-24)/2,3),refIssueStatus[],3,0),\"\")","v":""},null,{"$f":"IFERROR(INDEX(tblRisks[],(ROW()-24)/2,1),\"\")","v":""},null,null,{"$f":"IFERROR(VLOOKUP(INDEX(tblRisks[],(ROW()-24)/2,2),refRiskDamage[],2,0),\"\")","v":""},{"$f":"IFERROR(VLOOKUP(INDEX(tblRisks[],(ROW()-24)/2,3),refRiskProb[],2,0),\"\")","v":""},null,"Всего дней по факту",null,null,null,null,{"$f":"System!$K$102","v":191}]
[null,null,null,null,null,null,null,null,null,null,null,null,null,{"$f":"IF(S30-S29>=0,\"отставание факта от плана\",\"опережение фактом плана\")","v":"отставание факта от плана"},null,null,null,{"$f":"S31/S29","v":0.17901234567901234},{"$f":"ABS(S30-S29)","v":29}]
[null,{"$f":"IFERROR(INDEX(tblIssues[],(ROW()-24)/2,1),\"\")","v":""},null,null,{"$f":"IFERROR(VLOOKUP(INDEX(tblIssues[],(ROW()-24)/2,2),refIssueDamage[],2,0),\"\")","v":""},{"$f":"IFERROR(VLOOKUP(INDEX(tblIssues[],(ROW()-24)/2,3),refIssueStatus[],3,0),\"\")","v":""},null,{"$f":"IFERROR(INDEX(tblRisks[],(ROW()-24)/2,1),\"\")","v":""},null,null,{"$f":"IFERROR(VLOOKUP(INDEX(tblRisks[],(ROW()-24)/2,2),refRiskDamage[],2,0),\"\")","v":""},{"$f":"IFERROR(VLOOKUP(INDEX(tblRisks[],(ROW()-24)/2,3),refRiskProb[],2,0),\"\")","v":""},null,"Отставание по завершению пунктов, дней"]
[null,null,null,null,null,null,null,null,null,null,null,null,null,"базируясь на плановых датах",null,null,null,{"$f":"IFERROR(System!AI102/System!AG102,0)","v":0.1537037037037037},{"$f":"ROUND(System!$AI$102,0)","v":25}]
[null,{"$f":"IFERROR(INDEX(tblIssues[],(ROW()-24)/2,1),\"\")","v":""},null,null,{"$f":"IFERROR(VLOOKUP(INDEX(tblIssues[],(ROW()-24)/2,2),refIssueDamage[],2,0),\"\")","v":""},{"$f":"IFERROR(VLOOKUP(INDEX(tblIssues[],(ROW()-24)/2,3),refIssueStatus[],3,0),\"\")","v":""},null,{"$f":"IFERROR(INDEX(tblRisks[],(ROW()-24)/2,1),\"\")","v":""},null,null,{"$f":"IFERROR(VLOOKUP(INDEX(tblRisks[],(ROW()-24)/2,2),refRiskDamage[],2,0),\"\")","v":""},{"$f":"IFERROR(VLOOKUP(INDEX(tblRisks[],(ROW()-24)/2,3),refRiskProb[],2,0),\"\")","v":""},null,"базируясь на фактических датах",null,null,null,{"$f":"IFERROR(System!AJ102/System!AH102,0)","v":0.13455497382198953},{"$f":"ROUND(System!$AJ$102,0)","v":26}]
[null,null,null,null,null,null,null,null,null,null,null,null,null,{"$f":"IF('Act+Res'!AL5>0,\"Дефицит ресурсов\",\"Избыток ресурсов\")","v":"Дефицит ресурсов"},null,null,null,{"$f":"ABS('Act+Res'!$AL$5)","v":0.12110204660834108}]
[null,{"$f":"IFERROR(INDEX(tblIssues[],(ROW()-24)/2,1),\"\")","v":""},null,null,{"$f":"IFERROR(VLOOKUP(INDEX(tblIssues[],(ROW()-24)/2,2),refIssueDamage[],2,0),\"\")","v":""},{"$f":"IFERROR(VLOOKUP(INDEX(tblIssues[],(ROW()-24)/2,3),refIssueStatus[],3,0),\"\")","v":""},null,{"$f":"IFERROR(INDEX(tblRisks[],(ROW()-24)/2,1),\"\")","v":""},null,null,{"$f":"IFERROR(VLOOKUP(INDEX(tblRisks[],(ROW()-24)/2,2),refRiskDamage[],2,0),\"\")","v":""},{"$f":"IFERROR(VLOOKUP(INDEX(tblRisks[],(ROW()-24)/2,3),refRiskProb[],2,0),\"\")","v":""}]
[]
[]
[]
[]
[]
[]
[]
[]
[]
[]
[]
[]
[]
[]
[]
[]
[]
[]
[]
[]
[]
[]
[]
[]
[]
[]
[]
[]
[]
[]
[]
[]
[]
[]
[]
[]
[null,null,null,null,null,null,null,null,null,null,null,null,null,null,null,null,null,null,null,null,null,null,null,null,null,null,null,null,null,1]

{"sheet":"Gant","index":1,"n_rows":108,"n_cols":513,"rows_kept":108,"cut":false,"hidden":false,"merged":[]}
[null,null,6,null,null,null,null,null,null,null,null,11,12,13,14,15,16,17,18,19,20,21,22,23,24,25,26,27,28,29,30,31,32,33,34,35,36,37,38,39,40,41,42,43,44,45,46,47,48,49,50,51,52,53,54,55,56,57,58,59,60,61,62,63,64,65,66,67,68,69,70,71,72,73,74,75,76,77,78,79,80,81,82,83,84,85,86,87,88,89,90,91,92,93,94,95,96,97,98,99,100,101,102,103,104,105,106,107,108,109,110,111,112,113,114,115,116,117,118,119,120,121,122,123,124,125,126,127,128,129,130,131,132,133,134,135,136,137,138,139,140,141,142,143,144,145,146,147,148,149,150,151,152,153,154,155,156,157,158,159,160,161,162,163,164,165,166,167,168,169,170,171,172,173,174,175,176,177,178,179,180,181,182,183,184,185,186,187,188,189,190,191,192,193,194,195,196,197,198,199,200,201,202,203,204,205,206,207,208,209,210,211,212,213,214,215,216,217,218,219,220,221,222,223,224,225,226,227,228,229,230,231,232,233,234,235,236,237,238,239,240,241,242,243,244,245,246,247,248,249,250,251,252,253,254,255,256,257,258,259,260,261,262,263,264,265,266,267,268,269,270,271,272,273,274,275,276,277,278,279,280,281,282,283,284,285,286,287,288,289,290,291,292,293,294,295,296,297,298,299,300,301,302,303,304,305,306,307,308,309,310,311,312,313,314,315,316,317,318,319,320,321,322,323,324,325,326,327,328,329,330,331,332,333,334,335,336,337,338,339,340,341,342,343,344,345,346,347,348,349,350,351,352,353,354,355,356,357,358,359,360,361,362,363,364,365,366,367,368,369,370,371,372,373,374,375,376,377,378,379,380,381,382,383,384,385,386,387,388,389,390,391,392,393,394,395,396,397,398,399,400,401,402,403,404,405,406,407,408,409,410,411,412,413,414,415,416,417,418,419,420,421,422,423,424,425,426,427,428,429,430,431,432,433,434,435,436,437,438,439,440,441,442,443,444,445,446,447,448,449,450,451,452,453,454,455,456,457,458,459,460,461,462,463,464,465,466,467,468,469,470,471,472,473,474,475,476,477,478,479,480,481,482,483,484,485,486,487,488,489,490,491,492,493,494,495,496,497,498,499,500,501,502,503,504,505,506,507,508,509,510,null,1]
[null,{"$f":"MAX($I$6:$I$105)+1","v":92},{"$f":"INDEX(refMagnify[M],$C$1)","v":2},{"$f":"ROUND(1/gDpC,2)","v":0.5},true,"2015-04-24",null,null,null,"Конец",null,{"$f":"INT(gStartPrj+(L$1-gFstCol+1-gDelta)*gDpC)","v":"2014-03-02"},"2014-03-04","2014-03-06","2014-03-08","2014-03-10","2014-03-12","2014-03-14","2014-03-16","2014-03-18","2014-03-20","2014-03-22","2014-03-24","2014-03-26","2014-03-28","2014-03-30","2014-04-01","2014-04-03","2014-04-05","2014-04-07","2014-04-09","2014-04-11","2014-04-13","2014-04-15","2014-04-17","2014-04-19","2014-04-21","2014-04-23","2014-04-25","2014-04-27","2014-04-29","2014-05-01","2014-05-03","2014-05-05","2014-05-07","2014-05-09","2014-05-11","2014-05-13","2014-05-15","2014-05-17","2014-05-19","2014-05-21","2014-05-23","2014-05-25","2014-05-27","2014-05-29","2014-05-31","2014-06-02","2014-06-04","2014-06-06","2014-06-08","2014-06-10","2014-06-12","2014-06-14","2014-06-16","2014-06-18","2014-06-20","2014-06-22","2014-06-24","2014-06-26","2014-06-28","2014-06-30","2014-07-02","2014-07-04","2014-07-06",{"$f":"INT(gStartPrj+(BX$1-gFstCol+1-gDelta)*gDpC)","v":"2014-07-08"},"2014-07-10","2014-07-12","2014-07-14","2014-07-16","2014-07-18","2014-07-20","2014-07-22","2014-07-24","2014-07-26","2014-07-28","2014-07-30","2014-08-01","2014-08-03","2014-08-05","2014-08-07","2014-08-09","2014-08-11","2014-08-13","2014-08-15","2014-08-17","2014-08-19","2014-08-21","2014-08-23","2014-08-25","2014-08-27","2014-08-29","2014-08-31","2014-09-02","2014-09-04","2014-09-06","2014-09-08","2014-09-10","2014-09-12","2014-09-14","2014-09-16","2014-09-18","2014-09-20","2014-09-22","2014-09-24","2014-09-26","2014-09-28","2014-09-30","2014-10-02","2014-10-04","2014-10-06","2014-10-08","2014-10-10","2014-10-12","2014-10-14","2014-10-16","2014-10-18","2014-10-20","2014-10-22","2014-10-24","2014-10-26","2014-10-28","2014-10-30","2014-11-01","2014-11-03","2014-11-05","2014-11-07","2014-11-09","2014-11-11",{"$f":"INT(gStartPrj+(EJ$1-gFstCol+1-gDelta)*gDpC)","v":"2014-11-13"},"2014-11-15","2014-11-17","2014-11-19","2014-11-21","2014-11-23","2014-11-25","2014-11-27","2014-11-29","2014-12-01","2014-12-03","2014-12-05","2014-12-07","2014-12-09","2014-12-11","2014-12-13","2014-12-15","2014-12-17","2014-12-19","2014-12-21","2014-12-23","2014-12-25","2014-12-27","2014-12-29","2014-12-31","2015-01-02","2015-01-04","2015-01-06","2015-01-08","2015-01-10","2015-01-12","2015-01-14","2015-01-16","2015-01-18","2015-01-20","2015-01-22","2015-01-24","2015-01-26","2015-01-28","2015-01-30","2015-02-01","2015-02-03","2015-02-05","2015-02-07","2015-02-09","2015-02-11","2015-02-13","2015-02-15","2015-02-17","2015-02-19","2015-02-21","2015-02-23","2015-02-25","2015-02-27","2015-03-01","2015-03-03","2015-03-05","2015-03-07","2015-03-09","2015-03-11","2015-03-13","2015-03-15","2015-03-17","2015-03-19",{"$f":"INT(gStartPrj+(GV$1-gFstCol+1-gDelta)*gDpC)","v":"2015-03-21"},"2015-03-23","2015-03-25","2015-03-27","2015-03-29","2015-03-31","2015-04-02","2015-04-04","2015-04-06","2015-04-08","2015-04-10","2015-04-12","2015-04-14","2015-04-16","2015-04-18","2015-04-20","2015-04-22","2015-04-24","2015-04-26","2015-04-28","2015-04-30","2015-05-02","2015-05-04","2015-05-06","2015-05-08","2015-05-10","2015-05-12","2015-05-14","2015-05-16","2015-05-18","2015-05-20","2015-05-22","2015-05-24","2015-05-26","2015-05-28","2015-05-30","2015-06-01","2015-06-03","2015-06-05","2015-06-07","2015-06-09","2015-06-11","2015-06-13","2015-06-15","2015-06-17","2015-06-19","2015-06-21","2015-06-23","2015-06-25","2015-06-27","2015-06-29","2015-07-01","2015-07-03","2015-07-05","2015-07-07","2015-07-09","2015-07-11","2015-07-13","2015-07-15","2015-07-17","2015-07-19","2015-07-21","2015-07-23","2015-07-25",{"$f":"INT(gStartPrj+(JH$1-gFstCol+1-gDelta)*gDpC)","v":"2015-07-27"},"2015-07-29","2015-07-31","2015-08-02","2015-08-04","2015-08-06","2015-08-08","2015-08-10","2015-08-12","2015-08-14","2015-08-16","2015-08-18","2015-08-20","2015-08-22","2015-08-24","2015-08-26","2015-08-28","2015-08-30","2015-09-01","2015-09-03","2015-09-05","2015-09-07","2015-09-09","2015-09-11","2015-09-13","2015-09-15","2015-09-17","2015-09-19","2015-09-21","2015-09-23","2015-09-25","2015-09-27","2015-09-29","2015-10-01","2015-10-03","2015-10-05","2015-10-07","2015-10-09","2015-10-11","2015-10-13","2015-10-15","2015-10-17","2015-10-19","2015-10-21","2015-10-23","2015-10-25","2015-10-27","2015-10-29","2015-10-31","2015-11-02","2015-11-04","2015-11-06","2015-11-08","2015-11-10","2015-11-12","2015-11-14","2015-11-16","2015-11-18","2015-11-20","2015-11-22","2015-11-24","2015-11-26","2015-11-28","2015-11-30",{"$f":"INT(gStartPrj+(LT$1-gFstCol+1-gDelta)*gDpC)","v":"2015-12-02"},"2015-12-04","2015-12-06","2015-12-08","2015-12-10","2015-12-12","2015-12-14","2015-12-16","2015-12-18","2015-12-20","2015-12-22","2015-12-24","2015-12-26","2015-12-28","2015-12-30","2016-01-01","2016-01-03","2016-01-05","2016-01-07","2016-01-09","2016-01-11","2016-01-13","2016-01-15","2016-01-17","2016-01-19","2016-01-21","2016-01-23","2016-01-25","2016-01-27","2016-01-29","2016-01-31","2016-02-02","2016-02-04","2016-02-06","2016-02-08","2016-02-10","2016-02-12","2016-02-14","2016-02-16","2016-02-18","2016-02-20","2016-02-22","2016-02-24","2016-02-26","2016-02-28","2016-03-01","2016-03-03","2016-03-05","2016-03-07","2016-03-09","2016-03-11","2016-03-13","2016-03-15","2016-03-17","2016-03-19","2016-03-21","2016-03-23","2016-03-25","2016-03-27","2016-03-29","2016-03-31","2016-04-02","2016-04-04","2016-04-06",{"$f":"INT(gStartPrj+(OF$1-gFstCol+1-gDelta)*gDpC)","v":"2016-04-08"},"2016-04-10","2016-04-12","2016-04-14","2016-04-16","2016-04-18","2016-04-20","2016-04-22","2016-04-24","2016-04-26","2016-04-28","2016-04-30","2016-05-02","2016-05-04","2016-05-06","2016-05-08","2016-05-10","2016-05-12","2016-05-14","2016-05-16","2016-05-18","2016-05-20","2016-05-22","2016-05-24","2016-05-26","2016-05-28","2016-05-30","2016-06-01","2016-06-03","2016-06-05","2016-06-07","2016-06-09","2016-06-11","2016-06-13","2016-06-15","2016-06-17","2016-06-19","2016-06-21","2016-06-23","2016-06-25","2016-06-27","2016-06-29","2016-07-01","2016-07-03","2016-07-05","2016-07-07","2016-07-09","2016-07-11","2016-07-13","2016-07-15","2016-07-17","2016-07-19","2016-07-21","2016-07-23","2016-07-25","2016-07-27","2016-07-29","2016-07-31","2016-08-02","2016-08-04","2016-08-06","2016-08-08","2016-08-10","2016-08-12",{"$f":"INT(gStartPrj+(QR$1-gFstCol+1-gDelta)*gDpC)","v":"2016-08-14"},"2016-08-16","2016-08-18","2016-08-20","2016-08-22","2016-08-24","2016-08-26","2016-08-28","2016-08-30","2016-09-01","2016-09-03","2016-09-05","2016-09-07","2016-09-09","2016-09-11","2016-09-13","2016-09-15","2016-09-17","2016-09-19","2016-09-21","2016-09-23","2016-09-25","2016-09-27","2016-09-29","2016-10-01","2016-10-03","2016-10-05","2016-10-07","2016-10-09","2016-10-11","2016-10-13","2016-10-15","2016-10-17","2016-10-19","2016-10-21","2016-10-23","2016-10-25","2016-10-27","2016-10-29","2016-10-31","2016-11-02","2016-11-04","2016-11-06","2016-11-08","2016-11-10","2016-11-12","2016-11-14","2016-11-16","2016-11-18","2016-11-20","2016-11-22","2016-11-24",null,{"$f":"IF(zzzTechVisibility,1,0)","v":0}]
[null,"2014-03-01",11,1E-3,{"$f":"VLOOKUP(gDpC,refMagnify[],2,0)","v":1},null,null,null,null,"Начало",null,{"$f":"INT(gStartPrj+(L$1-gFstCol+gDelta)*gDpC)","v":"2014-03-01"},"2014-03-03","2014-03-05","2014-03-07","2014-03-09","2014-03-11","2014-03-13","2014-03-15","2014-03-17","2014-03-19","2014-03-21","2014-03-23","2014-03-25","2014-03-27","2014-03-29","2014-03-31","2014-04-02","2014-04-04","2014-04-06","2014-04-08","2014-04-10","2014-04-12","2014-04-14","2014-04-16","2014-04-18","2014-04-20","2014-04-22","2014-04-24","2014-04-26","2014-04-28","2014-04-30","2014-05-02","2014-05-04","2014-05-06","2014-05-08","2014-05-10","2014-05-12","2014-05-14","2014-05-16","2014-05-18","2014-05-20","2014-05-22","2014-05-24","2014-05-26","2014-05-28","2014-05-30","2014-06-01","2014-06-03","2014-06-05","2014-06-07","2014-06-09","2014-06-11","2014-06-13","2014-06-15","2014-06-17","2014-06-19","2014-06-21","2014-06-23","2014-06-25","2014-06-27","2014-06-29","2014-07-01","2014-07-03","2014-07-05",{"$f":"INT(gStartPrj+(BX$1-gFstCol+gDelta)*gDpC)","v":"2014-07-07"},"2014-07-09","2014-07-11","2014-07-13","2014-07-15","2014-07-17","2014-07-19","2014-07-21","2014-07-23","2014-07-25","2014-07-27","2014-07-29","2014-07-31","2014-08-02","2014-08-04","2014-08-06","2014-08-08","2014-08-10","2014-08-12","2014-08-14","2014-08-16","2014-08-18","2014-08-20","2014-08-22","2014-08-24","2014-08-26","2014-08-28","2014-08-30","2014-09-01","2014-09-03","2014-09-05","2014-09-07","2014-09-09","2014-09-11","2014-09-13","2014-09-15","2014-09-17","2014-09-19","2014-09-21","2014-09-23","2014-09-25","2014-09-27","2014-09-29","2014-10-01","2014-10-03","2014-10-05","2014-10-07","2014-10-09","2014-10-11","2014-10-13","2014-10-15","2014-10-17","2014-10-19","2014-10-21","2014-10-23","2014-10-25","2014-10-27","2014-10-29","2014-10-31","2014-11-02","2014-11-04","2014-11-06","2014-11-08","2014-11-10",{"$f":"INT(gStartPrj+(EJ$1-gFstCol+gDelta)*gDpC)","v":"2014-11-12"},"2014-11-14","2014-11-16","2014-11-18","2014-11-20","2014-11-22","2014-11-24","2014-11-26","2014-11-28","2014-11-30","2014-12-02","2014-12-04","2014-12-06","2014-12-08","2014-12-10","2014-12-12","2014-12-14","2014-12-16","2014-12-18","2014-12-20","2014-12-22","2014-12-24","2014-12-26","2014-12-28","2014-12-30","2015-01-01","2015-01-03","2015-01-05","2015-01-07","2015-01-09","2015-01-11","2015-01-13","2015-01-15","2015-01-17","2015-01-19","2015-01-21","2015-01-23","2015-01-25","2015-01-27","2015-01-29","2015-01-31","2015-02-02","2015-02-04","2015-02-06","2015-02-08","2015-02-10","2015-02-12","2015-02-14","2015-02-16","2015-02-18","2015-02-20","2015-02-22","2015-02-24","2015-02-26","2015-02-28","2015-03-02","2015-03-04","2015-03-06","2015-03-08","2015-03-10","2015-03-12","2015-03-14","2015-03-16","2015-03-18",{"$f":"INT(gStartPrj+(GV$1-gFstCol+gDelta)*gDpC)","v":"2015-03-20"},"2015-03-22","2015-03-24","2015-03-26","2015-03-28","2015-03-30","2015-04-01","2015-04-03","2015-04-05","2015-04-07","2015-04-09","2015-04-11","2015-04-13","2015-04-15","2015-04-17","2015-04-19","2015-04-21","2015-04-23","2015-04-25","2015-04-27","2015-04-29","2015-05-01","2015-05-03","2015-05-05","2015-05-07","2015-05-09","2015-05-11","2015-05-13","2015-05-15","2015-05-17","2015-05-19","2015-05-21","2015-05-23","2015-05-25","2015-05-27","2015-05-29","2015-05-31","2015-06-02","2015-06-04","2015-06-06","2015-06-08","2015-06-10","2015-06-12","2015-06-14","2015-06-16","2015-06-18","2015-06-20","2015-06-22","2015-06-24","2015-06-26","2015-06-28","2015-06-30","2015-07-02","2015-07-04","2015-07-06","2015-07-08","2015-07-10","2015-07-12","2015-07-14","2015-07-16","2015-07-18","2015-07-20","2015-07-22","2015-07-24",{"$f":"INT(gStartPrj+(JH$1-gFstCol+gDelta)*gDpC)","v":"2015-07-26"},"2015-07-28","2015-07-30","2015-08-01","2015-08-03","2015-08-05","2015-08-07","2015-08-09","2015-08-11","2015-08-13","2015-08-15","2015-08-17","2015-08-19","2015-08-21","2015-08-23","2015-08-25","2015-08-27","2015-08-29","2015-08-31","2015-09-02","2015-09-04","2015-09-06","2015-09-08","2015-09-10","2015-09-12","2015-09-14","2015-09-16","2015-09-18","2015-09-20","2015-09-22","2015-09-24","2015-09-26","2015-09-28","2015-09-30","2015-10-02","2015-10-04","2015-10-06","2015-10-08","2015-10-10","2015-10-12","2015-10-14","2015-10-16","2015-10-18","2015-10-20","2015-10-22","2015-10-24","2015-10-26","2015-10-28","2015-10-30","2015-11-01","2015-11-03","2015-11-05","2015-11-07","2015-11-09","2015-11-11","2015-11-13","2015-11-15","2015-11-17","2015-11-19","2015-11-21","2015-11-23","2015-11-25","2015-11-27","2015-11-29",{"$f":"INT(gStartPrj+(LT$1-gFstCol+gDelta)*gDpC)","v":"2015-12-01"},"2015-12-03","2015-12-05","2015-12-07","2015-12-09","2015-12-11","2015-12-13","2015-12-15","2015-12-17","2015-12-19","2015-12-21","2015-12-23","2015-12-25","2015-12-27","2015-12-29","2015-12-31","2016-01-02","2016-01-04","2016-01-06","2016-01-08","2016-01-10","2016-01-12","2016-01-14","2016-01-16","2016-01-18","2016-01-20","2016-01-22","2016-01-24","2016-01-26","2016-01-28","2016-01-30","2016-02-01","2016-02-03","2016-02-05","2016-02-07","2016-02-09","2016-02-11","2016-02-13","2016-02-15","2016-02-17","2016-02-19","2016-02-21","2016-02-23","2016-02-25","2016-02-27","2016-02-29","2016-03-02","2016-03-04","2016-03-06","2016-03-08","2016-03-10","2016-03-12","2016-03-14","2016-03-16","2016-03-18","2016-03-20","2016-03-22","2016-03-24","2016-03-26","2016-03-28","2016-03-30","2016-04-01","2016-04-03","2016-04-05",{"$f":"INT(gStartPrj+(OF$1-gFstCol+gDelta)*gDpC)","v":"2016-04-07"},"2016-04-09","2016-04-11","2016-04-13","2016-04-15","2016-04-17","2016-04-19","2016-04-21","2016-04-23","2016-04-25","2016-04-27","2016-04-29","2016-05-01","2016-05-03","2016-05-05","2016-05-07","2016-05-09","2016-05-11","2016-05-13","2016-05-15","2016-05-17","2016-05-19","2016-05-21","2016-05-23","2016-05-25","2016-05-27","2016-05-29","2016-05-31","2016-06-02","2016-06-04","2016-06-06","2016-06-08","2016-06-10","2016-06-12","2016-06-14","2016-06-16","2016-06-18","2016-06-20","2016-06-22","2016-06-24","2016-06-26","2016-06-28","2016-06-30","2016-07-02","2016-07-04","2016-07-06","2016-07-08","2016-07-10","2016-07-12","2016-07-14","2016-07-16","2016-07-18","2016-07-20","2016-07-22","2016-07-24","2016-07-26","2016-07-28","2016-07-30","2016-08-01","2016-08-03","2016-08-05","2016-08-07","2016-08-09","2016-08-11",{"$f":"INT(gStartPrj+(QR$1-gFstCol+gDelta)*gDpC)","v":"2016-08-13"},"2016-08-15","2016-08-17","2016-08-19","2016-08-21","2016-08-23","2016-08-25","2016-08-27","2016-08-29","2016-08-31","2016-09-02","2016-09-04","2016-09-06","2016-09-08","2016-09-10","2016-09-12","2016-09-14","2016-09-16","2016-09-18","2016-09-20","2016-09-22","2016-09-24","2016-09-26","2016-09-28","2016-09-30","2016-10-02","2016-10-04","2016-10-06","2016-10-08","2016-10-10","2016-10-12","2016-10-14","2016-10-16","2016-10-18","2016-10-20","2016-10-22","2016-10-24","2016-10-26","2016-10-28","2016-10-30","2016-11-01","2016-11-03","2016-11-05","2016-11-07","2016-11-09","2016-11-11","2016-11-13","2016-11-15","2016-11-17","2016-11-19","2016-11-21","2016-11-23",null,{"$f":"IF(zzzTechVisibility,1,0)","v":0}]
[null,"Пункт плана","Начало","Окончание","Уровень","Завершено","Первая колонка","Средняя колонка","Последняя колонка","Тип",null,{"$f":"IF(\nL$5-gCpD*INT(L$5/gCpD)<1,\"  \"&\nCHOOSE(gDType,\n     TEXT(L$3,\"ДД МММ\"),\n     IF(MONTH(L$3)=MONTH(L$2),\n          TEXT(L$3,\"Д\")&\"-\"&TEXT(L$2,\"Д МММ\"),\n          TEXT(L$3,\"Д МММ\")&\" - \"&TEXT(L$2,\"Д МММ\")),\n     \"week \"&WEEKNUM(L$3,2)),\n\"\")","v":"  01 мар"},"  03 мар","  05 мар","  07 мар","  09 мар","  11 мар","  13 мар","  15 мар","  17 мар","  19 мар","  21 мар","  23 мар","  25 мар","  27 мар","  29 мар","  31 мар","  02 апр","  04 апр","  06 апр","  08 апр","  10 апр","  12 апр","  14 апр","  16 апр","  18 апр","  20 апр","  22 апр","  24 апр","  26 апр","  28 апр","  30 апр","  02 май","  04 май","  06 май","  08 май","  10 май","  12 май","  14 май","  16 май","  18 май","  20 май","  22 май","  24 май","  26 май","  28 май","  30 май","  01 июн","  03 июн","  05 июн","  07 июн","  09 июн","  11 июн","  13 июн","  15 июн","  17 июн","  19 июн","  21 июн","  23 июн","  25 июн","  27 июн","  29 июн","  01 июл","  03 июл","  05 июл",{"$f":"IF(\nBX$5-gCpD*INT(BX$5/gCpD)<1,\"  \"&\nCHOOSE(gDType,\n     TEXT(BX$3,\"ДД МММ\"),\n     IF(MONTH(BX$3)=MONTH(BX$2),\n          TEXT(BX$3,\"Д\")&\"-\"&TEXT(BX$2,\"Д МММ\"),\n          TEXT(BX$3,\"Д МММ\")&\" - \"&TEXT(BX$2,\"Д МММ\")),\n     \"week \"&WEEKNUM(BX$3,2)),\n\"\")","v":"  07 июл"},"  09 июл","  11 июл","  13 июл","  15 июл","  17 июл","  19 июл","  21 июл","  23 июл","  25 июл","  27 июл","  29 июл","  31 июл","  02 авг","  04 авг","  06 авг","  08 авг","  10 авг","  12 авг","  14 авг","  16 авг","  18 авг","  20 авг","  22 авг","  24 авг","  26 авг","  28 авг","  30 авг","  01 сен","  03 сен","  05 сен","  07 сен","  09 сен","  11 сен","  13 сен","  15 сен","  17 сен","  19 сен","  21 сен","  23 сен","  25 сен","  27 сен","  29 сен","  01 окт","  03 окт","  05 окт","  07 окт","  09 окт","  11 окт","  13 окт","  15 окт","  17 окт","  19 окт","  21 окт","  23 окт","  25 окт","  27 окт","  29 окт","  31 окт","  02 ноя","  04 ноя","  06 ноя","  08 ноя","  10 ноя",{"$f":"IF(\nEJ$5-gCpD*INT(EJ$5/gCpD)<1,\"  \"&\nCHOOSE(gDType,\n     TEXT(EJ$3,\"ДД МММ\"),\n     IF(MONTH(EJ$3)=MONTH(EJ$2),\n          TEXT(EJ$3,\"Д\")&\"-\"&TEXT(EJ$2,\"Д МММ\"),\n          TEXT(EJ$3,\"Д МММ\")&\" - \"&TEXT(EJ$2,\"Д МММ\")),\n     \"week \"&WEEKNUM(EJ$3,2)),\n\"\")","v":"  12 ноя"},"  14 ноя","  16 ноя","  18 ноя","  20 ноя","  22 ноя","  24 ноя","  26 ноя","  28 ноя","  30 ноя","  02 дек","  04 дек","  06 дек","  08 дек","  10 дек","  12 дек","  14 дек","  16 дек","  18 дек","  20 дек","  22 дек","  24 дек","  26 дек","  28 дек","  30 дек","  01 янв","  03 янв","  05 янв","  07 янв","  09 янв","  11 янв","  13 янв","  15 янв","  17 янв","  19 янв","  21 янв","  23 янв","  25 янв","  27 янв","  29 янв","  31 янв","  02 фев","  04 фев","  06 фев","  08 фев","  10 фев","  12 фев","  14 фев","  16 фев","  18 фев","  20 фев","  22 фев","  24 фев","  26 фев","  28 фев","  02 мар","  04 мар","  06 мар","  08 мар","  10 мар","  12 мар","  14 мар","  16 мар","  18 мар",{"$f":"IF(\nGV$5-gCpD*INT(GV$5/gCpD)<1,\"  \"&\nCHOOSE(gDType,\n     TEXT(GV$3,\"ДД МММ\"),\n     IF(MONTH(GV$3)=MONTH(GV$2),\n          TEXT(GV$3,\"Д\")&\"-\"&TEXT(GV$2,\"Д МММ\"),\n          TEXT(GV$3,\"Д МММ\")&\" - \"&TEXT(GV$2,\"Д МММ\")),\n     \"week \"&WEEKNUM(GV$3,2)),\n\"\")","v":"  20 мар"},"  22 мар","  24 мар","  26 мар","  28 мар","  30 мар","  01 апр","  03 апр","  05 апр","  07 апр","  09 апр","  11 апр","  13 апр","  15 апр","  17 апр","  19 апр","  21 апр","  23 апр","  25 апр","  27 апр","  29 апр","  01 май","  03 май","  05 май","  07 май","  09 май","  11 май","  13 май","  15 май","  17 май","  19 май","  21 май","  23 май","  25 май","  27 май","  29 май","  31 май","  02 июн","  04 июн","  06 июн","  08 июн","  10 июн","  12 июн","  14 июн","  16 июн","  18 июн","  20 июн","  22 июн","  24 июн","  26 июн","  28 июн","  30 июн","  02 июл","  04 июл","  06 июл","  08 июл","  10 июл","  12 июл","  14 июл","  16 июл","  18 июл","  20 июл","  22 июл","  24 июл",{"$f":"IF(\nJH$5-gCpD*INT(JH$5/gCpD)<1,\"  \"&\nCHOOSE(gDType,\n     TEXT(JH$3,\"ДД МММ\"),\n     IF(MONTH(JH$3)=MONTH(JH$2),\n          TEXT(JH$3,\"Д\")&\"-\"&TEXT(JH$2,\"Д МММ\"),\n          TEXT(JH$3,\"Д МММ\")&\" - \"&TEXT(JH$2,\"Д МММ\")),\n     \"week \"&WEEKNUM(JH$3,2)),\n\"\")","v":"  26 июл"},"  28 июл","  30 июл","  01 авг","  03 авг","  05 авг","  07 авг","  09 авг","  11 авг","  13 авг","  15 авг","  17 авг","  19 авг","  21 авг","  23 авг","  25 авг","  27 авг","  29 авг","  31 авг","  02 сен","  04 сен","  06 сен","  08 сен","  10 сен","  12 сен","  14 сен","  16 сен","  18 сен","  20 сен","  22 сен","  24 сен","  26 сен","  28 сен","  30 сен","  02 окт","  04 окт","  06 окт","  08 окт","  10 окт","  12 окт","  14 окт","  16 окт","  18 окт","  20 окт","  22 окт","  24 окт","  26 окт","  28 окт","  30 окт","  01 ноя","  03 ноя","  05 ноя","  07 ноя","  09 ноя","  11 ноя","  13 ноя","  15 ноя","  17 ноя","  19 ноя","  21 ноя","  23 ноя","  25 ноя","  27 ноя","  29 ноя",{"$f":"IF(\nLT$5-gCpD*INT(LT$5/gCpD)<1,\"  \"&\nCHOOSE(gDType,\n     TEXT(LT$3,\"ДД МММ\"),\n     IF(MONTH(LT$3)=MONTH(LT$2),\n          TEXT(LT$3,\"Д\")&\"-\"&TEXT(LT$2,\"Д МММ\"),\n          TEXT(LT$3,\"Д МММ\")&\" - \"&TEXT(LT$2,\"Д МММ\")),\n     \"week \"&WEEKNUM(LT$3,2)),\n\"\")","v":"  01 дек"},"  03 дек","  05 дек","  07 дек","  09 дек","  11 дек","  13 дек","  15 дек","  17 дек","  19 дек","  21 дек","  23 дек","  25 дек","  27 дек","  29 дек","  31 дек","  02 янв","  04 янв","  06 янв","  08 янв","  10 янв","  12 янв","  14 янв","  16 янв","  18 янв","  20 янв","  22 янв","  24 янв","  26 янв","  28 янв","  30 янв","  01 фев","  03 фев","  05 фев","  07 фев","  09 фев","  11 фев","  13 фев","  15 фев","  17 фев","  19 фев","  21 фев","  23 фев","  25 фев","  27 фев","  29 фев","  02 мар","  04 мар","  06 мар","  08 мар","  10 мар","  12 мар","  14 мар","  16 мар","  18 мар","  20 мар","  22 мар","  24 мар","  26 мар","  28 мар","  30 мар","  01 апр","  03 апр","  05 апр",{"$f":"IF(\nOF$5-gCpD*INT(OF$5/gCpD)<1,\"  \"&\nCHOOSE(gDType,\n     TEXT(OF$3,\"ДД МММ\"),\n     IF(MONTH(OF$3)=MONTH(OF$2),\n          TEXT(OF$3,\"Д\")&\"-\"&TEXT(OF$2,\"Д МММ\"),\n          TEXT(OF$3,\"Д МММ\")&\" - \"&TEXT(OF$2,\"Д МММ\")),\n     \"week \"&WEEKNUM(OF$3,2)),\n\"\")","v":"  07 апр"},"  09 апр","  11 апр","  13 апр","  15 апр","  17 апр","  19 апр","  21 апр","  23 апр","  25 апр","  27 апр","  29 апр","  01 май","  03 май","  05 май","  07 май","  09 май","  11 май","  13 май","  15 май","  17 май","  19 май","  21 май","  23 май","  25 май","  27 май","  29 май","  31 май","  02 июн","  04 июн","  06 июн","  08 июн","  10 июн","  12 июн","  14 июн","  16 июн","  18 июн","  20 июн","  22 июн","  24 июн","  26 июн","  28 июн","  30 июн","  02 июл","  04 июл","  06 июл","  08 июл","  10 июл","  12 июл","  14 июл","  16 июл","  18 июл","  20 июл","  22 июл","  24 июл","  26 июл","  28 июл","  30 июл","  01 авг","  03 авг","  05 авг","  07 авг","  09 авг","  11 авг",{"$f":"IF(\nQR$5-gCpD*INT(QR$5/gCpD)<1,\"  \"&\nCHOOSE(gDType,\n     TEXT(QR$3,\"ДД МММ\"),\n     IF(MONTH(QR$3)=MONTH(QR$2),\n          TEXT(QR$3,\"Д\")&\"-\"&TEXT(QR$2,\"Д МММ\"),\n          TEXT(QR$3,\"Д МММ\")&\" - \"&TEXT(QR$2,\"Д МММ\")),\n     \"week \"&WEEKNUM(QR$3,2)),\n\"\")","v":"  13 авг"},"  15 авг","  17 авг","  19 авг","  21 авг","  23 авг","  25 авг","  27 авг","  29 авг","  31 авг","  02 сен","  04 сен","  06 сен","  08 сен","  10 сен","  12 сен","  14 сен","  16 сен","  18 сен","  20 сен","  22 сен","  24 сен","  26 сен","  28 сен","  30 сен","  02 окт","  04 окт","  06 окт","  08 окт","  10 окт","  12 окт","  14 окт","  16 окт","  18 окт","  20 окт","  22 окт","  24 окт","  26 окт","  28 окт","  30 окт","  01 ноя","  03 ноя","  05 ноя","  07 ноя","  09 ноя","  11 ноя","  13 ноя","  15 ноя","  17 ноя","  19 ноя","  21 ноя","  23 ноя",null,1]
[null,null,null,null,null,null,null,null,null,null,null,{"$f":"L$1-gFstCol","v":0},1,2,3,4,5,6,7,8,9,10,11,12,13,14,15,16,17,18,19,20,21,22,23,24,25,26,27,28,29,30,31,32,33,34,35,36,37,38,39,40,41,42,43,44,45,46,47,48,49,50,51,52,53,54,55,56,57,58,59,60,61,62,63,{"$f":"BX$1-gFstCol","v":64},65,66,67,68,69,70,71,72,73,74,75,76,77,78,79,80,81,82,83,84,85,86,87,88,89,90,91,92,93,94,95,96,97,98,99,100,101,102,103,104,105,106,107,108,109,110,111,112,113,114,115,116,117,118,119,120,121,122,123,124,125,126,127,{"$f":"EJ$1-gFstCol","v":128},129,130,131,132,133,134,135,136,137,138,139,140,141,142,143,144,145,146,147,148,149,150,151,152,153,154,155,156,157,158,159,160,161,162,163,164,165,166,167,168,169,170,171,172,173,174,175,176,177,178,179,180,181,182,183,184,185,186,187,188,189,190,191,{"$f":"GV$1-gFstCol","v":192},193,194,195,196,197,198,199,200,201,202,203,204,205,206,207,208,209,210,211,212,213,214,215,216,217,218,219,220,221,222,223,224,225,226,227,228,229,230,231,232,233,234,235,236,237,238,239,240,241,242,243,244,245,246,247,248,249,250,251,252,253,254,255,{"$f":"JH$1-gFstCol","v":256},257,258,259,260,261,262,263,264,265,266,267,268,269,270,271,272,273,274,275,276,277,278,279,280,281,282,283,284,285,286,287,288,289,290,291,292,293,294,295,296,297,298,299,300,301,302,303,304,305,306,307,308,309,310,311,312,313,314,315,316,317,318,319,{"$f":"LT$1-gFstCol","v":320},321,322,323,324,325,326,327,328,329,330,331,332,333,334,335,336,337,338,339,340,341,342,343,344,345,346,347,348,349,350,351,352,353,354,355,356,357,358,359,360,361,362,363,364,365,366,367,368,369,370,371,372,373,374,375,376,377,378,379,380,381,382,383,{"$f":"OF$1-gFstCol","v":384},385,386,387,388,389,390,391,392,393,394,395,396,397,398,399,400,401,402,403,404,405,406,407,408,409,410,411,412,413,414,415,416,417,418,419,420,421,422,423,424,425,426,427,428,429,430,431,432,433,434,435,436,437,438,439,440,441,442,443,444,445,446,447,{"$f":"QR$1-gFstCol","v":448},449,450,451,452,453,454,455,456,457,458,459,460,461,462,463,464,465,466,467,468,469,470,471,472,473,474,475,476,477,478,479,480,481,482,483,484,485,486,487,488,489,490,491,492,493,494,495,496,497,498,499,null,1]
[null,{"$f":"IF($SS6,IF(E6=1,System!B2,\"   \"&System!B2),\"\")","v":"Планирование"},{"$f":"IF($SS6,IF(gIsItPlan,System!F2,System!I2),\"\")","v":"2014-03-01"},{"$f":"IF($SS6,IF(gIsItPlan,System!G2,System!J2),\"\")","v":"2014-05-13"},{"$f":"System!C2","v":1},{"$f":"System!L2","v":0.97872340425531912},{"$f":"IF($SS6,gFstCol+MATCH($C6,gGantStartDates,1)-1-IF(gDpC<1,gCpD-1,0),0)","v":11},{"$f":"IF($SS6,$G6+ROUND(($I6-$G6)*$F6-gDelta,0),0)","v":46},{"$f":"IF($SS6,gFstCol+MATCH($D6,gGantStartDates,1)-1,0)","v":47},{"$f":"IF($E6=1,0,20)","v":0},null,{"$f":"IF(L$1>$I6,0,\n  IF(L$1<$G6,0,\n  IF(AND(L$1>$G6,L$1<$H6),14+$J6,\n  IF(AND(L$1>$H6,L$1<$I6),4+$J6,\n  IF(AND(L$1=$G6,L$1<>$H6,L$1<>$I6),11+$J6,\n  IF(AND(L$1<>$G6,L$1=$H6,L$1<>$I6),12+$J6,\n  IF(AND(L$1<>$G6,L$1<>$H6,L$1=$I6),2+$J6,\n  IF(AND(L$1=$G6,L$1=$H6,L$1<>$I6,$F6<>0),13+$J6,\n  IF(AND(L$1=$G6,L$1=$H6,L$1<>$I6,$F6=0),1+$J6,\n  IF(AND(L$1<>$G6,L$1=$H6,L$1=$I6),12+$J6,\n  IF(AND(L$1=$G6,L$1=$H6,L$1=$I6,$F6<=0.5),3+$J6,13+$J6)))))))))))","v":11},{"$f":"IF(M$1>$I6,0,\n  IF(M$1<$G6,0,\n  IF(AND(M$1>$G6,M$1<$H6),14+$J6,\n  IF(AND(M$1>$H6,M$1<$I6),4+$J6,\n  IF(AND(M$1=$G6,M$1<>$H6,M$1<>$I6),11+$J6,\n  IF(AND(M$1<>$G6,M$1=$H6,M$1<>$I6),12+$J6,\n  IF(AND(M$1<>$G6,M$1<>$H6,M$1=$I6),2+$J6,\n  IF(AND(M$1=$G6,M$1=$H6,M$1<>$I6,$F6<>0),13+$J6,\n  IF(AND(M$1=$G6,M$1=$H6,M$1<>$I6,$F6=0),1+$J6,\n  IF(AND(M$1<>$G6,M$1=$H6,M$1=$I6),12+$J6,\n  IF(AND(M$1=$G6,M$1=$H6,M$1=$I6,$F6<=0.5),3+$J6,13+$J6)))))))))))","v":14},14,14,14,14,14,14,14,14,14,14,14,14,14,14,14,14,14,14,14,14,14,14,14,14,14,14,14,14,14,14,14,14,14,12,2,0,0,0,0,0,0,0,0,0,0,0,0,0,0,0,0,0,0,0,0,0,0,0,0,0,0,0,0,{"$f":"IF(BY$1>$I6,0,\n  IF(BY$1<$G6,0,\n  IF(AND(BY$1>$G6,BY$1<$H6),14+$J6,\n  IF(AND(BY$1>$H6,BY$1<$I6),4+$J6,\n  IF(AND(BY$1=$G6,BY$1<>$H6,BY$1<>$I6),11+$J6,\n  IF(AND(BY$1<>$G6,BY$1=$H6,BY$1<>$I6),12+$J6,\n  IF(AND(BY$1<>$G6,BY$1<>$H6,BY$1=$I6),2+$J6,\n  IF(AND(BY$1=$G6,BY$1=$H6,BY$1<>$I6,$F6<>0),13+$J6,\n  IF(AND(BY$1=$G6,BY$1=$H6,BY$1<>$I6,$F6=0),1+$J6,\n  IF(AND(BY$1<>$G6,BY$1=$H6,BY$1=$I6),12+$J6,\n  IF(AND(BY$1=$G6,BY$1=$H6,BY$1=$I6,$F6<=0.5),3+$J6,13+$J6)))))))))))","v":0},0,0,0,0,0,0,0,0,0,0,0,0,0,0,0,0,0,0,0,0,0,0,0,0,0,0,0,0,0,0,0,0,0,0,0,0,0,0,0,0,0,0,0,0,0,0,0,0,0,0,0,0,0,0,0,0,0,0,0,0,0,0,0,{"$f":"IF(EK$1>$I6,0,\n  IF(EK$1<$G6,0,\n  IF(AND(EK$1>$G6,EK$1<$H6),14+$J6,\n  IF(AND(EK$1>$H6,EK$1<$I6),4+$J6,\n  IF(AND(EK$1=$G6,EK$1<>$H6,EK$1<>$I6),11+$J6,\n  IF(AND(EK$1<>$G6,EK$1=$H6,EK$1<>$I6),12+$J6,\n  IF(AND(EK$1<>$G6,EK$1<>$H6,EK$1=$I6),2+$J6,\n  IF(AND(EK$1=$G6,EK$1=$H6,EK$1<>$I6,$F6<>0),13+$J6,\n  IF(AND(EK$1=$G6,EK$1=$H6,EK$1<>$I6,$F6=0),1+$J6,\n  IF(AND(EK$1<>$G6,EK$1=$H6,EK$1=$I6),12+$J6,\n  IF(AND(EK$1=$G6,EK$1=$H6,EK$1=$I6,$F6<=0.5),3+$J6,13+$J6)))))))))))","v":0},0,0,0,0,0,0,0,0,0,0,0,0,0,0,0,0,0,0,0,0,0,0,0,0,0,0,0,0,0,0,0,0,0,0,0,0,0,0,0,0,0,0,0,0,0,0,0,0,0,0,0,0,0,0,0,0,0,0,0,0,0,0,0,{"$f":"IF(GW$1>$I6,0,\n  IF(GW$1<$G6,0,\n  IF(AND(GW$1>$G6,GW$1<$H6),14+$J6,\n  IF(AND(GW$1>$H6,GW$1<$I6),4+$J6,\n  IF(AND(GW$1=$G6,GW$1<>$H6,GW$1<>$I6),11+$J6,\n  IF(AND(GW$1<>$G6,GW$1=$H6,GW$1<>$I6),12+$J6,\n  IF(AND(GW$1<>$G6,GW$1<>$H6,GW$1=$I6),2+$J6,\n  IF(AND(GW$1=$G6,GW$1=$H6,GW$1<>$I6,$F6<>0),13+$J6,\n  IF(AND(GW$1=$G6,GW$1=$H6,GW$1<>$I6,$F6=0),1+$J6,\n  IF(AND(GW$1<>$G6,GW$1=$H6,GW$1=$I6),12+$J6,\n  IF(AND(GW$1=$G6,GW$1=$H6,GW$1=$I6,$F6<=0.5),3+$J6,13+$J6)))))))))))","v":0},0,0,0,0,0,0,0,0,0,0,0,0,0,0,0,0,0,0,0,0,0,0,0,0,0,0,0,0,0,0,0,0,0,0,0,0,0,0,0,0,0,0,0,0,0,0,0,0,0,0,0,0,0,0,0,0,0,0,0,0,0,0,0,{"$f":"IF(JI$1>$I6,0,\n  IF(JI$1<$G6,0,\n  IF(AND(JI$1>$G6,JI$1<$H6),14+$J6,\n  IF(AND(JI$1>$H6,JI$1<$I6),4+$J6,\n  IF(AND(JI$1=$G6,JI$1<>$H6,JI$1<>$I6),11+$J6,\n  IF(AND(JI$1<>$G6,JI$1=$H6,JI$1<>$I6),12+$J6,\n  IF(AND(JI$1<>$G6,JI$1<>$H6,JI$1=$I6),2+$J6,\n  IF(AND(JI$1=$G6,JI$1=$H6,JI$1<>$I6,$F6<>0),13+$J6,\n  IF(AND(JI$1=$G6,JI$1=$H6,JI$1<>$I6,$F6=0),1+$J6,\n  IF(AND(JI$1<>$G6,JI$1=$H6,JI$1=$I6),12+$J6,\n  IF(AND(JI$1=$G6,JI$1=$H6,JI$1=$I6,$F6<=0.5),3+$J6,13+$J6)))))))))))","v":0},0,0,0,0,0,0,0,0,0,0,0,0,0,0,0,0,0,0,0,0,0,0,0,0,0,0,0,0,0,0,0,0,0,0,0,0,0,0,0,0,0,0,0,0,0,0,0,0,0,0,0,0,0,0,0,0,0,0,0,0,0,0,0,{"$f":"IF(LU$1>$I6,0,\n  IF(LU$1<$G6,0,\n  IF(AND(LU$1>$G6,LU$1<$H6),14+$J6,\n  IF(AND(LU$1>$H6,LU$1<$I6),4+$J6,\n  IF(AND(LU$1=$G6,LU$1<>$H6,LU$1<>$I6),11+$J6,\n  IF(AND(LU$1<>$G6,LU$1=$H6,LU$1<>$I6),12+$J6,\n  IF(AND(LU$1<>$G6,LU$1<>$H6,LU$1=$I6),2+$J6,\n  IF(AND(LU$1=$G6,LU$1=$H6,LU$1<>$I6,$F6<>0),13+$J6,\n  IF(AND(LU$1=$G6,LU$1=$H6,LU$1<>$I6,$F6=0),1+$J6,\n  IF(AND(LU$1<>$G6,LU$1=$H6,LU$1=$I6),12+$J6,\n  IF(AND(LU$1=$G6,LU$1=$H6,LU$1=$I6,$F6<=0.5),3+$J6,13+$J6)))))))))))","v":0},0,0,0,0,0,0,0,0,0,0,0,0,0,0,0,0,0,0,0,0,0,0,0,0,0,0,0,0,0,0,0,0,0,0,0,0,0,0,0,0,0,0,0,0,0,0,0,0,0,0,0,0,0,0,0,0,0,0,0,0,0,0,0,{"$f":"IF(OG$1>$I6,0,\n  IF(OG$1<$G6,0,\n  IF(AND(OG$1>$G6,OG$1<$H6),14+$J6,\n  IF(AND(OG$1>$H6,OG$1<$I6),4+$J6,\n  IF(AND(OG$1=$G6,OG$1<>$H6,OG$1<>$I6),11+$J6,\n  IF(AND(OG$1<>$G6,OG$1=$H6,OG$1<>$I6),12+$J6,\n  IF(AND(OG$1<>$G6,OG$1<>$H6,OG$1=$I6),2+$J6,\n  IF(AND(OG$1=$G6,OG$1=$H6,OG$1<>$I6,$F6<>0),13+$J6,\n  IF(AND(OG$1=$G6,OG$1=$H6,OG$1<>$I6,$F6=0),1+$J6,\n  IF(AND(OG$1<>$G6,OG$1=$H6,OG$1=$I6),12+$J6,\n  IF(AND(OG$1=$G6,OG$1=$H6,OG$1=$I6,$F6<=0.5),3+$J6,13+$J6)))))))))))","v":0},0,0,0,0,0,0,0,0,0,0,0,0,0,0,0,0,0,0,0,0,0,0,0,0,0,0,0,0,0,0,0,0,0,0,0,0,0,0,0,0,0,0,0,0,0,0,0,0,0,0,0,0,0,0,0,0,0,0,0,0,0,0,0,{"$f":"IF(QS$1>$I6,0,\n  IF(QS$1<$G6,0,\n  IF(AND(QS$1>$G6,QS$1<$H6),14+$J6,\n  IF(AND(QS$1>$H6,QS$1<$I6),4+$J6,\n  IF(AND(QS$1=$G6,QS$1<>$H6,QS$1<>$I6),11+$J6,\n  IF(AND(QS$1<>$G6,QS$1=$H6,QS$1<>$I6),12+$J6,\n  IF(AND(QS$1<>$G6,QS$1<>$H6,QS$1=$I6),2+$J6,\n  IF(AND(QS$1=$G6,QS$1=$H6,QS$1<>$I6,$F6<>0),13+$J6,\n  IF(AND(QS$1=$G6,QS$1=$H6,QS$1<>$I6,$F6=0),1+$J6,\n  IF(AND(QS$1<>$G6,QS$1=$H6,QS$1=$I6),12+$J6,\n  IF(AND(QS$1=$G6,QS$1=$H6,QS$1=$I6,$F6<=0.5),3+$J6,13+$J6)))))))))))","v":0},0,0,0,0,0,0,0,0,0,0,0,0,0,0,0,0,0,0,0,0,0,0,0,0,0,0,0,0,0,0,0,0,0,0,0,0,0,0,0,0,0,0,0,0,0,0,0,0,0,0,null,{"$f":"IF(gIsItPlan,IF(AND(System!Z2,System!AA2),1,0),IF(AND(System!Z2,System!AB2),1,0))","v":1}]
[null,{"$f":"IF($SS7,IF(E7=1,System!B3,\"   \"&System!B3),\"\")","v":"   Выявление ремонтируемых помещений"},{"$f":"IF($SS7,IF(gIsItPlan,System!F3,System!I3),\"\")","v":"2014-03-01"},{"$f":"IF($SS7,IF(gIsItPlan,System!G3,System!J3),\"\")","v":"2014-03-01"},{"$f":"System!C3","v":2},{"$f":"System!L3","v":1},11,11,11,{"$f":"IF($E7=1,0,20)","v":20},null,{"$f":"IF(L$1>$I7,0,\n  IF(L$1<$G7,0,\n  IF(AND(L$1>$G7,L$1<$H7),14+$J7,\n  IF(AND(L$1>$H7,L$1<$I7),4+$J7,\n  IF(AND(L$1=$G7,L$1<>$H7,L$1<>$I7),11+$J7,\n  IF(AND(L$1<>$G7,L$1=$H7,L$1<>$I7),12+$J7,\n  IF(AND(L$1<>$G7,L$1<>$H7,L$1=$I7),2+$J7,\n  IF(AND(L$1=$G7,L$1=$H7,L$1<>$I7,$F7<>0),13+$J7,\n  IF(AND(L$1=$G7,L$1=$H7,L$1<>$I7,$F7=0),1+$J7,\n  IF(AND(L$1<>$G7,L$1=$H7,L$1=$I7),12+$J7,\n  IF(AND(L$1=$G7,L$1=$H7,L$1=$I7,$F7<=0.5),3+$J7,13+$J7)))))))))))","v":33},0,0,0,0,0,0,0,0,0,0,0,0,0,0,0,0,0,0,0,0,0,0,0,0,0,0,0,0,0,0,0,0,0,0,0,0,0,0,0,0,0,0,0,0,0,0,0,0,0,0,0,0,0,0,0,0,0,0,0,0,0,0,0,0,0,0,0,0,0,0,0,0,0,0,0,0,0,0,0,0,0,0,0,0,0,0,0,0,0,0,0,0,0,0,0,0,0,0,0,0,0,0,0,0,0,0,0,0,0,0,0,0,0,0,0,0,0,0,0,0,0,0,0,0,0,0,0,0,0,0,0,0,0,0,0,0,0,0,0,0,0,0,0,0,0,0,0,0,0,0,0,0,0,0,0,0,0,0,0,0,0,0,0,0,0,0,0,0,0,0,0,0,0,0,0,0,0,0,0,0,0,0,0,0,0,0,0,0,0,0,0,0,0,0,0,0,0,0,0,0,0,0,0,0,0,0,0,0,0,0,0,0,0,0,0,0,0,0,0,0,0,0,0,0,0,0,0,0,0,0,0,0,0,0,0,0,0,0,0,0,0,0,0,0,0,0,0,0,0,0,0,0,0,0,0,0,0,0,0,0,0,0,0,0,0,0,0,0,0,0,0,0,0,0,0,0,0,0,0,0,0,0,0,0,0,0,0,0,0,0,0,0,0,0,0,0,0,0,0,0,0,0,0,0,0,0,0,0,0,0,0,0,0,0,0,0,0,0,0,0,0,0,0,0,0,0,0,0,0,0,0,0,0,0,0,0,0,0,0,0,0,0,0,0,0,0,0,0,0,0,0,0,0,0,0,0,0,0,0,0,0,0,0,0,0,0,0,0,0,0,0,0,0,0,0,0,0,0,0,0,0,0,0,0,0,0,0,0,0,0,0,0,0,0,0,0,0,0,0,0,0,0,0,0,0,0,0,0,0,0,0,0,0,0,0,0,0,0,0,0,0,0,0,0,0,0,0,0,0,0,0,0,0,0,0,0,0,0,0,0,0,0,0,0,0,0,0,0,0,0,0,0,0,0,0,0,0,0,0,0,0,0,0,0,0,0,0,0,0,0,0,0,0,0,0,0,0,0,0,0,0,0,0,0,0,0,0,0,0,0,0,0,0,0,0,0,0,0,0,null,{"$f":"IF(gIsItPlan,IF(AND(System!Z3,System!AA3),1,0),IF(AND(System!Z3,System!AB3),1,0))","v":1}]
[null,{"$f":"IF($SS8,IF(E8=1,System!B4,\"   \"&System!B4),\"\")","v":"   Требования к ремонту"},{"$f":"IF($SS8,IF(gIsItPlan,System!F4,System!I4),\"\")","v":"2014-03-02"},{"$f":"IF($SS8,IF(gIsItPlan,System!G4,System!J4),\"\")","v":"2014-03-02"},{"$f":"System!C4","v":2},{"$f":"System!L4","v":1},11,11,11,20,null,33,0,0,0,0,0,0,0,0,0,0,0,0,0,0,0,0,0,0,0,0,0,0,0,0,0,0,0,0,0,0,0,0,0,0,0,0,0,0,0,0,0,0,0,0,0,0,0,0,0,0,0,0,0,0,0,0,0,0,0,0,0,0,0,0,0,0,0,0,0,0,0,0,0,0,0,0,0,0,0,0,0,0,0,0,0,0,0,0,0,0,0,0,0,0,0,0,0,0,0,0,0,0,0,0,0,0,0,0,0,0,0,0,0,0,0,0,0,0,0,0,0,0,0,0,0,0,0,0,0,0,0,0,0,0,0,0,0,0,0,0,0,0,0,0,0,0,0,0,0,0,0,0,0,0,0,0,0,0,0,0,0,0,0,0,0,0,0,0,0,0,0,0,0,0,0,0,0,0,0,0,0,0,0,0,0,0,0,0,0,0,0,0,0,0,0,0,0,0,0,0,0,0,0,0,0,0,0,0,0,0,0,0,0,0,0,0,0,0,0,0,0,0,0,0,0,0,0,0,0,0,0,0,0,0,0,0,0,0,0,0,0,0,0,0,0,0,0,0,0,0,0,0,0,0,0,0,0,0,0,0,0,0,0,0,0,0,0,0,0,0,0,0,0,0,0,0,0,0,0,0,0,0,0,0,0,0,0,0,0,0,0,0,0,0,0,0,0,0,0,0,0,0,0,0,0,0,0,0,0,0,0,0,0,0,0,0,0,0,0,0,0,0,0,0,0,0,0,0,0,0,0,0,0,0,0,0,0,0,0,0,0,0,0,0,0,0,0,0,0,0,0,0,0,0,0,0,0,0,0,0,0,0,0,0,0,0,0,0,0,0,0,0,0,0,0,0,0,0,0,0,0,0,0,0,0,0,0,0,0,0,0,0,0,0,0,0,0,0,0,0,0,0,0,0,0,0,0,0,0,0,0,0,0,0,0,0,0,0,0,0,0,0,0,0,0,0,0,0,0,0,0,0,0,0,0,0,0,0,0,0,0,0,0,0,0,0,0,0,0,0,0,0,0,0,0,0,0,0,0,0,0,0,0,0,0,0,0,0,0,0,0,0,0,0,0,0,0,0,0,0,0,0,0,0,0,0,0,0,0,0,0,0,0,0,0,0,0,0,0,null,{"$f":"IF(gIsItPlan,IF(AND(System!Z4,System!AA4),1,0),IF(AND(System!Z4,System!AB4),1,0))","v":1}]
[null,{"$f":"IF($SS9,IF(E9=1,System!B5,\"   \"&System!B5),\"\")","v":"   Определение верхней границы затрат"},{"$f":"IF($SS9,IF(gIsItPlan,System!F5,System!I5),\"\")","v":"2014-03-03"},{"$f":"IF($SS9,IF(gIsItPlan,System!G5,System!J5),\"\")","v":"2014-03-03"},{"$f":"System!C5","v":2},{"$f":"System!L5","v":1},12,12,12,20,null,0,33,0,0,0,0,0,0,0,0,0,0,0,0,0,0,0,0,0,0,0,0,0,0,0,0,0,0,0,0,0,0,0,0,0,0,0,0,0,0,0,0,0,0,0,0,0,0,0,0,0,0,0,0,0,0,0,0,0,0,0,0,0,0,{"$f":"IF(BX$1>$I9,0,\n  IF(BX$1<$G9,0,\n  IF(AND(BX$1>$G9,BX$1<$H9),14+$J9,\n  IF(AND(BX$1>$H9,BX$1<$I9),4+$J9,\n  IF(AND(BX$1=$G9,BX$1<>$H9,BX$1<>$I9),11+$J9,\n  IF(AND(BX$1<>$G9,BX$1=$H9,BX$1<>$I9),12+$J9,\n  IF(AND(BX$1<>$G9,BX$1<>$H9,BX$1=$I9),2+$J9,\n  IF(AND(BX$1=$G9,BX$1=$H9,BX$1<>$I9,$F9<>0),13+$J9,\n  IF(AND(BX$1=$G9,BX$1=$H9,BX$1<>$I9,$F9=0),1+$J9,\n  IF(AND(BX$1<>$G9,BX$1=$H9,BX$1=$I9),12+$J9,\n  IF(AND(BX$1=$G9,BX$1=$H9,BX$1=$I9,$F9<=0.5),3+$J9,13+$J9)))))))))))","v":0},0,0,0,0,0,0,0,0,0,0,0,0,0,0,0,0,0,0,0,0,0,0,0,0,0,0,0,0,0,0,0,0,0,0,0,0,0,0,0,0,0,0,0,0,0,0,0,0,0,0,0,0,0,0,0,0,0,0,0,0,0,0,0,{"$f":"IF(EJ$1>$I9,0,\n  IF(EJ$1<$G9,0,\n  IF(AND(EJ$1>$G9,EJ$1<$H9),14+$J9,\n  IF(AND(EJ$1>$H9,EJ$1<$I9),4+$J9,\n  IF(AND(EJ$1=$G9,EJ$1<>$H9,EJ$1<>$I9),11+$J9,\n  IF(AND(EJ$1<>$G9,EJ$1=$H9,EJ$1<>$I9),12+$J9,\n  IF(AND(EJ$1<>$G9,EJ$1<>$H9,EJ$1=$I9),2+$J9,\n  IF(AND(EJ$1=$G9,EJ$1=$H9,EJ$1<>$I9,$F9<>0),13+$J9,\n  IF(AND(EJ$1=$G9,EJ$1=$H9,EJ$1<>$I9,$F9=0),1+$J9,\n  IF(AND(EJ$1<>$G9,EJ$1=$H9,EJ$1=$I9),12+$J9,\n  IF(AND(EJ$1=$G9,EJ$1=$H9,EJ$1=$I9,$F9<=0.5),3+$J9,13+$J9)))))))))))","v":0},0,0,0,0,0,0,0,0,0,0,0,0,0,0,0,0,0,0,0,0,0,0,0,0,0,0,0,0,0,0,0,0,0,0,0,0,0,0,0,0,0,0,0,0,0,0,0,0,0,0,0,0,0,0,0,0,0,0,0,0,0,0,0,{"$f":"IF(GV$1>$I9,0,\n  IF(GV$1<$G9,0,\n  IF(AND(GV$1>$G9,GV$1<$H9),14+$J9,\n  IF(AND(GV$1>$H9,GV$1<$I9),4+$J9,\n  IF(AND(GV$1=$G9,GV$1<>$H9,GV$1<>$I9),11+$J9,\n  IF(AND(GV$1<>$G9,GV$1=$H9,GV$1<>$I9),12+$J9,\n  IF(AND(GV$1<>$G9,GV$1<>$H9,GV$1=$I9),2+$J9,\n  IF(AND(GV$1=$G9,GV$1=$H9,GV$1<>$I9,$F9<>0),13+$J9,\n  IF(AND(GV$1=$G9,GV$1=$H9,GV$1<>$I9,$F9=0),1+$J9,\n  IF(AND(GV$1<>$G9,GV$1=$H9,GV$1=$I9),12+$J9,\n  IF(AND(GV$1=$G9,GV$1=$H9,GV$1=$I9,$F9<=0.5),3+$J9,13+$J9)))))))))))","v":0},0,0,0,0,0,0,0,0,0,0,0,0,0,0,0,0,0,0,0,0,0,0,0,0,0,0,0,0,0,0,0,0,0,0,0,0,0,0,0,0,0,0,0,0,0,0,0,0,0,0,0,0,0,0,0,0,0,0,0,0,0,0,0,{"$f":"IF(JH$1>$I9,0,\n  IF(JH$1<$G9,0,\n  IF(AND(JH$1>$G9,JH$1<$H9),14+$J9,\n  IF(AND(JH$1>$H9,JH$1<$I9),4+$J9,\n  IF(AND(JH$1=$G9,JH$1<>$H9,JH$1<>$I9),11+$J9,\n  IF(AND(JH$1<>$G9,JH$1=$H9,JH$1<>$I9),12+$J9,\n  IF(AND(JH$1<>$G9,JH$1<>$H9,JH$1=$I9),2+$J9,\n  IF(AND(JH$1=$G9,JH$1=$H9,JH$1<>$I9,$F9<>0),13+$J9,\n  IF(AND(JH$1=$G9,JH$1=$H9,JH$1<>$I9,$F9=0),1+$J9,\n  IF(AND(JH$1<>$G9,JH$1=$H9,JH$1=$I9),12+$J9,\n  IF(AND(JH$1=$G9,JH$1=$H9,JH$1=$I9,$F9<=0.5),3+$J9,13+$J9)))))))))))","v":0},0,0,0,0,0,0,0,0,0,0,0,0,0,0,0,0,0,0,0,0,0,0,0,0,0,0,0,0,0,0,0,0,0,0,0,0,0,0,0,0,0,0,0,0,0,0,0,0,0,0,0,0,0,0,0,0,0,0,0,0,0,0,0,{"$f":"IF(LT$1>$I9,0,\n  IF(LT$1<$G9,0,\n  IF(AND(LT$1>$G9,LT$1<$H9),14+$J9,\n  IF(AND(LT$1>$H9,LT$1<$I9),4+$J9,\n  IF(AND(LT$1=$G9,LT$1<>$H9,LT$1<>$I9),11+$J9,\n  IF(AND(LT$1<>$G9,LT$1=$H9,LT$1<>$I9),12+$J9,\n  IF(AND(LT$1<>$G9,LT$1<>$H9,LT$1=$I9),2+$J9,\n  IF(AND(LT$1=$G9,LT$1=$H9,LT$1<>$I9,$F9<>0),13+$J9,\n  IF(AND(LT$1=$G9,LT$1=$H9,LT$1<>$I9,$F9=0),1+$J9,\n  IF(AND(LT$1<>$G9,LT$1=$H9,LT$1=$I9),12+$J9,\n  IF(AND(LT$1=$G9,LT$1=$H9,LT$1=$I9,$F9<=0.5),3+$J9,13+$J9)))))))))))","v":0},0,0,0,0,0,0,0,0,0,0,0,0,0,0,0,0,0,0,0,0,0,0,0,0,0,0,0,0,0,0,0,0,0,0,0,0,0,0,0,0,0,0,0,0,0,0,0,0,0,0,0,0,0,0,0,0,0,0,0,0,0,0,0,{"$f":"IF(OF$1>$I9,0,\n  IF(OF$1<$G9,0,\n  IF(AND(OF$1>$G9,OF$1<$H9),14+$J9,\n  IF(AND(OF$1>$H9,OF$1<$I9),4+$J9,\n  IF(AND(OF$1=$G9,OF$1<>$H9,OF$1<>$I9),11+$J9,\n  IF(AND(OF$1<>$G9,OF$1=$H9,OF$1<>$I9),12+$J9,\n  IF(AND(OF$1<>$G9,OF$1<>$H9,OF$1=$I9),2+$J9,\n  IF(AND(OF$1=$G9,OF$1=$H9,OF$1<>$I9,$F9<>0),13+$J9,\n  IF(AND(OF$1=$G9,OF$1=$H9,OF$1<>$I9,$F9=0),1+$J9,\n  IF(AND(OF$1<>$G9,OF$1=$H9,OF$1=$I9),12+$J9,\n  IF(AND(OF$1=$G9,OF$1=$H9,OF$1=$I9,$F9<=0.5),3+$J9,13+$J9)))))))))))","v":0},0,0,0,0,0,0,0,0,0,0,0,0,0,0,0,0,0,0,0,0,0,0,0,0,0,0,0,0,0,0,0,0,0,0,0,0,0,0,0,0,0,0,0,0,0,0,0,0,0,0,0,0,0,0,0,0,0,0,0,0,0,0,0,{"$f":"IF(QR$1>$I9,0,\n  IF(QR$1<$G9,0,\n  IF(AND(QR$1>$G9,QR$1<$H9),14+$J9,\n  IF(AND(QR$1>$H9,QR$1<$I9),4+$J9,\n  IF(AND(QR$1=$G9,QR$1<>$H9,QR$1<>$I9),11+$J9,\n  IF(AND(QR$1<>$G9,QR$1=$H9,QR$1<>$I9),12+$J9,\n  IF(AND(QR$1<>$G9,QR$1<>$H9,QR$1=$I9),2+$J9,\n  IF(AND(QR$1=$G9,QR$1=$H9,QR$1<>$I9,$F9<>0),13+$J9,\n  IF(AND(QR$1=$G9,QR$1=$H9,QR$1<>$I9,$F9=0),1+$J9,\n  IF(AND(QR$1<>$G9,QR$1=$H9,QR$1=$I9),12+$J9,\n  IF(AND(QR$1=$G9,QR$1=$H9,QR$1=$I9,$F9<=0.5),3+$J9,13+$J9)))))))))))","v":0},0,0,0,0,0,0,0,0,0,0,0,0,0,0,0,0,0,0,0,0,0,0,0,0,0,0,0,0,0,0,0,0,0,0,0,0,0,0,0,0,0,0,0,0,0,0,0,0,0,0,0,null,{"$f":"IF(gIsItPlan,IF(AND(System!Z5,System!AA5),1,0),IF(AND(System!Z5,System!AB5),1,0))","v":1}]
[null,{"$f":"IF($SS10,IF(E10=1,System!B6,\"   \"&System!B6),\"\")","v":"   Определение источника финансирования"},{"$f":"IF($SS10,IF(gIsItPlan,System!F6,System!I6),\"\")","v":"2014-03-04"},{"$f":"IF($SS10,IF(gIsItPlan,System!G6,System!J6),\"\")","v":"2014-03-05"},{"$f":"System!C6","v":2},{"$f":"System!L6","v":1},12,13,13,20,null,0,31,32,0,0,0,0,0,0,0,0,0,0,0,0,0,0,0,0,0,0,0,0,0,0,0,0,0,0,0,0,0,0,0,0,0,0,0,0,0,0,0,0,0,0,0,0,0,0,0,0,0,0,0,0,0,0,0,0,0,0,0,0,0,0,0,0,0,0,0,0,0,0,0,0,0,0,0,0,0,0,0,0,0,0,0,0,0,0,0,0,0,0,0,0,0,0,0,0,0,0,0,0,0,0,0,0,0,0,0,0,0,0,0,0,0,0,0,0,0,0,0,0,0,0,0,0,0,0,0,0,0,0,0,0,0,0,0,0,0,0,0,0,0,0,0,0,0,0,0,0,0,0,0,0,0,0,0,0,0,0,0,0,0,0,0,0,0,0,0,0,0,0,0,0,0,0,0,0,0,0,0,0,0,0,0,0,0,0,0,0,0,0,0,0,0,0,0,0,0,0,0,0,0,0,0,0,0,0,0,0,0,0,0,0,0,0,0,0,0,0,0,0,0,0,0,0,0,0,0,0,0,0,0,0,0,0,0,0,0,0,0,0,0,0,0,0,0,0,0,0,0,0,0,0,0,0,0,0,0,0,0,0,0,0,0,0,0,0,0,0,0,0,0,0,0,0,0,0,0,0,0,0,0,0,0,0,0,0,0,0,0,0,0,0,0,0,0,0,0,0,0,0,0,0,0,0,0,0,0,0,0,0,0,0,0,0,0,0,0,0,0,0,0,0,0,0,0,0,0,0,0,0,0,0,0,0,0,0,0,0,0,0,0,0,0,0,0,0,0,0,0,0,0,0,0,0,0,0,0,0,0,0,0,0,0,0,0,0,0,0,0,0,0,0,0,0,0,0,0,0,0,0,0,0,0,0,0,0,0,0,0,0,0,0,0,0,0,0,0,0,0,0,0,0,0,0,0,0,0,0,0,0,0,0,0,0,0,0,0,0,0,0,0,0,0,0,0,0,0,0,0,0,0,0,0,0,0,0,0,0,0,0,0,0,0,0,0,0,0,0,0,0,0,0,0,0,0,0,0,0,0,0,0,0,0,0,0,0,0,0,0,0,0,0,0,0,0,0,0,0,0,0,0,0,0,0,0,0,0,0,0,0,0,0,0,0,0,0,0,null,{"$f":"IF(gIsItPlan,IF(AND(System!Z6,System!AA6),1,0),IF(AND(System!Z6,System!AB6),1,0))","v":1}]
[null,{"$f":"IF($SS11,IF(E11=1,System!B7,\"   \"&System!B7),\"\")","v":"   Изучение рынка материалов"},{"$f":"IF($SS11,IF(gIsItPlan,System!F7,System!I7),\"\")","v":"2014-03-06"},{"$f":"IF($SS11,IF(gIsItPlan,System!G7,System!J7),\"\")","v":"2014-03-19"},{"$f":"System!C7","v":2},{"$f":"System!L7","v":0.9},13,19,20,20,null,0,0,31,34,34,34,34,34,32,22,0,0,0,0,0,0,0,0,0,0,0,0,0,0,0,0,0,0,0,0,0,0,0,0,0,0,0,0,0,0,0,0,0,0,0,0,0,0,0,0,0,0,0,0,0,0,0,0,0,0,0,0,0,0,0,0,0,0,0,0,0,0,0,0,0,0,0,0,0,0,0,0,0,0,0,0,0,0,0,0,0,0,0,0,0,0,0,0,0,0,0,0,0,0,0,0,0,0,0,0,0,0,0,0,0,0,0,0,0,0,0,0,0,0,0,0,0,0,0,0,0,0,0,0,0,0,0,0,0,0,0,0,0,0,0,0,0,0,0,0,0,0,0,0,0,0,0,0,0,0,0,0,0,0,0,0,0,0,0,0,0,0,0,0,0,0,0,0,0,0,0,0,0,0,0,0,0,0,0,0,0,0,0,0,0,0,0,0,0,0,0,0,0,0,0,0,0,0,0,0,0,0,0,0,0,0,0,0,0,0,0,0,0,0,0,0,0,0,0,0,0,0,0,0,0,0,0,0,0,0,0,0,0,0,0,0,0,0,0,0,0,0,0,0,0,0,0,0,0,0,0,0,0,0,0,0,0,0,0,0,0,0,0,0,0,0,0,0,0,0,0,0,0,0,0,0,0,0,0,0,0,0,0,0,0,0,0,0,0,0,0,0,0,0,0,0,0,0,0,0,0,0,0,0,0,0,0,0,0,0,0,0,0,0,0,0,0,0,0,0,0,0,0,0,0,0,0,0,0,0,0,0,0,0,0,0,0,0,0,0,0,0,0,0,0,0,0,0,0,0,0,0,0,0,0,0,0,0,0,0,0,0,0,0,0,0,0,0,0,0,0,0,0,0,0,0,0,0,0,0,0,0,0,0,0,0,0,0,0,0,0,0,0,0,0,0,0,0,0,0,0,0,0,0,0,0,0,0,0,0,0,0,0,0,0,0,0,0,0,0,0,0,0,0,0,0,0,0,0,0,0,0,0,0,0,0,0,0,0,{"$f":"IF(QS$1>$I11,0,\n  IF(QS$1<$G11,0,\n  IF(AND(QS$1>$G11,QS$1<$H11),14+$J11,\n  IF(AND(QS$1>$H11,QS$1<$I11),4+$J11,\n  IF(AND(QS$1=$G11,QS$1<>$H11,QS$1<>$I11),11+$J11,\n  IF(AND(QS$1<>$G11,QS$1=$H11,QS$1<>$I11),12+$J11,\n  IF(AND(QS$1<>$G11,QS$1<>$H11,QS$1=$I11),2+$J11,\n  IF(AND(QS$1=$G11,QS$1=$H11,QS$1<>$I11,$F11<>0),13+$J11,\n  IF(AND(QS$1=$G11,QS$1=$H11,QS$1<>$I11,$F11=0),1+$J11,\n  IF(AND(QS$1<>$G11,QS$1=$H11,QS$1=$I11),12+$J11,\n  IF(AND(QS$1=$G11,QS$1=$H11,QS$1=$I11,$F11<=0.5),3+$J11,13+$J11)))))))))))","v":0},0,0,0,0,0,0,0,0,0,0,0,0,0,0,0,{"$f":"IF(RI$1>$I11,0,\n  IF(RI$1<$G11,0,\n  IF(AND(RI$1>$G11,RI$1<$H11),14+$J11,\n  IF(AND(RI$1>$H11,RI$1<$I11),4+$J11,\n  IF(AND(RI$1=$G11,RI$1<>$H11,RI$1<>$I11),11+$J11,\n  IF(AND(RI$1<>$G11,RI$1=$H11,RI$1<>$I11),12+$J11,\n  IF(AND(RI$1<>$G11,RI$1<>$H11,RI$1=$I11),2+$J11,\n  IF(AND(RI$1=$G11,RI$1=$H11,RI$1<>$I11,$F11<>0),13+$J11,\n  IF(AND(RI$1=$G11,RI$1=$H11,RI$1<>$I11,$F11=0),1+$J11,\n  IF(AND(RI$1<>$G11,RI$1=$H11,RI$1=$I11),12+$J11,\n  IF(AND(RI$1=$G11,RI$1=$H11,RI$1=$I11,$F11<=0.5),3+$J11,13+$J11)))))))))))","v":0},0,0,0,0,0,0,0,0,0,0,0,0,0,0,0,{"$f":"IF(RY$1>$I11,0,\n  IF(RY$1<$G11,0,\n  IF(AND(RY$1>$G11,RY$1<$H11),14+$J11,\n  IF(AND(RY$1>$H11,RY$1<$I11),4+$J11,\n  IF(AND(RY$1=$G11,RY$1<>$H11,RY$1<>$I11),11+$J11,\n  IF(AND(RY$1<>$G11,RY$1=$H11,RY$1<>$I11),12+$J11,\n  IF(AND(RY$1<>$G11,RY$1<>$H11,RY$1=$I11),2+$J11,\n  IF(AND(RY$1=$G11,RY$1=$H11,RY$1<>$I11,$F11<>0),13+$J11,\n  IF(AND(RY$1=$G11,RY$1=$H11,RY$1<>$I11,$F11=0),1+$J11,\n  IF(AND(RY$1<>$G11,RY$1=$H11,RY$1=$I11),12+$J11,\n  IF(AND(RY$1=$G11,RY$1=$H11,RY$1=$I11,$F11<=0.5),3+$J11,13+$J11)))))))))))","v":0},0,0,0,0,0,0,0,0,0,0,0,0,0,0,0,{"$f":"IF(SO$1>$I11,0,\n  IF(SO$1<$G11,0,\n  IF(AND(SO$1>$G11,SO$1<$H11),14+$J11,\n  IF(AND(SO$1>$H11,SO$1<$I11),4+$J11,\n  IF(AND(SO$1=$G11,SO$1<>$H11,SO$1<>$I11),11+$J11,\n  IF(AND(SO$1<>$G11,SO$1=$H11,SO$1<>$I11),12+$J11,\n  IF(AND(SO$1<>$G11,SO$1<>$H11,SO$1=$I11),2+$J11,\n  IF(AND(SO$1=$G11,SO$1=$H11,SO$1<>$I11,$F11<>0),13+$J11,\n  IF(AND(SO$1=$G11,SO$1=$H11,SO$1<>$I11,$F11=0),1+$J11,\n  IF(AND(SO$1<>$G11,SO$1=$H11,SO$1=$I11),12+$J11,\n  IF(AND(SO$1=$G11,SO$1=$H11,SO$1=$I11,$F11<=0.5),3+$J11,13+$J11)))))))))))","v":0},0,0,null,{"$f":"IF(gIsItPlan,IF(AND(System!Z7,System!AA7),1,0),IF(AND(System!Z7,System!AB7),1,0))","v":1}]
[null,{"$f":"IF($SS12,IF(E12=1,System!B8,\"   \"&System!B8),\"\")","v":"   Изучение рынка услуг"},{"$f":"IF($SS12,IF(gIsItPlan,System!F8,System!I8),\"\")","v":"2014-03-20"},{"$f":"IF($SS12,IF(gIsItPlan,System!G8,System!J8),\"\")","v":"2014-04-02"},{"$f":"System!C8","v":2},{"$f":"System!L8","v":1},20,27,27,20,null,0,0,0,0,0,0,0,0,0,31,34,34,34,34,34,34,32,0,0,0,0,0,0,0,0,0,0,0,0,0,0,0,0,0,0,0,0,0,0,0,0,0,0,0,0,0,0,0,0,0,0,0,0,0,0,0,0,0,0,0,0,0,0,0,0,0,0,0,0,0,0,0,0,0,0,0,0,0,0,0,0,0,0,0,0,0,0,0,0,0,0,0,0,0,0,0,0,0,0,0,0,0,0,0,0,0,0,0,0,0,0,0,0,0,0,0,0,0,0,0,0,0,0,0,0,0,0,0,0,0,0,0,0,0,0,0,0,0,0,0,0,0,0,0,0,0,0,0,0,0,0,0,0,0,0,0,0,0,0,0,0,0,0,0,0,0,0,0,0,0,0,0,0,0,0,0,0,0,0,0,0,0,0,0,0,0,0,0,0,0,0,0,0,0,0,0,0,0,0,0,0,0,0,0,0,0,0,0,0,0,0,0,0,0,0,0,0,0,0,0,0,0,0,0,0,0,0,0,0,0,0,0,0,0,0,0,0,0,0,0,0,0,0,0,0,0,0,0,0,0,0,0,0,0,0,0,0,0,0,0,0,0,0,0,0,0,0,0,0,0,0,0,0,0,0,0,0,0,0,0,0,0,0,0,0,0,0,0,0,0,0,0,0,0,0,0,0,0,0,0,0,0,0,0,0,0,0,0,0,0,0,0,0,0,0,0,0,0,0,0,0,0,0,0,0,0,0,0,0,0,0,0,0,0,0,0,0,0,0,0,0,0,0,0,0,0,0,0,0,0,0,0,0,0,0,0,0,0,0,0,0,0,0,0,0,0,0,0,0,0,0,0,0,0,0,0,0,0,0,0,0,0,0,0,0,0,0,0,0,0,0,0,0,0,0,0,0,0,0,0,0,0,0,0,0,0,0,0,0,0,0,0,0,0,0,0,0,0,0,0,0,0,0,0,0,0,0,0,0,0,0,0,0,0,0,0,0,0,0,0,0,0,0,0,0,0,0,0,0,0,0,0,0,0,0,0,0,0,0,0,0,0,0,0,0,0,0,0,0,0,0,0,0,0,0,0,0,0,0,0,0,0,0,0,0,0,0,0,0,0,0,0,0,0,0,0,0,0,0,0,null,{"$f":"IF(gIsItPlan,IF(AND(System!Z8,System!AA8),1,0),IF(AND(System!Z8,System!AB8),1,0))","v":1}]
[null,{"$f":"IF($SS13,IF(E13=1,System!B9,\"   \"&System!B9),\"\")","v":"   Разработка дизайн-проекта"},{"$f":"IF($SS13,IF(gIsItPlan,System!F9,System!I9),\"\")","v":"2014-04-03"},{"$f":"IF($SS13,IF(gIsItPlan,System!G9,System!J9),\"\")","v":"2014-04-12"},{"$f":"System!C9","v":2},{"$f":"System!L9","v":1},27,32,32,20,null,0,0,0,0,0,0,0,0,0,0,0,0,0,0,0,0,31,34,34,34,34,32,0,0,0,0,0,0,0,0,0,0,0,0,0,0,0,0,0,0,0,0,0,0,0,0,0,0,0,0,0,0,0,0,0,0,0,0,0,0,0,0,0,{"$f":"IF(BW$1>$I13,0,\n  IF(BW$1<$G13,0,\n  IF(AND(BW$1>$G13,BW$1<$H13),14+$J13,\n  IF(AND(BW$1>$H13,BW$1<$I13),4+$J13,\n  IF(AND(BW$1=$G13,BW$1<>$H13,BW$1<>$I13),11+$J13,\n  IF(AND(BW$1<>$G13,BW$1=$H13,BW$1<>$I13),12+$J13,\n  IF(AND(BW$1<>$G13,BW$1<>$H13,BW$1=$I13),2+$J13,\n  IF(AND(BW$1=$G13,BW$1=$H13,BW$1<>$I13,$F13<>0),13+$J13,\n  IF(AND(BW$1=$G13,BW$1=$H13,BW$1<>$I13,$F13=0),1+$J13,\n  IF(AND(BW$1<>$G13,BW$1=$H13,BW$1=$I13),12+$J13,\n  IF(AND(BW$1=$G13,BW$1=$H13,BW$1=$I13,$F13<=0.5),3+$J13,13+$J13)))))))))))","v":0},0,0,0,0,0,0,0,0,0,0,0,0,0,0,0,0,0,0,0,0,0,0,0,0,0,0,0,0,0,0,0,0,0,0,0,0,0,0,0,0,0,0,0,0,0,0,0,0,0,0,0,0,0,0,0,0,0,0,0,0,0,0,0,{"$f":"IF(EI$1>$I13,0,\n  IF(EI$1<$G13,0,\n  IF(AND(EI$1>$G13,EI$1<$H13),14+$J13,\n  IF(AND(EI$1>$H13,EI$1<$I13),4+$J13,\n  IF(AND(EI$1=$G13,EI$1<>$H13,EI$1<>$I13),11+$J13,\n  IF(AND(EI$1<>$G13,EI$1=$H13,EI$1<>$I13),12+$J13,\n  IF(AND(EI$1<>$G13,EI$1<>$H13,EI$1=$I13),2+$J13,\n  IF(AND(EI$1=$G13,EI$1=$H13,EI$1<>$I13,$F13<>0),13+$J13,\n  IF(AND(EI$1=$G13,EI$1=$H13,EI$1<>$I13,$F13=0),1+$J13,\n  IF(AND(EI$1<>$G13,EI$1=$H13,EI$1=$I13),12+$J13,\n  IF(AND(EI$1=$G13,EI$1=$H13,EI$1=$I13,$F13<=0.5),3+$J13,13+$J13)))))))))))","v":0},0,0,0,0,0,0,0,0,0,0,0,0,0,0,0,0,0,0,0,0,0,0,0,0,0,0,0,0,0,0,0,0,0,0,0,0,0,0,0,0,0,0,0,0,0,0,0,0,0,0,0,0,0,0,0,0,0,0,0,0,0,0,0,{"$f":"IF(GU$1>$I13,0,\n  IF(GU$1<$G13,0,\n  IF(AND(GU$1>$G13,GU$1<$H13),14+$J13,\n  IF(AND(GU$1>$H13,GU$1<$I13),4+$J13,\n  IF(AND(GU$1=$G13,GU$1<>$H13,GU$1<>$I13),11+$J13,\n  IF(AND(GU$1<>$G13,GU$1=$H13,GU$1<>$I13),12+$J13,\n  IF(AND(GU$1<>$G13,GU$1<>$H13,GU$1=$I13),2+$J13,\n  IF(AND(GU$1=$G13,GU$1=$H13,GU$1<>$I13,$F13<>0),13+$J13,\n  IF(AND(GU$1=$G13,GU$1=$H13,GU$1<>$I13,$F13=0),1+$J13,\n  IF(AND(GU$1<>$G13,GU$1=$H13,GU$1=$I13),12+$J13,\n  IF(AND(GU$1=$G13,GU$1=$H13,GU$1=$I13,$F13<=0.5),3+$J13,13+$J13)))))))))))","v":0},0,0,0,0,0,0,0,0,0,0,0,0,0,0,0,0,0,0,0,0,0,0,0,0,0,0,0,0,0,0,0,0,0,0,0,0,0,0,0,0,0,0,0,0,0,0,0,0,0,0,0,0,0,0,0,0,0,0,0,0,0,0,0,{"$f":"IF(JG$1>$I13,0,\n  IF(JG$1<$G13,0,\n  IF(AND(JG$1>$G13,JG$1<$H13),14+$J13,\n  IF(AND(JG$1>$H13,JG$1<$I13),4+$J13,\n  IF(AND(JG$1=$G13,JG$1<>$H13,JG$1<>$I13),11+$J13,\n  IF(AND(JG$1<>$G13,JG$1=$H13,JG$1<>$I13),12+$J13,\n  IF(AND(JG$1<>$G13,JG$1<>$H13,JG$1=$I13),2+$J13,\n  IF(AND(JG$1=$G13,JG$1=$H13,JG$1<>$I13,$F13<>0),13+$J13,\n  IF(AND(JG$1=$G13,JG$1=$H13,JG$1<>$I13,$F13=0),1+$J13,\n  IF(AND(JG$1<>$G13,JG$1=$H13,JG$1=$I13),12+$J13,\n  IF(AND(JG$1=$G13,JG$1=$H13,JG$1=$I13,$F13<=0.5),3+$J13,13+$J13)))))))))))","v":0},0,0,0,0,0,0,0,0,0,0,0,0,0,0,0,0,0,0,0,0,0,0,0,0,0,0,0,0,0,0,0,0,0,0,0,0,0,0,0,0,0,0,0,0,0,0,0,0,0,0,0,0,0,0,0,0,0,0,0,0,0,0,0,{"$f":"IF(LS$1>$I13,0,\n  IF(LS$1<$G13,0,\n  IF(AND(LS$1>$G13,LS$1<$H13),14+$J13,\n  IF(AND(LS$1>$H13,LS$1<$I13),4+$J13,\n  IF(AND(LS$1=$G13,LS$1<>$H13,LS$1<>$I13),11+$J13,\n  IF(AND(LS$1<>$G13,LS$1=$H13,LS$1<>$I13),12+$J13,\n  IF(AND(LS$1<>$G13,LS$1<>$H13,LS$1=$I13),2+$J13,\n  IF(AND(LS$1=$G13,LS$1=$H13,LS$1<>$I13,$F13<>0),13+$J13,\n  IF(AND(LS$1=$G13,LS$1=$H13,LS$1<>$I13,$F13=0),1+$J13,\n  IF(AND(LS$1<>$G13,LS$1=$H13,LS$1=$I13),12+$J13,\n  IF(AND(LS$1=$G13,LS$1=$H13,LS$1=$I13,$F13<=0.5),3+$J13,13+$J13)))))))))))","v":0},0,0,0,0,0,0,0,0,0,0,0,0,0,0,0,0,0,0,0,0,0,0,0,0,0,0,0,0,0,0,0,0,0,0,0,0,0,0,0,0,0,0,0,0,0,0,0,0,0,0,0,0,0,0,0,0,0,0,0,0,0,0,0,{"$f":"IF(OE$1>$I13,0,\n  IF(OE$1<$G13,0,\n  IF(AND(OE$1>$G13,OE$1<$H13),14+$J13,\n  IF(AND(OE$1>$H13,OE$1<$I13),4+$J13,\n  IF(AND(OE$1=$G13,OE$1<>$H13,OE$1<>$I13),11+$J13,\n  IF(AND(OE$1<>$G13,OE$1=$H13,OE$1<>$I13),12+$J13,\n  IF(AND(OE$1<>$G13,OE$1<>$H13,OE$1=$I13),2+$J13,\n  IF(AND(OE$1=$G13,OE$1=$H13,OE$1<>$I13,$F13<>0),13+$J13,\n  IF(AND(OE$1=$G13,OE$1=$H13,OE$1<>$I13,$F13=0),1+$J13,\n  IF(AND(OE$1<>$G13,OE$1=$H13,OE$1=$I13),12+$J13,\n  IF(AND(OE$1=$G13,OE$1=$H13,OE$1=$I13,$F13<=0.5),3+$J13,13+$J13)))))))))))","v":0},0,0,0,0,0,0,0,0,0,0,0,0,0,0,0,0,0,0,0,0,0,0,0,0,0,0,0,0,0,0,0,0,0,0,0,0,0,0,0,0,0,0,0,0,0,0,0,0,0,0,0,0,0,0,0,0,0,0,0,0,0,0,0,{"$f":"IF(QQ$1>$I13,0,\n  IF(QQ$1<$G13,0,\n  IF(AND(QQ$1>$G13,QQ$1<$H13),14+$J13,\n  IF(AND(QQ$1>$H13,QQ$1<$I13),4+$J13,\n  IF(AND(QQ$1=$G13,QQ$1<>$H13,QQ$1<>$I13),11+$J13,\n  IF(AND(QQ$1<>$G13,QQ$1=$H13,QQ$1<>$I13),12+$J13,\n  IF(AND(QQ$1<>$G13,QQ$1<>$H13,QQ$1=$I13),2+$J13,\n  IF(AND(QQ$1=$G13,QQ$1=$H13,QQ$1<>$I13,$F13<>0),13+$J13,\n  IF(AND(QQ$1=$G13,QQ$1=$H13,QQ$1<>$I13,$F13=0),1+$J13,\n  IF(AND(QQ$1<>$G13,QQ$1=$H13,QQ$1=$I13),12+$J13,\n  IF(AND(QQ$1=$G13,QQ$1=$H13,QQ$1=$I13,$F13<=0.5),3+$J13,13+$J13)))))))))))","v":0},0,0,0,0,0,0,0,0,0,0,0,0,0,0,0,0,0,0,0,0,0,0,0,0,0,0,0,0,0,0,0,0,0,0,0,0,0,0,0,0,0,0,0,0,0,0,0,0,0,0,0,0,null,{"$f":"IF(gIsItPlan,IF(AND(System!Z9,System!AA9),1,0),IF(AND(System!Z9,System!AB9),1,0))","v":1}]
[null,{"$f":"IF($SS14,IF(E14=1,System!B10,\"   \"&System!B10),\"\")","v":"   Разработка сметы проекта"},{"$f":"IF($SS14,IF(gIsItPlan,System!F10,System!I10),\"\")","v":"2014-04-13"},{"$f":"IF($SS14,IF(gIsItPlan,System!G10,System!J10),\"\")","v":"2014-04-22"},{"$f":"System!C10","v":2},{"$f":"System!L10","v":1},32,37,37,20,null,0,0,0,0,0,0,0,0,0,0,0,0,0,0,0,0,{"$f":"IF(AB$1>$I14,0,\n  IF(AB$1<$G14,0,\n  IF(AND(AB$1>$G14,AB$1<$H14),14+$J14,\n  IF(AND(AB$1>$H14,AB$1<$I14),4+$J14,\n  IF(AND(AB$1=$G14,AB$1<>$H14,AB$1<>$I14),11+$J14,\n  IF(AND(AB$1<>$G14,AB$1=$H14,AB$1<>$I14),12+$J14,\n  IF(AND(AB$1<>$G14,AB$1<>$H14,AB$1=$I14),2+$J14,\n  IF(AND(AB$1=$G14,AB$1=$H14,AB$1<>$I14,$F14<>0),13+$J14,\n  IF(AND(AB$1=$G14,AB$1=$H14,AB$1<>$I14,$F14=0),1+$J14,\n  IF(AND(AB$1<>$G14,AB$1=$H14,AB$1=$I14),12+$J14,\n  IF(AND(AB$1=$G14,AB$1=$H14,AB$1=$I14,$F14<=0.5),3+$J14,13+$J14)))))))))))","v":0},0,0,0,0,31,34,34,34,34,32,0,0,0,0,0,{"$f":"IF(AR$1>$I14,0,\n  IF(AR$1<$G14,0,\n  IF(AND(AR$1>$G14,AR$1<$H14),14+$J14,\n  IF(AND(AR$1>$H14,AR$1<$I14),4+$J14,\n  IF(AND(AR$1=$G14,AR$1<>$H14,AR$1<>$I14),11+$J14,\n  IF(AND(AR$1<>$G14,AR$1=$H14,AR$1<>$I14),12+$J14,\n  IF(AND(AR$1<>$G14,AR$1<>$H14,AR$1=$I14),2+$J14,\n  IF(AND(AR$1=$G14,AR$1=$H14,AR$1<>$I14,$F14<>0),13+$J14,\n  IF(AND(AR$1=$G14,AR$1=$H14,AR$1<>$I14,$F14=0),1+$J14,\n  IF(AND(AR$1<>$G14,AR$1=$H14,AR$1=$I14),12+$J14,\n  IF(AND(AR$1=$G14,AR$1=$H14,AR$1=$I14,$F14<=0.5),3+$J14,13+$J14)))))))))))","v":0},0,0,0,0,0,0,0,0,0,0,0,0,0,0,0,{"$f":"IF(BH$1>$I14,0,\n  IF(BH$1<$G14,0,\n  IF(AND(BH$1>$G14,BH$1<$H14),14+$J14,\n  IF(AND(BH$1>$H14,BH$1<$I14),4+$J14,\n  IF(AND(BH$1=$G14,BH$1<>$H14,BH$1<>$I14),11+$J14,\n  IF(AND(BH$1<>$G14,BH$1=$H14,BH$1<>$I14),12+$J14,\n  IF(AND(BH$1<>$G14,BH$1<>$H14,BH$1=$I14),2+$J14,\n  IF(AND(BH$1=$G14,BH$1=$H14,BH$1<>$I14,$F14<>0),13+$J14,\n  IF(AND(BH$1=$G14,BH$1=$H14,BH$1<>$I14,$F14=0),1+$J14,\n  IF(AND(BH$1<>$G14,BH$1=$H14,BH$1=$I14),12+$J14,\n  IF(AND(BH$1=$G14,BH$1=$H14,BH$1=$I14,$F14<=0.5),3+$J14,13+$J14)))))))))))","v":0},0,0,0,0,0,0,0,0,0,0,0,0,0,0,0,0,0,0,0,0,0,0,0,0,0,0,0,0,0,0,{"$f":"IF(CM$1>$I14,0,\n  IF(CM$1<$G14,0,\n  IF(AND(CM$1>$G14,CM$1<$H14),14+$J14,\n  IF(AND(CM$1>$H14,CM$1<$I14),4+$J14,\n  IF(AND(CM$1=$G14,CM$1<>$H14,CM$1<>$I14),11+$J14,\n  IF(AND(CM$1<>$G14,CM$1=$H14,CM$1<>$I14),12+$J14,\n  IF(AND(CM$1<>$G14,CM$1<>$H14,CM$1=$I14),2+$J14,\n  IF(AND(CM$1=$G14,CM$1=$H14,CM$1<>$I14,$F14<>0),13+$J14,\n  IF(AND(CM$1=$G14,CM$1=$H14,CM$1<>$I14,$F14=0),1+$J14,\n  IF(AND(CM$1<>$G14,CM$1=$H14,CM$1=$I14),12+$J14,\n  IF(AND(CM$1=$G14,CM$1=$H14,CM$1=$I14,$F14<=0.5),3+$J14,13+$J14)))))))))))","v":0},0,0,0,0,0,0,0,0,0,0,0,0,0,0,0,{"$f":"IF(DC$1>$I14,0,\n  IF(DC$1<$G14,0,\n  IF(AND(DC$1>$G14,DC$1<$H14),14+$J14,\n  IF(AND(DC$1>$H14,DC$1<$I14),4+$J14,\n  IF(AND(DC$1=$G14,DC$1<>$H14,DC$1<>$I14),11+$J14,\n  IF(AND(DC$1<>$G14,DC$1=$H14,DC$1<>$I14),12+$J14,\n  IF(AND(DC$1<>$G14,DC$1<>$H14,DC$1=$I14),2+$J14,\n  IF(AND(DC$1=$G14,DC$1=$H14,DC$1<>$I14,$F14<>0),13+$J14,\n  IF(AND(DC$1=$G14,DC$1=$H14,DC$1<>$I14,$F14=0),1+$J14,\n  IF(AND(DC$1<>$G14,DC$1=$H14,DC$1=$I14),12+$J14,\n  IF(AND(DC$1=$G14,DC$1=$H14,DC$1=$I14,$F14<=0.5),3+$J14,13+$J14)))))))))))","v":0},0,0,0,0,0,0,0,0,0,0,0,0,0,0,0,{"$f":"IF(DS$1>$I14,0,\n  IF(DS$1<$G14,0,\n  IF(AND(DS$1>$G14,DS$1<$H14),14+$J14,\n  IF(AND(DS$1>$H14,DS$1<$I14),4+$J14,\n  IF(AND(DS$1=$G14,DS$1<>$H14,DS$1<>$I14),11+$J14,\n  IF(AND(DS$1<>$G14,DS$1=$H14,DS$1<>$I14),12+$J14,\n  IF(AND(DS$1<>$G14,DS$1<>$H14,DS$1=$I14),2+$J14,\n  IF(AND(DS$1=$G14,DS$1=$H14,DS$1<>$I14,$F14<>0),13+$J14,\n  IF(AND(DS$1=$G14,DS$1=$H14,DS$1<>$I14,$F14=0),1+$J14,\n  IF(AND(DS$1<>$G14,DS$1=$H14,DS$1=$I14),12+$J14,\n  IF(AND(DS$1=$G14,DS$1=$H14,DS$1=$I14,$F14<=0.5),3+$J14,13+$J14)))))))))))","v":0},0,0,0,0,0,0,0,0,0,0,0,0,0,0,0,0,0,0,0,0,0,0,0,0,0,0,0,0,0,0,0,{"$f":"IF(EY$1>$I14,0,\n  IF(EY$1<$G14,0,\n  IF(AND(EY$1>$G14,EY$1<$H14),14+$J14,\n  IF(AND(EY$1>$H14,EY$1<$I14),4+$J14,\n  IF(AND(EY$1=$G14,EY$1<>$H14,EY$1<>$I14),11+$J14,\n  IF(AND(EY$1<>$G14,EY$1=$H14,EY$1<>$I14),12+$J14,\n  IF(AND(EY$1<>$G14,EY$1<>$H14,EY$1=$I14),2+$J14,\n  IF(AND(EY$1=$G14,EY$1=$H14,EY$1<>$I14,$F14<>0),13+$J14,\n  IF(AND(EY$1=$G14,EY$1=$H14,EY$1<>$I14,$F14=0),1+$J14,\n  IF(AND(EY$1<>$G14,EY$1=$H14,EY$1=$I14),12+$J14,\n  IF(AND(EY$1=$G14,EY$1=$H14,EY$1=$I14,$F14<=0.5),3+$J14,13+$J14)))))))))))","v":0},0,0,0,0,0,0,0,0,0,0,0,0,0,0,0,{"$f":"IF(FO$1>$I14,0,\n  IF(FO$1<$G14,0,\n  IF(AND(FO$1>$G14,FO$1<$H14),14+$J14,\n  IF(AND(FO$1>$H14,FO$1<$I14),4+$J14,\n  IF(AND(FO$1=$G14,FO$1<>$H14,FO$1<>$I14),11+$J14,\n  IF(AND(FO$1<>$G14,FO$1=$H14,FO$1<>$I14),12+$J14,\n  IF(AND(FO$1<>$G14,FO$1<>$H14,FO$1=$I14),2+$J14,\n  IF(AND(FO$1=$G14,FO$1=$H14,FO$1<>$I14,$F14<>0),13+$J14,\n  IF(AND(FO$1=$G14,FO$1=$H14,FO$1<>$I14,$F14=0),1+$J14,\n  IF(AND(FO$1<>$G14,FO$1=$H14,FO$1=$I14),12+$J14,\n  IF(AND(FO$1=$G14,FO$1=$H14,FO$1=$I14,$F14<=0.5),3+$J14,13+$J14)))))))))))","v":0},0,0,0,0,0,0,0,0,0,0,0,0,0,0,0,{"$f":"IF(GE$1>$I14,0,\n  IF(GE$1<$G14,0,\n  IF(AND(GE$1>$G14,GE$1<$H14),14+$J14,\n  IF(AND(GE$1>$H14,GE$1<$I14),4+$J14,\n  IF(AND(GE$1=$G14,GE$1<>$H14,GE$1<>$I14),11+$J14,\n  IF(AND(GE$1<>$G14,GE$1=$H14,GE$1<>$I14),12+$J14,\n  IF(AND(GE$1<>$G14,GE$1<>$H14,GE$1=$I14),2+$J14,\n  IF(AND(GE$1=$G14,GE$1=$H14,GE$1<>$I14,$F14<>0),13+$J14,\n  IF(AND(GE$1=$G14,GE$1=$H14,GE$1<>$I14,$F14=0),1+$J14,\n  IF(AND(GE$1<>$G14,GE$1=$H14,GE$1=$I14),12+$J14,\n  IF(AND(GE$1=$G14,GE$1=$H14,GE$1=$I14,$F14<=0.5),3+$J14,13+$J14)))))))))))","v":0},0,0,0,0,0,0,0,0,0,0,0,0,0,0,0,0,0,0,0,0,0,0,0,0,0,0,0,0,0,0,0,{"$f":"IF(HK$1>$I14,0,\n  IF(HK$1<$G14,0,\n  IF(AND(HK$1>$G14,HK$1<$H14),14+$J14,\n  IF(AND(HK$1>$H14,HK$1<$I14),4+$J14,\n  IF(AND(HK$1=$G14,HK$1<>$H14,HK$1<>$I14),11+$J14,\n  IF(AND(HK$1<>$G14,HK$1=$H14,HK$1<>$I14),12+$J14,\n  IF(AND(HK$1<>$G14,HK$1<>$H14,HK$1=$I14),2+$J14,\n  IF(AND(HK$1=$G14,HK$1=$H14,HK$1<>$I14,$F14<>0),13+$J14,\n  IF(AND(HK$1=$G14,HK$1=$H14,HK$1<>$I14,$F14=0),1+$J14,\n  IF(AND(HK$1<>$G14,HK$1=$H14,HK$1=$I14),12+$J14,\n  IF(AND(HK$1=$G14,HK$1=$H14,HK$1=$I14,$F14<=0.5),3+$J14,13+$J14)))))))))))","v":0},0,0,0,0,0,0,0,0,0,0,0,0,0,0,0,{"$f":"IF(IA$1>$I14,0,\n  IF(IA$1<$G14,0,\n  IF(AND(IA$1>$G14,IA$1<$H14),14+$J14,\n  IF(AND(IA$1>$H14,IA$1<$I14),4+$J14,\n  IF(AND(IA$1=$G14,IA$1<>$H14,IA$1<>$I14),11+$J14,\n  IF(AND(IA$1<>$G14,IA$1=$H14,IA$1<>$I14),12+$J14,\n  IF(AND(IA$1<>$G14,IA$1<>$H14,IA$1=$I14),2+$J14,\n  IF(AND(IA$1=$G14,IA$1=$H14,IA$1<>$I14,$F14<>0),13+$J14,\n  IF(AND(IA$1=$G14,IA$1=$H14,IA$1<>$I14,$F14=0),1+$J14,\n  IF(AND(IA$1<>$G14,IA$1=$H14,IA$1=$I14),12+$J14,\n  IF(AND(IA$1=$G14,IA$1=$H14,IA$1=$I14,$F14<=0.5),3+$J14,13+$J14)))))))))))","v":0},0,0,0,0,0,0,0,0,0,0,0,0,0,0,0,{"$f":"IF(IQ$1>$I14,0,\n  IF(IQ$1<$G14,0,\n  IF(AND(IQ$1>$G14,IQ$1<$H14),14+$J14,\n  IF(AND(IQ$1>$H14,IQ$1<$I14),4+$J14,\n  IF(AND(IQ$1=$G14,IQ$1<>$H14,IQ$1<>$I14),11+$J14,\n  IF(AND(IQ$1<>$G14,IQ$1=$H14,IQ$1<>$I14),12+$J14,\n  IF(AND(IQ$1<>$G14,IQ$1<>$H14,IQ$1=$I14),2+$J14,\n  IF(AND(IQ$1=$G14,IQ$1=$H14,IQ$1<>$I14,$F14<>0),13+$J14,\n  IF(AND(IQ$1=$G14,IQ$1=$H14,IQ$1<>$I14,$F14=0),1+$J14,\n  IF(AND(IQ$1<>$G14,IQ$1=$H14,IQ$1=$I14),12+$J14,\n  IF(AND(IQ$1=$G14,IQ$1=$H14,IQ$1=$I14,$F14<=0.5),3+$J14,13+$J14)))))))))))","v":0},0,0,0,0,0,0,0,0,0,0,0,0,0,0,0,0,0,0,0,0,0,0,0,0,0,0,0,0,0,0,0,{"$f":"IF(JW$1>$I14,0,\n  IF(JW$1<$G14,0,\n  IF(AND(JW$1>$G14,JW$1<$H14),14+$J14,\n  IF(AND(JW$1>$H14,JW$1<$I14),4+$J14,\n  IF(AND(JW$1=$G14,JW$1<>$H14,JW$1<>$I14),11+$J14,\n  IF(AND(JW$1<>$G14,JW$1=$H14,JW$1<>$I14),12+$J14,\n  IF(AND(JW$1<>$G14,JW$1<>$H14,JW$1=$I14),2+$J14,\n  IF(AND(JW$1=$G14,JW$1=$H14,JW$1<>$I14,$F14<>0),13+$J14,\n  IF(AND(JW$1=$G14,JW$1=$H14,JW$1<>$I14,$F14=0),1+$J14,\n  IF(AND(JW$1<>$G14,JW$1=$H14,JW$1=$I14),12+$J14,\n  IF(AND(JW$1=$G14,JW$1=$H14,JW$1=$I14,$F14<=0.5),3+$J14,13+$J14)))))))))))","v":0},0,0,0,0,0,0,0,0,0,0,0,0,0,0,0,{"$f":"IF(KM$1>$I14,0,\n  IF(KM$1<$G14,0,\n  IF(AND(KM$1>$G14,KM$1<$H14),14+$J14,\n  IF(AND(KM$1>$H14,KM$1<$I14),4+$J14,\n  IF(AND(KM$1=$G14,KM$1<>$H14,KM$1<>$I14),11+$J14,\n  IF(AND(KM$1<>$G14,KM$1=$H14,KM$1<>$I14),12+$J14,\n  IF(AND(KM$1<>$G14,KM$1<>$H14,KM$1=$I14),2+$J14,\n  IF(AND(KM$1=$G14,KM$1=$H14,KM$1<>$I14,$F14<>0),13+$J14,\n  IF(AND(KM$1=$G14,KM$1=$H14,KM$1<>$I14,$F14=0),1+$J14,\n  IF(AND(KM$1<>$G14,KM$1=$H14,KM$1=$I14),12+$J14,\n  IF(AND(KM$1=$G14,KM$1=$H14,KM$1=$I14,$F14<=0.5),3+$J14,13+$J14)))))))))))","v":0},0,0,0,0,0,0,0,0,0,0,0,0,0,0,0,{"$f":"IF(LC$1>$I14,0,\n  IF(LC$1<$G14,0,\n  IF(AND(LC$1>$G14,LC$1<$H14),14+$J14,\n  IF(AND(LC$1>$H14,LC$1<$I14),4+$J14,\n  IF(AND(LC$1=$G14,LC$1<>$H14,LC$1<>$I14),11+$J14,\n  IF(AND(LC$1<>$G14,LC$1=$H14,LC$1<>$I14),12+$J14,\n  IF(AND(LC$1<>$G14,LC$1<>$H14,LC$1=$I14),2+$J14,\n  IF(AND(LC$1=$G14,LC$1=$H14,LC$1<>$I14,$F14<>0),13+$J14,\n  IF(AND(LC$1=$G14,LC$1=$H14,LC$1<>$I14,$F14=0),1+$J14,\n  IF(AND(LC$1<>$G14,LC$1=$H14,LC$1=$I14),12+$J14,\n  IF(AND(LC$1=$G14,LC$1=$H14,LC$1=$I14,$F14<=0.5),3+$J14,13+$J14)))))))))))","v":0},0,0,0,0,0,0,0,0,0,0,0,0,0,0,0,0,0,0,0,0,0,0,0,0,0,0,0,0,0,0,0,{"$f":"IF(MI$1>$I14,0,\n  IF(MI$1<$G14,0,\n  IF(AND(MI$1>$G14,MI$1<$H14),14+$J14,\n  IF(AND(MI$1>$H14,MI$1<$I14),4+$J14,\n  IF(AND(MI$1=$G14,MI$1<>$H14,MI$1<>$I14),11+$J14,\n  IF(AND(MI$1<>$G14,MI$1=$H14,MI$1<>$I14),12+$J14,\n  IF(AND(MI$1<>$G14,MI$1<>$H14,MI$1=$I14),2+$J14,\n  IF(AND(MI$1=$G14,MI$1=$H14,MI$1<>$I14,$F14<>0),13+$J14,\n  IF(AND(MI$1=$G14,MI$1=$H14,MI$1<>$I14,$F14=0),1+$J14,\n  IF(AND(MI$1<>$G14,MI$1=$H14,MI$1=$I14),12+$J14,\n  IF(AND(MI$1=$G14,MI$1=$H14,MI$1=$I14,$F14<=0.5),3+$J14,13+$J14)))))))))))","v":0},0,0,0,0,0,0,0,0,0,0,0,0,0,0,0,{"$f":"IF(MY$1>$I14,0,\n  IF(MY$1<$G14,0,\n  IF(AND(MY$1>$G14,MY$1<$H14),14+$J14,\n  IF(AND(MY$1>$H14,MY$1<$I14),4+$J14,\n  IF(AND(MY$1=$G14,MY$1<>$H14,MY$1<>$I14),11+$J14,\n  IF(AND(MY$1<>$G14,MY$1=$H14,MY$1<>$I14),12+$J14,\n  IF(AND(MY$1<>$G14,MY$1<>$H14,MY$1=$I14),2+$J14,\n  IF(AND(MY$1=$G14,MY$1=$H14,MY$1<>$I14,$F14<>0),13+$J14,\n  IF(AND(MY$1=$G14,MY$1=$H14,MY$1<>$I14,$F14=0),1+$J14,\n  IF(AND(MY$1<>$G14,MY$1=$H14,MY$1=$I14),12+$J14,\n  IF(AND(MY$1=$G14,MY$1=$H14,MY$1=$I14,$F14<=0.5),3+$J14,13+$J14)))))))))))","v":0},0,0,0,0,0,0,0,0,0,0,0,0,0,0,0,{"$f":"IF(NO$1>$I14,0,\n  IF(NO$1<$G14,0,\n  IF(AND(NO$1>$G14,NO$1<$H14),14+$J14,\n  IF(AND(NO$1>$H14,NO$1<$I14),4+$J14,\n  IF(AND(NO$1=$G14,NO$1<>$H14,NO$1<>$I14),11+$J14,\n  IF(AND(NO$1<>$G14,NO$1=$H14,NO$1<>$I14),12+$J14,\n  IF(AND(NO$1<>$G14,NO$1<>$H14,NO$1=$I14),2+$J14,\n  IF(AND(NO$1=$G14,NO$1=$H14,NO$1<>$I14,$F14<>0),13+$J14,\n  IF(AND(NO$1=$G14,NO$1=$H14,NO$1<>$I14,$F14=0),1+$J14,\n  IF(AND(NO$1<>$G14,NO$1=$H14,NO$1=$I14),12+$J14,\n  IF(AND(NO$1=$G14,NO$1=$H14,NO$1=$I14,$F14<=0.5),3+$J14,13+$J14)))))))))))","v":0},0,0,0,0,0,0,0,0,0,0,0,0,0,0,0,0,0,0,0,0,0,0,0,0,0,0,0,0,0,0,0,{"$f":"IF(OU$1>$I14,0,\n  IF(OU$1<$G14,0,\n  IF(AND(OU$1>$G14,OU$1<$H14),14+$J14,\n  IF(AND(OU$1>$H14,OU$1<$I14),4+$J14,\n  IF(AND(OU$1=$G14,OU$1<>$H14,OU$1<>$I14),11+$J14,\n  IF(AND(OU$1<>$G14,OU$1=$H14,OU$1<>$I14),12+$J14,\n  IF(AND(OU$1<>$G14,OU$1<>$H14,OU$1=$I14),2+$J14,\n  IF(AND(OU$1=$G14,OU$1=$H14,OU$1<>$I14,$F14<>0),13+$J14,\n  IF(AND(OU$1=$G14,OU$1=$H14,OU$1<>$I14,$F14=0),1+$J14,\n  IF(AND(OU$1<>$G14,OU$1=$H14,OU$1=$I14),12+$J14,\n  IF(AND(OU$1=$G14,OU$1=$H14,OU$1=$I14,$F14<=0.5),3+$J14,13+$J14)))))))))))","v":0},0,0,0,0,0,0,0,0,0,0,0,0,0,0,0,{"$f":"IF(PK$1>$I14,0,\n  IF(PK$1<$G14,0,\n  IF(AND(PK$1>$G14,PK$1<$H14),14+$J14,\n  IF(AND(PK$1>$H14,PK$1<$I14),4+$J14,\n  IF(AND(PK$1=$G14,PK$1<>$H14,PK$1<>$I14),11+$J14,\n  IF(AND(PK$1<>$G14,PK$1=$H14,PK$1<>$I14),12+$J14,\n  IF(AND(PK$1<>$G14,PK$1<>$H14,PK$1=$I14),2+$J14,\n  IF(AND(PK$1=$G14,PK$1=$H14,PK$1<>$I14,$F14<>0),13+$J14,\n  IF(AND(PK$1=$G14,PK$1=$H14,PK$1<>$I14,$F14=0),1+$J14,\n  IF(AND(PK$1<>$G14,PK$1=$H14,PK$1=$I14),12+$J14,\n  IF(AND(PK$1=$G14,PK$1=$H14,PK$1=$I14,$F14<=0.5),3+$J14,13+$J14)))))))))))","v":0},0,0,0,0,0,0,0,0,0,0,0,0,0,0,0,{"$f":"IF(QA$1>$I14,0,\n  IF(QA$1<$G14,0,\n  IF(AND(QA$1>$G14,QA$1<$H14),14+$J14,\n  IF(AND(QA$1>$H14,QA$1<$I14),4+$J14,\n  IF(AND(QA$1=$G14,QA$1<>$H14,QA$1<>$I14),11+$J14,\n  IF(AND(QA$1<>$G14,QA$1=$H14,QA$1<>$I14),12+$J14,\n  IF(AND(QA$1<>$G14,QA$1<>$H14,QA$1=$I14),2+$J14,\n  IF(AND(QA$1=$G14,QA$1=$H14,QA$1<>$I14,$F14<>0),13+$J14,\n  IF(AND(QA$1=$G14,QA$1=$H14,QA$1<>$I14,$F14=0),1+$J14,\n  IF(AND(QA$1<>$G14,QA$1=$H14,QA$1=$I14),12+$J14,\n  IF(AND(QA$1=$G14,QA$1=$H14,QA$1=$I14,$F14<=0.5),3+$J14,13+$J14)))))))))))","v":0},0,0,0,0,0,0,0,0,0,0,0,0,0,0,0,0,0,0,0,0,0,0,0,0,0,0,0,0,0,0,0,0,0,0,0,0,0,0,0,0,0,0,0,0,0,0,0,0,0,0,0,0,0,0,0,0,0,0,0,0,0,0,0,0,0,0,0,0,null,{"$f":"IF(gIsItPlan,IF(AND(System!Z10,System!AA10),1,0),IF(AND(System!Z10,System!AB10),1,0))","v":1}]
[null,{"$f":"IF($SS15,IF(E15=1,System!B11,\"   \"&System!B11),\"\")","v":"   Поиск подрядчика"},{"$f":"IF($SS15,IF(gIsItPlan,System!F11,System!I11),\"\")","v":"2014-04-23"},{"$f":"IF($SS15,IF(gIsItPlan,System!G11,System!J11),\"\")","v":"2014-05-06"},{"$f":"System!C11","v":2},{"$f":"System!L11","v":1},37,44,44,20,null,0,0,0,0,0,0,0,0,0,0,0,0,0,0,0,0,0,0,0,0,0,0,0,0,0,0,31,34,34,34,34,34,34,32,0,0,0,0,0,0,0,0,0,0,0,0,0,0,0,0,0,0,0,0,0,0,0,0,0,0,0,0,0,0,0,0,0,0,0,0,0,0,0,0,0,0,0,0,0,0,0,0,0,0,0,0,0,0,0,0,0,0,0,0,0,0,0,0,0,0,0,0,0,0,0,0,0,0,0,0,0,0,0,0,0,0,0,0,0,0,0,0,0,0,0,0,0,0,0,0,0,0,0,0,0,0,0,0,0,0,0,0,0,0,0,0,0,0,0,0,0,0,0,0,0,0,0,0,0,0,0,0,0,0,0,0,0,0,0,0,0,0,0,0,0,0,0,0,0,0,0,0,0,0,0,0,0,0,0,0,0,0,0,0,0,0,0,0,0,0,0,0,0,0,0,0,0,0,0,0,0,0,0,0,0,0,0,0,0,0,0,0,0,0,0,0,0,0,0,0,0,0,0,0,0,0,0,0,0,0,0,0,0,0,0,0,0,0,0,0,0,0,0,0,0,0,0,0,0,0,0,0,0,0,0,0,0,0,0,0,0,0,0,0,0,0,0,0,0,0,0,0,0,0,0,0,0,0,0,0,0,0,0,0,0,0,0,0,0,0,0,0,0,0,0,0,0,0,0,0,0,0,0,0,0,0,0,0,0,0,0,0,0,0,0,0,0,0,0,0,0,0,0,0,0,0,0,0,0,0,0,0,0,0,0,0,0,0,0,0,0,0,0,0,0,0,0,0,0,0,0,0,0,0,0,0,0,0,0,0,0,0,0,0,0,0,0,0,0,0,0,0,0,0,0,0,0,0,0,0,0,0,0,0,0,0,0,0,0,0,0,0,0,0,0,0,0,0,0,0,0,0,0,0,0,0,0,0,0,0,0,0,0,0,0,0,0,0,0,0,0,0,0,0,0,0,0,0,0,0,0,0,0,0,0,0,0,0,0,0,0,0,0,0,0,0,0,0,0,0,0,0,0,0,0,0,0,0,0,0,0,0,0,0,0,0,0,0,0,0,0,0,0,0,0,0,0,0,0,0,0,0,0,0,0,0,0,0,0,0,null,{"$f":"IF(gIsItPlan,IF(AND(System!Z11,System!AA11),1,0),IF(AND(System!Z11,System!AB11),1,0))","v":1}]
[null,{"$f":"IF($SS16,IF(E16=1,System!B12,\"   \"&System!B12),\"\")","v":"   Заключение договора с подрядчиком"},{"$f":"IF($SS16,IF(gIsItPlan,System!F12,System!I12),\"\")","v":"2014-05-07"},{"$f":"IF($SS16,IF(gIsItPlan,System!G12,System!J12),\"\")","v":"2014-05-13"},{"$f":"System!C12","v":2},{"$f":"System!L12","v":1},44,47,47,20,null,0,0,0,0,0,0,0,0,0,0,0,0,0,0,0,0,0,0,0,0,0,0,0,0,0,0,0,0,0,0,0,0,0,31,34,34,32,0,0,0,0,0,0,0,0,0,0,0,0,0,0,0,0,0,0,0,0,0,0,0,0,0,0,0,0,0,0,0,0,0,0,0,0,0,0,0,0,0,0,0,0,0,0,0,0,0,0,0,0,0,0,0,0,0,0,0,0,0,0,0,0,0,0,0,0,0,0,0,0,0,0,0,0,0,0,0,0,0,0,0,0,0,0,0,0,0,0,0,0,0,0,0,0,0,0,0,0,0,0,0,0,0,0,0,0,0,0,0,0,0,0,0,0,0,0,0,0,0,0,0,0,0,0,0,0,0,0,0,0,0,0,0,0,0,0,0,0,0,0,0,0,0,0,0,0,0,0,0,0,0,0,0,0,0,0,0,0,0,0,0,0,0,0,0,0,0,0,0,0,0,0,0,0,0,0,0,0,0,0,0,0,0,0,0,0,0,0,0,0,0,0,0,0,0,0,0,0,0,0,0,0,0,0,0,0,0,0,0,0,0,0,0,0,0,0,0,0,0,0,0,0,0,0,0,0,0,0,0,0,0,0,0,0,0,0,0,0,0,0,0,0,0,0,0,0,0,0,0,0,0,0,0,0,0,0,0,0,0,0,0,0,0,0,0,0,0,0,0,0,0,0,0,0,0,0,0,0,0,0,0,0,0,0,0,0,0,0,0,0,0,0,0,0,0,0,0,0,0,0,0,0,0,0,0,0,0,0,0,0,0,0,0,0,0,0,0,0,0,0,0,0,0,0,0,0,0,0,0,0,0,0,0,0,0,0,0,0,0,0,0,0,0,0,0,0,0,0,0,0,0,0,0,0,0,0,0,0,0,0,0,0,0,0,0,0,0,0,0,0,0,0,0,0,0,0,0,0,0,0,0,0,0,0,0,0,0,0,0,0,0,0,0,0,0,0,0,0,0,0,0,0,0,0,0,0,0,0,0,0,0,0,0,0,0,0,0,0,0,0,0,0,0,0,0,0,0,0,0,0,0,0,0,0,0,0,0,0,0,0,0,0,0,0,0,0,0,0,0,0,0,0,0,0,0,0,0,0,0,0,0,null,{"$f":"IF(gIsItPlan,IF(AND(System!Z12,System!AA12),1,0),IF(AND(System!Z12,System!AB12),1,0))","v":1}]
[null,{"$f":"IF($SS17,IF(E17=1,System!B13,\"   \"&System!B13),\"\")","v":"Реализация"},{"$f":"IF($SS17,IF(gIsItPlan,System!F13,System!I13),\"\")","v":"2014-05-14"},{"$f":"IF($SS17,IF(gIsItPlan,System!G13,System!J13),\"\")","v":"2014-08-06"},{"$f":"System!C13","v":1},{"$f":"System!L13","v":0.77978723404255312},48,81,90,0,null,0,0,0,0,0,0,0,0,0,0,0,0,0,0,0,0,0,0,0,0,0,0,0,0,0,0,0,0,0,0,0,0,0,0,0,0,0,11,14,14,14,14,14,14,14,14,14,14,14,14,14,14,14,14,14,14,14,14,14,14,14,14,14,14,14,14,14,14,14,14,12,4,4,4,4,4,4,4,4,2,0,0,0,0,0,0,0,0,0,0,0,0,0,0,0,0,0,0,0,0,0,0,0,0,0,0,0,0,0,0,0,0,0,0,0,0,0,0,0,0,0,0,0,0,0,0,0,0,0,0,0,0,0,0,0,0,0,0,0,0,0,0,0,0,0,0,0,0,0,0,0,0,0,0,0,0,0,0,0,0,0,0,0,0,0,0,0,0,0,0,0,0,0,0,0,0,0,0,0,0,0,0,0,0,0,0,0,0,0,0,0,0,0,0,0,0,0,0,0,0,0,0,0,0,0,0,0,0,0,0,0,0,0,0,0,0,0,0,0,0,0,0,0,0,0,0,0,0,0,0,0,0,0,0,0,0,0,0,0,0,0,0,0,0,0,0,0,0,0,0,0,0,0,0,0,0,0,0,0,0,0,0,0,0,0,0,0,0,0,0,0,0,0,0,0,0,0,0,0,0,0,0,0,0,0,0,0,0,0,0,0,0,0,0,0,0,0,0,0,0,0,0,0,0,0,0,0,0,0,0,0,0,0,0,0,0,0,0,0,0,0,0,0,0,0,0,0,0,0,0,0,0,0,0,0,0,0,0,0,0,0,0,0,0,0,0,0,0,0,0,0,0,0,0,0,0,0,0,0,0,0,0,0,0,0,0,0,0,0,0,0,0,0,0,0,0,0,0,0,0,0,0,0,0,0,0,0,0,0,0,0,0,0,0,0,0,0,0,0,0,0,0,0,0,0,0,0,0,0,0,0,0,0,0,0,0,0,0,0,0,0,0,0,0,0,0,0,0,0,0,0,0,0,0,0,0,0,0,0,0,0,0,0,0,0,0,0,0,0,0,0,0,0,0,0,0,0,0,0,0,0,0,0,0,0,0,0,0,0,0,0,0,0,0,0,0,0,0,0,0,0,0,0,0,0,0,0,0,0,0,0,0,0,0,0,0,0,0,0,0,null,{"$f":"IF(gIsItPlan,IF(AND(System!Z13,System!AA13),1,0),IF(AND(System!Z13,System!AB13),1,0))","v":1}]
[null,{"$f":"IF($SS18,IF(E18=1,System!B14,\"   \"&System!B14),\"\")","v":"   Подготовка помещений"},{"$f":"IF($SS18,IF(gIsItPlan,System!F14,System!I14),\"\")","v":"2014-05-14"},{"$f":"IF($SS18,IF(gIsItPlan,System!G14,System!J14),\"\")","v":"2014-05-15"},{"$f":"System!C14","v":2},{"$f":"System!L14","v":1},48,48,48,20,null,0,0,0,0,0,0,0,0,0,0,0,0,0,0,0,0,0,0,0,0,0,0,0,0,0,0,0,0,0,0,0,0,0,0,0,0,0,33,0,0,0,0,0,0,0,0,0,0,0,0,0,0,0,0,0,0,0,0,0,0,0,0,0,0,0,0,0,0,0,0,0,0,0,0,0,0,0,0,0,0,0,0,0,0,0,0,0,0,0,0,0,0,0,0,0,0,0,0,0,0,0,0,0,0,0,0,0,0,0,0,0,0,0,0,0,0,0,0,0,0,0,0,0,0,0,0,0,0,0,0,0,0,0,0,0,0,0,0,0,0,0,0,0,0,0,0,0,0,0,0,0,0,0,0,0,0,0,0,0,0,0,0,0,0,0,0,0,0,0,0,0,0,0,0,0,0,0,0,0,0,0,0,0,0,0,0,0,0,0,0,0,0,0,0,0,0,0,0,0,0,0,0,0,0,0,0,0,0,0,0,0,0,0,0,0,0,0,0,0,0,0,0,0,0,0,0,0,0,0,0,0,0,0,0,0,0,0,0,0,0,0,0,0,0,0,0,0,0,0,0,0,0,0,0,0,0,0,0,0,0,0,0,0,0,0,0,0,0,0,0,0,0,0,0,0,0,0,0,0,0,0,0,0,0,0,0,0,0,0,0,0,0,0,0,0,0,0,0,0,0,0,0,0,0,0,0,0,0,0,0,0,0,0,0,0,0,0,0,0,0,0,0,0,0,0,0,0,0,0,0,0,0,0,0,0,0,0,0,0,0,0,0,0,0,0,0,0,0,0,0,0,0,0,0,0,0,0,0,0,0,0,0,0,0,0,0,0,0,0,0,0,0,0,0,0,0,0,0,0,0,0,0,0,0,0,0,0,0,0,0,0,0,0,0,0,0,0,0,0,0,0,0,0,0,0,0,0,0,0,0,0,0,0,0,0,0,0,0,0,0,0,0,0,0,0,0,0,0,0,0,0,0,0,0,0,0,0,0,0,0,0,0,0,0,0,0,0,0,0,0,0,0,0,0,0,0,0,0,0,0,0,0,0,0,0,0,0,0,0,0,0,0,0,0,0,0,0,0,0,0,0,0,0,0,0,0,0,0,0,0,0,0,0,0,0,0,0,0,0,0,null,{"$f":"IF(gIsItPlan,IF(AND(System!Z14,System!AA14),1,0),IF(AND(System!Z14,System!AB14),1,0))","v":1}]
[null,{"$f":"IF($SS19,IF(E19=1,System!B15,\"   \"&System!B15),\"\")","v":"   Снос стен"},{"$f":"IF($SS19,IF(gIsItPlan,System!F15,System!I15),\"\")","v":"2014-05-16"},{"$f":"IF($SS19,IF(gIsItPlan,System!G15,System!J15),\"\")","v":"2014-05-22"},{"$f":"System!C15","v":2},{"$f":"System!L15","v":1},49,52,52,20,null,0,0,0,0,0,0,0,0,0,0,0,0,0,0,0,0,0,0,0,0,0,0,0,0,0,0,0,0,0,0,0,0,0,0,0,0,0,0,31,34,34,32,0,0,0,0,0,0,0,0,0,0,0,0,0,0,0,0,0,0,0,0,0,0,0,0,0,0,0,0,0,0,0,0,0,0,0,0,0,0,0,0,0,0,0,0,0,0,0,0,0,0,0,0,0,0,0,0,0,0,0,0,0,0,0,0,0,0,0,0,0,0,0,0,0,0,0,0,0,0,0,0,0,0,0,0,0,0,0,0,0,0,0,0,0,0,0,0,0,0,0,0,0,0,0,0,0,0,0,0,0,0,0,0,0,0,0,0,0,0,0,0,0,0,0,0,0,0,0,0,0,0,0,0,0,0,0,0,0,0,0,0,0,0,0,0,0,0,0,0,0,0,0,0,0,0,0,0,0,0,0,0,0,0,0,0,0,0,0,0,0,0,0,0,0,0,0,0,0,0,0,0,0,0,0,0,0,0,0,0,0,0,0,0,0,0,0,0,0,0,0,0,0,0,0,0,0,0,0,0,0,0,0,0,0,0,0,0,0,0,0,0,0,0,0,0,0,0,0,0,0,0,0,0,0,0,0,0,0,0,0,0,0,0,0,0,0,0,0,0,0,0,0,0,0,0,0,0,0,0,0,0,0,0,0,0,0,0,0,0,0,0,0,0,0,0,0,0,0,0,0,0,0,0,0,0,0,0,0,0,0,0,0,0,0,0,0,0,0,0,0,0,0,0,0,0,0,0,0,0,0,0,0,0,0,0,0,0,0,0,0,0,0,0,0,0,0,0,0,0,0,0,0,0,0,0,0,0,0,0,0,0,0,0,0,0,0,0,0,0,0,0,0,0,0,0,0,0,0,0,0,0,0,0,0,0,0,0,0,0,0,0,0,0,0,0,0,0,0,0,0,0,0,0,0,0,0,0,0,0,0,0,0,0,0,0,0,0,0,0,0,0,0,0,0,0,0,0,0,0,0,0,0,0,0,0,0,0,0,0,0,0,0,0,0,0,0,0,0,0,0,0,0,0,0,0,0,0,0,0,0,0,0,0,0,0,0,0,0,0,0,0,0,0,0,0,0,0,0,0,null,{"$f":"IF(gIsItPlan,IF(AND(System!Z15,System!AA15),1,0),IF(AND(System!Z15,System!AB15),1,0))","v":1}]
[null,{"$f":"IF($SS20,IF(E20=1,System!B16,\"   \"&System!B16),\"\")","v":"   Закупка материалов"},{"$f":"IF($SS20,IF(gIsItPlan,System!F16,System!I16),\"\")","v":"2014-05-23"},{"$f":"IF($SS20,IF(gIsItPlan,System!G16,System!J16),\"\")","v":"2014-06-01"},{"$f":"System!C16","v":2},{"$f":"System!L16","v":1},52,57,57,20,null,0,0,0,0,0,0,0,0,0,0,0,0,0,0,0,0,0,0,0,0,0,0,0,0,0,0,0,0,0,0,0,0,0,0,0,0,0,0,0,0,0,31,34,34,34,34,32,0,0,0,0,0,0,0,0,0,0,0,0,0,0,0,0,0,0,0,0,0,0,0,0,0,0,0,0,0,0,0,0,0,0,0,0,0,0,0,0,0,0,0,0,0,0,0,0,0,0,0,0,0,0,0,0,0,0,0,0,0,0,0,0,0,0,0,0,0,0,0,0,0,0,0,0,0,0,0,0,0,0,0,0,0,0,0,0,0,0,0,0,0,0,0,0,0,0,0,0,0,0,0,0,0,0,0,0,0,0,0,0,0,0,0,0,0,0,0,0,0,0,0,0,0,0,0,0,0,0,0,0,0,0,0,0,0,0,0,0,0,0,0,0,0,0,0,0,0,0,0,0,0,0,0,0,0,0,0,0,0,0,0,0,0,0,0,0,0,0,0,0,0,0,0,0,0,0,0,0,0,0,0,0,0,0,0,0,0,0,0,0,0,0,0,0,0,0,0,0,0,0,0,0,0,0,0,0,0,0,0,0,0,0,0,0,0,0,0,0,0,0,0,0,0,0,0,0,0,0,0,0,0,0,0,0,0,0,0,0,0,0,0,0,0,0,0,0,0,0,0,0,0,0,0,0,0,0,0,0,0,0,0,0,0,0,0,0,0,0,0,0,0,0,0,0,0,0,0,0,0,0,0,0,0,0,0,0,0,0,0,0,0,0,0,0,0,0,0,0,0,0,0,0,0,0,0,0,0,0,0,0,0,0,0,0,0,0,0,0,0,0,0,0,0,0,0,0,0,0,0,0,0,0,0,0,0,0,0,0,0,0,0,0,0,0,0,0,0,0,0,0,0,0,0,0,0,0,0,0,0,0,0,0,0,0,0,0,0,0,0,0,0,0,0,0,0,0,0,0,0,0,0,0,0,0,0,0,0,0,0,0,0,0,0,0,0,0,0,0,0,0,0,0,0,0,0,0,0,0,0,0,0,0,0,0,0,0,0,0,0,0,0,0,0,0,0,0,0,0,0,0,0,0,0,0,0,0,0,0,0,0,0,0,0,0,0,0,0,0,0,0,0,null,{"$f":"IF(gIsItPlan,IF(AND(System!Z16,System!AA16),1,0),IF(AND(System!Z16,System!AB16),1,0))","v":1}]
[null,{"$f":"IF($SS21,IF(E21=1,System!B17,\"   \"&System!B17),\"\")","v":"   Доставка материалов"},{"$f":"IF($SS21,IF(gIsItPlan,System!F17,System!I17),\"\")","v":"2014-06-02"},{"$f":"IF($SS21,IF(gIsItPlan,System!G17,System!J17),\"\")","v":"2014-06-03"},{"$f":"System!C17","v":2},{"$f":"System!L17","v":1},57,58,58,20,null,0,0,0,0,0,0,0,0,0,0,0,0,0,0,0,0,0,0,0,0,0,0,0,0,0,0,0,0,0,0,0,0,0,0,0,0,0,0,0,0,0,0,0,0,0,0,31,32,0,0,0,0,0,0,0,0,0,0,0,0,0,0,0,0,0,0,0,0,0,0,0,0,0,0,0,0,0,0,0,0,0,0,0,0,0,0,0,0,0,0,0,0,0,0,0,0,0,0,0,0,0,0,0,0,0,0,0,0,0,0,0,0,0,0,0,0,0,0,0,0,0,0,0,0,0,0,0,0,0,0,0,0,0,0,0,0,0,0,0,0,0,0,0,0,0,0,0,0,0,0,0,0,0,0,0,0,0,0,0,0,0,0,0,0,0,0,0,0,0,0,0,0,0,0,0,0,0,0,0,0,0,0,0,0,0,0,0,0,0,0,0,0,0,0,0,0,0,0,0,0,0,0,0,0,0,0,0,0,0,0,0,0,0,0,0,0,0,0,0,0,0,0,0,0,0,0,0,0,0,0,0,0,0,0,0,0,0,0,0,0,0,0,0,0,0,0,0,0,0,0,0,0,0,0,0,0,0,0,0,0,0,0,0,0,0,0,0,0,0,0,0,0,0,0,0,0,0,0,0,0,0,0,0,0,0,0,0,0,0,0,0,0,0,0,0,0,0,0,0,0,0,0,0,0,0,0,0,0,0,0,0,0,0,0,0,0,0,0,0,0,0,0,0,0,0,0,0,0,0,0,0,0,0,0,0,0,0,0,0,0,0,0,0,0,0,0,0,0,0,0,0,0,0,0,0,0,0,0,0,0,0,0,0,0,0,0,0,0,0,0,0,0,0,0,0,0,0,0,0,0,0,0,0,0,0,0,0,0,0,0,0,0,0,0,0,0,0,0,0,0,0,0,0,0,0,0,0,0,0,0,0,0,0,0,0,0,0,0,0,0,0,0,0,0,0,0,0,0,0,0,0,0,0,0,0,0,0,0,0,0,0,0,0,0,0,0,0,0,0,0,0,0,0,0,0,0,0,0,0,0,0,0,0,0,0,0,0,0,0,0,0,0,0,0,0,0,0,0,0,0,0,0,0,0,0,0,0,0,0,0,0,0,0,0,0,0,0,0,0,0,null,{"$f":"IF(gIsItPlan,IF(AND(System!Z17,System!AA17),1,0),IF(AND(System!Z17,System!AB17),1,0))","v":1}]
[null,{"$f":"IF($SS22,IF(E22=1,System!B18,\"   \"&System!B18),\"\")","v":"   Подготовка потолков"},{"$f":"IF($SS22,IF(gIsItPlan,System!F18,System!I18),\"\")","v":"2014-06-04"},{"$f":"IF($SS22,IF(gIsItPlan,System!G18,System!J18),\"\")","v":"2014-06-10"},{"$f":"System!C18","v":2},{"$f":"System!L18","v":1},58,61,61,20,null,0,0,0,0,0,0,0,0,0,0,0,0,0,0,0,0,0,0,0,0,0,0,0,0,0,0,0,0,0,0,0,0,0,0,0,0,0,0,0,0,0,0,0,0,0,0,0,31,34,34,32,0,0,0,0,0,0,0,0,0,0,0,0,0,0,0,0,0,0,0,0,0,0,0,0,0,0,0,0,0,0,0,0,0,0,0,0,0,0,0,0,0,0,0,0,0,0,0,0,0,0,0,0,0,0,0,0,0,0,0,0,0,0,0,0,0,0,0,0,0,0,0,0,0,0,0,0,0,0,0,0,0,0,0,0,0,0,0,0,0,0,0,0,0,0,0,0,0,0,0,0,0,0,0,0,0,0,0,0,0,0,0,0,0,0,0,0,0,0,0,0,0,0,0,0,0,0,0,0,0,0,0,0,0,0,0,0,0,0,0,0,0,0,0,0,0,0,0,0,0,0,0,0,0,0,0,0,0,0,0,0,0,0,0,0,0,0,0,0,0,0,0,0,0,0,0,0,0,0,0,0,0,0,0,0,0,0,0,0,0,0,0,0,0,0,0,0,0,0,0,0,0,0,0,0,0,0,0,0,0,0,0,0,0,0,0,0,0,0,0,0,0,0,0,0,0,0,0,0,0,0,0,0,0,0,0,0,0,0,0,0,0,0,0,0,0,0,0,0,0,0,0,0,0,0,0,0,0,0,0,0,0,0,0,0,0,0,0,0,0,0,0,0,0,0,0,0,0,0,0,0,0,0,0,0,0,0,0,0,0,0,0,0,0,0,0,0,0,0,0,0,0,0,0,0,0,0,0,0,0,0,0,0,0,0,0,0,0,0,0,0,0,0,0,0,0,0,0,0,0,0,0,0,0,0,0,0,0,0,0,0,0,0,0,0,0,0,0,0,0,0,0,0,0,0,0,0,0,0,0,0,0,0,0,0,0,0,0,0,0,0,0,0,0,0,0,0,0,0,0,0,0,0,0,0,0,0,0,0,0,0,0,0,0,0,0,0,0,0,0,0,0,0,0,0,0,0,0,0,0,0,0,0,0,0,0,0,0,0,0,0,0,0,0,0,0,0,0,0,0,0,0,0,0,0,0,0,0,0,0,0,0,0,0,0,0,0,0,0,0,null,{"$f":"IF(gIsItPlan,IF(AND(System!Z18,System!AA18),1,0),IF(AND(System!Z18,System!AB18),1,0))","v":1}]
[null,{"$f":"IF($SS23,IF(E23=1,System!B19,\"   \"&System!B19),\"\")","v":"   Подготовка стен"},{"$f":"IF($SS23,IF(gIsItPlan,System!F19,System!I19),\"\")","v":"2014-06-11"},{"$f":"IF($SS23,IF(gIsItPlan,System!G19,System!J19),\"\")","v":"2014-06-20"},{"$f":"System!C19","v":2},{"$f":"System!L19","v":1},62,66,66,20,null,0,0,0,0,0,0,0,0,0,0,0,0,0,0,0,0,0,0,0,0,0,0,0,0,0,0,0,0,0,0,0,0,0,0,0,0,0,0,0,0,0,0,0,0,0,0,0,0,0,0,0,31,34,34,34,32,0,0,0,0,0,0,0,0,0,0,0,0,0,0,0,0,0,0,0,0,0,0,0,0,0,0,0,0,0,0,0,0,0,0,0,0,0,0,0,0,0,0,0,0,0,0,0,0,0,0,0,0,0,0,0,0,0,0,0,0,0,0,0,0,0,0,0,0,0,0,0,0,0,0,0,0,0,0,0,0,0,0,0,0,0,0,0,0,0,0,0,0,0,0,0,0,0,0,0,0,0,0,0,0,0,0,0,0,0,0,0,0,0,0,0,0,0,0,0,0,0,0,0,0,0,0,0,0,0,0,0,0,0,0,0,0,0,0,0,0,0,0,0,0,0,0,0,0,0,0,0,0,0,0,0,0,0,0,0,0,0,0,0,0,0,0,0,0,0,0,0,0,0,0,0,0,0,0,0,0,0,0,0,0,0,0,0,0,0,0,0,0,0,0,0,0,0,0,0,0,0,0,0,0,0,0,0,0,0,0,0,0,0,0,0,0,0,0,0,0,0,0,0,0,0,0,0,0,0,0,0,0,0,0,0,0,0,0,0,0,0,0,0,0,0,0,0,0,0,0,0,0,0,0,0,0,0,0,0,0,0,0,0,0,0,0,0,0,0,0,0,0,0,0,0,0,0,0,0,0,0,0,0,0,0,0,0,0,0,0,0,0,0,0,0,0,0,0,0,0,0,0,0,0,0,0,0,0,0,0,0,0,0,0,0,0,0,0,0,0,0,0,0,0,0,0,0,0,0,0,0,0,0,0,0,0,0,0,0,0,0,0,0,0,0,0,0,0,0,0,0,0,0,0,0,0,0,0,0,0,0,0,0,0,0,0,0,0,0,0,0,0,0,0,0,0,0,0,0,0,0,0,0,0,0,0,0,0,0,0,0,0,0,0,0,0,0,0,0,0,0,0,0,0,0,0,0,0,0,0,0,0,0,0,0,0,0,0,0,0,0,0,0,0,0,0,0,0,0,0,0,0,0,0,0,0,0,0,0,0,0,0,0,0,null,{"$f":"IF(gIsItPlan,IF(AND(System!Z19,System!AA19),1,0),IF(AND(System!Z19,System!AB19),1,0))","v":1}]
[null,{"$f":"IF($SS24,IF(E24=1,System!B20,\"   \"&System!B20),\"\")","v":"   Монтаж окон"},{"$f":"IF($SS24,IF(gIsItPlan,System!F20,System!I20),\"\")","v":"2014-06-21"},{"$f":"IF($SS24,IF(gIsItPlan,System!G20,System!J20),\"\")","v":"2014-06-22"},{"$f":"System!C20","v":2},{"$f":"System!L20","v":1},67,67,67,20,null,0,0,0,0,0,0,0,0,0,0,0,0,0,0,0,0,0,0,0,0,0,0,0,0,0,0,0,0,0,0,0,0,0,0,0,0,0,0,0,0,0,0,0,0,0,0,0,0,0,0,0,0,0,0,0,0,33,0,0,0,0,0,0,0,0,0,0,0,0,0,0,0,0,0,0,0,0,0,0,0,0,0,0,0,0,0,0,0,0,0,0,0,0,0,0,0,0,0,0,0,0,0,0,0,0,0,0,0,0,0,0,0,0,0,0,0,0,0,0,0,0,0,0,0,0,0,0,0,0,0,0,0,0,0,0,0,0,0,0,0,0,0,0,0,0,0,0,0,0,0,0,0,0,0,0,0,0,0,0,0,0,0,0,0,0,0,0,0,0,0,0,0,0,0,0,0,0,0,0,0,0,0,0,0,0,0,0,0,0,0,0,0,0,0,0,0,0,0,0,0,0,0,0,0,0,0,0,0,0,0,0,0,0,0,0,0,0,0,0,0,0,0,0,0,0,0,0,0,0,0,0,0,0,0,0,0,0,0,0,0,0,0,0,0,0,0,0,0,0,0,0,0,0,0,0,0,0,0,0,0,0,0,0,0,0,0,0,0,0,0,0,0,0,0,0,0,0,0,0,0,0,0,0,0,0,0,0,0,0,0,0,0,0,0,0,0,0,0,0,0,0,0,0,0,0,0,0,0,0,0,0,0,0,0,0,0,0,0,0,0,0,0,0,0,0,0,0,0,0,0,0,0,0,0,0,0,0,0,0,0,0,0,0,0,0,0,0,0,0,0,0,0,0,0,0,0,0,0,0,0,0,0,0,0,0,0,0,0,0,0,0,0,0,0,0,0,0,0,0,0,0,0,0,0,0,0,0,0,0,0,0,0,0,0,0,0,0,0,0,0,0,0,0,0,0,0,0,0,0,0,0,0,0,0,0,0,0,0,0,0,0,0,0,0,0,0,0,0,0,0,0,0,0,0,0,0,0,0,0,0,0,0,0,0,0,0,0,0,0,0,0,0,0,0,0,0,0,0,0,0,0,0,0,0,0,0,0,0,0,0,0,0,0,0,0,0,0,0,0,0,0,0,0,0,0,0,0,0,0,0,0,0,0,0,0,0,0,0,0,0,null,{"$f":"IF(gIsItPlan,IF(AND(System!Z20,System!AA20),1,0),IF(AND(System!Z20,System!AB20),1,0))","v":1}]
[null,{"$f":"IF($SS25,IF(E25=1,System!B21,\"   \"&System!B21),\"\")","v":"   Монтаж дверей"},{"$f":"IF($SS25,IF(gIsItPlan,System!F21,System!I21),\"\")","v":"2014-06-22"},{"$f":"IF($SS25,IF(gIsItPlan,System!G21,System!J21),\"\")","v":"2014-06-23"},{"$f":"System!C21","v":2},{"$f":"System!L21","v":1},67,68,68,20,null,0,0,0,0,0,0,0,0,0,0,0,0,0,0,0,0,0,0,0,0,0,0,0,0,0,0,0,0,0,0,0,0,0,0,0,0,0,0,0,0,0,0,0,0,0,0,0,0,0,0,0,0,0,0,0,0,31,32,0,0,0,0,0,0,0,0,0,0,0,0,0,0,0,0,0,0,0,0,0,0,0,0,0,0,0,0,0,0,0,0,0,0,0,0,0,0,0,0,0,0,0,0,0,0,0,0,0,0,0,0,0,0,0,0,0,0,0,0,0,0,0,0,0,0,0,0,0,0,0,0,0,0,0,0,0,0,0,0,0,0,0,0,0,0,0,0,0,0,0,0,0,0,0,0,0,0,0,0,0,0,0,0,0,0,0,0,0,0,0,0,0,0,0,0,0,0,0,0,0,0,0,0,0,0,0,0,0,0,0,0,0,0,0,0,0,0,0,0,0,0,0,0,0,0,0,0,0,0,0,0,0,0,0,0,0,0,0,0,0,0,0,0,0,0,0,0,0,0,0,0,0,0,0,0,0,0,0,0,0,0,0,0,0,0,0,0,0,0,0,0,0,0,0,0,0,0,0,0,0,0,0,0,0,0,0,0,0,0,0,0,0,0,0,0,0,0,0,0,0,0,0,0,0,0,0,0,0,0,0,0,0,0,0,0,0,0,0,0,0,0,0,0,0,0,0,0,0,0,0,0,0,0,0,0,0,0,0,0,0,0,0,0,0,0,0,0,0,0,0,0,0,0,0,0,0,0,0,0,0,0,0,0,0,0,0,0,0,0,0,0,0,0,0,0,0,0,0,0,0,0,0,0,0,0,0,0,0,0,0,0,0,0,0,0,0,0,0,0,0,0,0,0,0,0,0,0,0,0,0,0,0,0,0,0,0,0,0,0,0,0,0,0,0,0,0,0,0,0,0,0,0,0,0,0,0,0,0,0,0,0,0,0,0,0,0,0,0,0,0,0,0,0,0,0,0,0,0,0,0,0,0,0,0,0,0,0,0,0,0,0,0,0,0,0,0,0,0,0,0,0,0,0,0,0,0,0,0,0,0,0,0,0,0,0,0,0,0,0,0,0,0,0,0,0,0,0,0,0,0,0,0,0,0,0,0,0,0,0,0,0,null,{"$f":"IF(gIsItPlan,IF(AND(System!Z21,System!AA21),1,0),IF(AND(System!Z21,System!AB21),1,0))","v":1}]
[null,{"$f":"IF($SS26,IF(E26=1,System!B22,\"   \"&System!B22),\"\")","v":"   Подготовка пола"},{"$f":"IF($SS26,IF(gIsItPlan,System!F22,System!I22),\"\")","v":"2014-06-22"},{"$f":"IF($SS26,IF(gIsItPlan,System!G22,System!J22),\"\")","v":"2014-07-05"},{"$f":"System!C22","v":2},{"$f":"System!L22","v":1},67,74,74,20,null,0,0,0,0,0,0,0,0,0,0,0,0,0,0,0,0,0,0,0,0,0,0,0,0,0,0,0,0,0,0,0,0,0,0,0,0,0,0,0,0,0,0,0,0,0,0,0,0,0,0,0,0,0,0,0,0,31,34,34,34,34,34,34,32,0,0,0,0,0,0,0,0,0,0,0,0,0,0,0,0,0,0,0,0,0,0,0,0,0,0,0,0,0,0,0,0,0,0,0,0,0,0,0,0,0,0,0,0,0,0,0,0,0,0,0,0,0,0,0,0,0,0,0,0,0,0,0,0,0,0,0,0,0,0,0,0,0,0,0,0,0,0,0,0,0,0,0,0,0,0,0,0,0,0,0,0,0,0,0,0,0,0,0,0,0,0,0,0,0,0,0,0,0,0,0,0,0,0,0,0,0,0,0,0,0,0,0,0,0,0,0,0,0,0,0,0,0,0,0,0,0,0,0,0,0,0,0,0,0,0,0,0,0,0,0,0,0,0,0,0,0,0,0,0,0,0,0,0,0,0,0,0,0,0,0,0,0,0,0,0,0,0,0,0,0,0,0,0,0,0,0,0,0,0,0,0,0,0,0,0,0,0,0,0,0,0,0,0,0,0,0,0,0,0,0,0,0,0,0,0,0,0,0,0,0,0,0,0,0,0,0,0,0,0,0,0,0,0,0,0,0,0,0,0,0,0,0,0,0,0,0,0,0,0,0,0,0,0,0,0,0,0,0,0,0,0,0,0,0,0,0,0,0,0,0,0,0,0,0,0,0,0,0,0,0,0,0,0,0,0,0,0,0,0,0,0,0,0,0,0,0,0,0,0,0,0,0,0,0,0,0,0,0,0,0,0,0,0,0,0,0,0,0,0,0,0,0,0,0,0,0,0,0,0,0,0,0,0,0,0,0,0,0,0,0,0,0,0,0,0,0,0,0,0,0,0,0,0,0,0,0,0,0,0,0,0,0,0,0,0,0,0,0,0,0,0,0,0,0,0,0,0,0,0,0,0,0,0,0,0,0,0,0,0,0,0,0,0,0,0,0,0,0,0,{"$f":"IF(RH$1>$I26,0,\n  IF(RH$1<$G26,0,\n  IF(AND(RH$1>$G26,RH$1<$H26),14+$J26,\n  IF(AND(RH$1>$H26,RH$1<$I26),4+$J26,\n  IF(AND(RH$1=$G26,RH$1<>$H26,RH$1<>$I26),11+$J26,\n  IF(AND(RH$1<>$G26,RH$1=$H26,RH$1<>$I26),12+$J26,\n  IF(AND(RH$1<>$G26,RH$1<>$H26,RH$1=$I26),2+$J26,\n  IF(AND(RH$1=$G26,RH$1=$H26,RH$1<>$I26,$F26<>0),13+$J26,\n  IF(AND(RH$1=$G26,RH$1=$H26,RH$1<>$I26,$F26=0),1+$J26,\n  IF(AND(RH$1<>$G26,RH$1=$H26,RH$1=$I26),12+$J26,\n  IF(AND(RH$1=$G26,RH$1=$H26,RH$1=$I26,$F26<=0.5),3+$J26,13+$J26)))))))))))","v":0},0,0,0,0,0,0,0,0,0,0,0,0,0,0,0,0,0,0,0,0,0,0,0,0,0,0,0,0,0,0,0,{"$f":"IF(SN$1>$I26,0,\n  IF(SN$1<$G26,0,\n  IF(AND(SN$1>$G26,SN$1<$H26),14+$J26,\n  IF(AND(SN$1>$H26,SN$1<$I26),4+$J26,\n  IF(AND(SN$1=$G26,SN$1<>$H26,SN$1<>$I26),11+$J26,\n  IF(AND(SN$1<>$G26,SN$1=$H26,SN$1<>$I26),12+$J26,\n  IF(AND(SN$1<>$G26,SN$1<>$H26,SN$1=$I26),2+$J26,\n  IF(AND(SN$1=$G26,SN$1=$H26,SN$1<>$I26,$F26<>0),13+$J26,\n  IF(AND(SN$1=$G26,SN$1=$H26,SN$1<>$I26,$F26=0),1+$J26,\n  IF(AND(SN$1<>$G26,SN$1=$H26,SN$1=$I26),12+$J26,\n  IF(AND(SN$1=$G26,SN$1=$H26,SN$1=$I26,$F26<=0.5),3+$J26,13+$J26)))))))))))","v":0},0,0,0,null,{"$f":"IF(gIsItPlan,IF(AND(System!Z22,System!AA22),1,0),IF(AND(System!Z22,System!AB22),1,0))","v":1}]
[null,{"$f":"IF($SS27,IF(E27=1,System!B23,\"   \"&System!B23),\"\")","v":"   Контроль качества"},{"$f":"IF($SS27,IF(gIsItPlan,System!F23,System!I23),\"\")","v":"2014-07-06"},{"$f":"IF($SS27,IF(gIsItPlan,System!G23,System!J23),\"\")","v":"2014-07-06"},{"$f":"System!C23","v":2},{"$f":"System!L23","v":1},74,74,74,20,null,0,0,0,0,0,0,0,0,0,0,0,0,0,0,0,0,0,0,0,0,0,0,0,0,0,0,0,0,0,0,0,0,0,0,0,0,0,0,0,0,0,0,0,0,0,0,0,0,0,0,0,0,0,0,0,0,0,0,0,0,0,0,0,33,0,0,0,0,0,0,0,0,0,0,0,0,0,0,0,0,0,0,0,0,0,0,0,0,0,0,0,0,0,0,0,0,0,0,0,0,0,0,0,0,0,0,0,0,0,0,0,0,0,0,0,0,0,0,0,0,0,0,0,0,0,0,0,0,0,0,0,0,0,0,0,0,0,0,0,0,0,0,0,0,0,0,0,0,0,0,0,0,0,0,0,0,0,0,0,0,0,0,0,0,0,0,0,0,0,0,0,0,0,0,0,0,0,0,0,0,0,0,0,0,0,0,0,0,0,0,0,0,0,0,0,0,0,0,0,0,0,0,0,0,0,0,0,0,0,0,0,0,0,0,0,0,0,0,0,0,0,0,0,0,0,0,0,0,0,0,0,0,0,0,0,0,0,0,0,0,0,0,0,0,0,0,0,0,0,0,0,0,0,0,0,0,0,0,0,0,0,0,0,0,0,0,0,0,0,0,0,0,0,0,0,0,0,0,0,0,0,0,0,0,0,0,0,0,0,0,0,0,0,0,0,0,0,0,0,0,0,0,0,0,0,0,0,0,0,0,0,0,0,0,0,0,0,0,0,0,0,0,0,0,0,0,0,0,0,0,0,0,0,0,0,0,0,0,0,0,0,0,0,0,0,0,0,0,0,0,0,0,0,0,0,0,0,0,0,0,0,0,0,0,0,0,0,0,0,0,0,0,0,0,0,0,0,0,0,0,0,0,0,0,0,0,0,0,0,0,0,0,0,0,0,0,0,0,0,0,0,0,0,0,0,0,0,0,0,0,0,0,0,0,0,0,0,0,0,0,0,0,0,0,0,0,0,0,0,0,0,0,0,0,0,0,0,0,0,0,0,0,0,0,0,0,0,0,0,0,0,0,0,0,0,0,0,0,0,0,0,0,0,{"$f":"IF(RG$1>$I27,0,\n  IF(RG$1<$G27,0,\n  IF(AND(RG$1>$G27,RG$1<$H27),14+$J27,\n  IF(AND(RG$1>$H27,RG$1<$I27),4+$J27,\n  IF(AND(RG$1=$G27,RG$1<>$H27,RG$1<>$I27),11+$J27,\n  IF(AND(RG$1<>$G27,RG$1=$H27,RG$1<>$I27),12+$J27,\n  IF(AND(RG$1<>$G27,RG$1<>$H27,RG$1=$I27),2+$J27,\n  IF(AND(RG$1=$G27,RG$1=$H27,RG$1<>$I27,$F27<>0),13+$J27,\n  IF(AND(RG$1=$G27,RG$1=$H27,RG$1<>$I27,$F27=0),1+$J27,\n  IF(AND(RG$1<>$G27,RG$1=$H27,RG$1=$I27),12+$J27,\n  IF(AND(RG$1=$G27,RG$1=$H27,RG$1=$I27,$F27<=0.5),3+$J27,13+$J27)))))))))))","v":0},0,0,0,0,0,0,0,0,0,0,0,0,0,0,0,0,0,{"$f":"IF(RY$1>$I27,0,\n  IF(RY$1<$G27,0,\n  IF(AND(RY$1>$G27,RY$1<$H27),14+$J27,\n  IF(AND(RY$1>$H27,RY$1<$I27),4+$J27,\n  IF(AND(RY$1=$G27,RY$1<>$H27,RY$1<>$I27),11+$J27,\n  IF(AND(RY$1<>$G27,RY$1=$H27,RY$1<>$I27),12+$J27,\n  IF(AND(RY$1<>$G27,RY$1<>$H27,RY$1=$I27),2+$J27,\n  IF(AND(RY$1=$G27,RY$1=$H27,RY$1<>$I27,$F27<>0),13+$J27,\n  IF(AND(RY$1=$G27,RY$1=$H27,RY$1<>$I27,$F27=0),1+$J27,\n  IF(AND(RY$1<>$G27,RY$1=$H27,RY$1=$I27),12+$J27,\n  IF(AND(RY$1=$G27,RY$1=$H27,RY$1=$I27,$F27<=0.5),3+$J27,13+$J27)))))))))))","v":0},0,0,0,0,0,0,0,0,0,0,0,0,0,0,0,0,0,0,null,{"$f":"IF(gIsItPlan,IF(AND(System!Z23,System!AA23),1,0),IF(AND(System!Z23,System!AB23),1,0))","v":1}]
[null,{"$f":"IF($SS28,IF(E28=1,System!B24,\"   \"&System!B24),\"\")","v":"   Потолочные конструкции"},{"$f":"IF($SS28,IF(gIsItPlan,System!F24,System!I24),\"\")","v":"2014-07-07"},{"$f":"IF($SS28,IF(gIsItPlan,System!G24,System!J24),\"\")","v":"2014-07-11"},{"$f":"System!C24","v":2},{"$f":"System!L24","v":0.8},75,77,77,20,null,0,0,0,0,0,0,0,0,0,0,0,0,0,0,0,0,0,0,0,0,0,0,0,0,0,0,0,0,0,0,0,0,0,0,0,0,0,0,0,0,0,0,0,0,0,0,0,0,0,0,0,0,0,0,0,0,0,0,0,0,0,0,0,0,31,34,32,0,0,0,0,0,0,0,0,0,0,0,0,0,0,0,0,0,0,0,0,0,0,0,0,0,0,0,0,0,0,0,0,0,0,0,0,0,0,0,0,0,0,0,0,0,0,0,0,0,0,0,0,0,0,0,0,0,0,0,0,0,0,0,0,0,0,0,0,0,0,0,0,0,0,0,0,0,0,0,0,0,0,0,0,0,0,0,0,0,0,0,0,0,0,0,0,0,0,0,0,0,0,0,0,0,0,0,0,0,0,0,0,0,0,0,0,0,0,0,0,0,0,0,0,0,0,0,0,0,0,0,0,0,0,0,0,0,0,0,0,0,0,0,0,0,0,0,0,0,0,0,0,0,0,0,0,0,0,0,0,0,0,0,0,0,0,0,0,0,0,0,0,0,0,0,0,0,0,0,0,0,0,0,0,0,0,0,0,0,0,0,0,0,0,0,0,0,0,0,0,0,0,0,0,0,0,0,0,0,0,0,0,0,0,0,0,0,0,0,0,0,0,0,0,0,0,0,0,0,0,0,0,0,0,0,0,0,0,0,0,0,0,0,0,0,0,0,0,0,0,0,0,0,0,0,0,0,0,0,0,0,0,0,0,0,0,0,0,0,0,0,0,0,0,0,0,0,0,0,0,0,0,0,0,0,0,0,0,0,0,0,0,0,0,0,0,0,0,0,0,0,0,0,0,0,0,0,0,0,0,0,0,0,0,0,0,0,0,0,0,0,0,0,0,0,0,0,0,0,0,0,0,0,0,0,0,0,0,0,0,0,0,0,0,0,0,0,0,0,0,0,0,0,0,0,0,0,0,0,0,0,0,0,0,0,0,0,0,0,0,0,0,0,0,0,0,0,0,0,0,0,0,0,0,0,0,0,0,0,0,0,0,0,0,0,0,0,0,0,0,0,0,0,0,0,0,0,0,0,0,0,0,0,0,0,0,0,0,0,0,0,0,0,0,0,0,0,0,0,0,0,0,0,null,{"$f":"IF(gIsItPlan,IF(AND(System!Z24,System!AA24),1,0),IF(AND(System!Z24,System!AB24),1,0))","v":1}]
[null,{"$f":"IF($SS29,IF(E29=1,System!B25,\"   \"&System!B25),\"\")","v":"   Стеновые конструкции"},{"$f":"IF($SS29,IF(gIsItPlan,System!F25,System!I25),\"\")","v":"2014-07-12"},{"$f":"IF($SS29,IF(gIsItPlan,System!G25,System!J25),\"\")","v":"2014-07-18"},{"$f":"System!C25","v":2},{"$f":"System!L25","v":0.5},77,78,80,20,null,0,0,0,0,0,0,0,0,{"$f":"IF(T$1>$I29,0,\n  IF(T$1<$G29,0,\n  IF(AND(T$1>$G29,T$1<$H29),14+$J29,\n  IF(AND(T$1>$H29,T$1<$I29),4+$J29,\n  IF(AND(T$1=$G29,T$1<>$H29,T$1<>$I29),11+$J29,\n  IF(AND(T$1<>$G29,T$1=$H29,T$1<>$I29),12+$J29,\n  IF(AND(T$1<>$G29,T$1<>$H29,T$1=$I29),2+$J29,\n  IF(AND(T$1=$G29,T$1=$H29,T$1<>$I29,$F29<>0),13+$J29,\n  IF(AND(T$1=$G29,T$1=$H29,T$1<>$I29,$F29=0),1+$J29,\n  IF(AND(T$1<>$G29,T$1=$H29,T$1=$I29),12+$J29,\n  IF(AND(T$1=$G29,T$1=$H29,T$1=$I29,$F29<=0.5),3+$J29,13+$J29)))))))))))","v":0},0,0,0,0,0,0,0,0,0,0,0,0,0,0,0,0,0,0,0,0,0,0,0,0,0,0,0,0,0,0,0,0,0,0,0,0,0,0,{"$f":"IF(BG$1>$I29,0,\n  IF(BG$1<$G29,0,\n  IF(AND(BG$1>$G29,BG$1<$H29),14+$J29,\n  IF(AND(BG$1>$H29,BG$1<$I29),4+$J29,\n  IF(AND(BG$1=$G29,BG$1<>$H29,BG$1<>$I29),11+$J29,\n  IF(AND(BG$1<>$G29,BG$1=$H29,BG$1<>$I29),12+$J29,\n  IF(AND(BG$1<>$G29,BG$1<>$H29,BG$1=$I29),2+$J29,\n  IF(AND(BG$1=$G29,BG$1=$H29,BG$1<>$I29,$F29<>0),13+$J29,\n  IF(AND(BG$1=$G29,BG$1=$H29,BG$1<>$I29,$F29=0),1+$J29,\n  IF(AND(BG$1<>$G29,BG$1=$H29,BG$1=$I29),12+$J29,\n  IF(AND(BG$1=$G29,BG$1=$H29,BG$1=$I29,$F29<=0.5),3+$J29,13+$J29)))))))))))","v":0},0,0,0,0,0,0,0,0,0,0,0,0,0,0,0,0,0,0,31,32,24,22,0,0,0,0,0,0,0,0,0,0,0,0,0,0,0,0,0,0,0,0,0,0,0,0,{"$f":"IF(DB$1>$I29,0,\n  IF(DB$1<$G29,0,\n  IF(AND(DB$1>$G29,DB$1<$H29),14+$J29,\n  IF(AND(DB$1>$H29,DB$1<$I29),4+$J29,\n  IF(AND(DB$1=$G29,DB$1<>$H29,DB$1<>$I29),11+$J29,\n  IF(AND(DB$1<>$G29,DB$1=$H29,DB$1<>$I29),12+$J29,\n  IF(AND(DB$1<>$G29,DB$1<>$H29,DB$1=$I29),2+$J29,\n  IF(AND(DB$1=$G29,DB$1=$H29,DB$1<>$I29,$F29<>0),13+$J29,\n  IF(AND(DB$1=$G29,DB$1=$H29,DB$1<>$I29,$F29=0),1+$J29,\n  IF(AND(DB$1<>$G29,DB$1=$H29,DB$1=$I29),12+$J29,\n  IF(AND(DB$1=$G29,DB$1=$H29,DB$1=$I29,$F29<=0.5),3+$J29,13+$J29)))))))))))","v":0},0,0,0,0,0,0,0,0,0,0,0,0,0,0,0,0,0,0,0,0,0,0,0,0,0,0,0,0,0,0,0,{"$f":"IF(EH$1>$I29,0,\n  IF(EH$1<$G29,0,\n  IF(AND(EH$1>$G29,EH$1<$H29),14+$J29,\n  IF(AND(EH$1>$H29,EH$1<$I29),4+$J29,\n  IF(AND(EH$1=$G29,EH$1<>$H29,EH$1<>$I29),11+$J29,\n  IF(AND(EH$1<>$G29,EH$1=$H29,EH$1<>$I29),12+$J29,\n  IF(AND(EH$1<>$G29,EH$1<>$H29,EH$1=$I29),2+$J29,\n  IF(AND(EH$1=$G29,EH$1=$H29,EH$1<>$I29,$F29<>0),13+$J29,\n  IF(AND(EH$1=$G29,EH$1=$H29,EH$1<>$I29,$F29=0),1+$J29,\n  IF(AND(EH$1<>$G29,EH$1=$H29,EH$1=$I29),12+$J29,\n  IF(AND(EH$1=$G29,EH$1=$H29,EH$1=$I29,$F29<=0.5),3+$J29,13+$J29)))))))))))","v":0},0,0,0,0,0,0,0,0,0,0,0,0,0,0,0,{"$f":"IF(EX$1>$I29,0,\n  IF(EX$1<$G29,0,\n  IF(AND(EX$1>$G29,EX$1<$H29),14+$J29,\n  IF(AND(EX$1>$H29,EX$1<$I29),4+$J29,\n  IF(AND(EX$1=$G29,EX$1<>$H29,EX$1<>$I29),11+$J29,\n  IF(AND(EX$1<>$G29,EX$1=$H29,EX$1<>$I29),12+$J29,\n  IF(AND(EX$1<>$G29,EX$1<>$H29,EX$1=$I29),2+$J29,\n  IF(AND(EX$1=$G29,EX$1=$H29,EX$1<>$I29,$F29<>0),13+$J29,\n  IF(AND(EX$1=$G29,EX$1=$H29,EX$1<>$I29,$F29=0),1+$J29,\n  IF(AND(EX$1<>$G29,EX$1=$H29,EX$1=$I29),12+$J29,\n  IF(AND(EX$1=$G29,EX$1=$H29,EX$1=$I29,$F29<=0.5),3+$J29,13+$J29)))))))))))","v":0},0,0,0,0,0,0,0,0,0,0,0,0,0,0,0,0,0,0,0,0,0,0,0,0,0,0,0,0,0,0,0,{"$f":"IF(GD$1>$I29,0,\n  IF(GD$1<$G29,0,\n  IF(AND(GD$1>$G29,GD$1<$H29),14+$J29,\n  IF(AND(GD$1>$H29,GD$1<$I29),4+$J29,\n  IF(AND(GD$1=$G29,GD$1<>$H29,GD$1<>$I29),11+$J29,\n  IF(AND(GD$1<>$G29,GD$1=$H29,GD$1<>$I29),12+$J29,\n  IF(AND(GD$1<>$G29,GD$1<>$H29,GD$1=$I29),2+$J29,\n  IF(AND(GD$1=$G29,GD$1=$H29,GD$1<>$I29,$F29<>0),13+$J29,\n  IF(AND(GD$1=$G29,GD$1=$H29,GD$1<>$I29,$F29=0),1+$J29,\n  IF(AND(GD$1<>$G29,GD$1=$H29,GD$1=$I29),12+$J29,\n  IF(AND(GD$1=$G29,GD$1=$H29,GD$1=$I29,$F29<=0.5),3+$J29,13+$J29)))))))))))","v":0},0,0,0,0,0,0,0,0,0,0,0,0,0,0,0,0,0,0,0,0,0,0,0,0,0,0,0,0,0,{"$f":"IF(HH$1>$I29,0,\n  IF(HH$1<$G29,0,\n  IF(AND(HH$1>$G29,HH$1<$H29),14+$J29,\n  IF(AND(HH$1>$H29,HH$1<$I29),4+$J29,\n  IF(AND(HH$1=$G29,HH$1<>$H29,HH$1<>$I29),11+$J29,\n  IF(AND(HH$1<>$G29,HH$1=$H29,HH$1<>$I29),12+$J29,\n  IF(AND(HH$1<>$G29,HH$1<>$H29,HH$1=$I29),2+$J29,\n  IF(AND(HH$1=$G29,HH$1=$H29,HH$1<>$I29,$F29<>0),13+$J29,\n  IF(AND(HH$1=$G29,HH$1=$H29,HH$1<>$I29,$F29=0),1+$J29,\n  IF(AND(HH$1<>$G29,HH$1=$H29,HH$1=$I29),12+$J29,\n  IF(AND(HH$1=$G29,HH$1=$H29,HH$1=$I29,$F29<=0.5),3+$J29,13+$J29)))))))))))","v":0},0,0,0,0,0,0,0,0,0,0,0,0,0,0,0,0,0,0,0,0,0,0,0,0,0,0,0,0,0,0,0,0,0,{"$f":"IF(IP$1>$I29,0,\n  IF(IP$1<$G29,0,\n  IF(AND(IP$1>$G29,IP$1<$H29),14+$J29,\n  IF(AND(IP$1>$H29,IP$1<$I29),4+$J29,\n  IF(AND(IP$1=$G29,IP$1<>$H29,IP$1<>$I29),11+$J29,\n  IF(AND(IP$1<>$G29,IP$1=$H29,IP$1<>$I29),12+$J29,\n  IF(AND(IP$1<>$G29,IP$1<>$H29,IP$1=$I29),2+$J29,\n  IF(AND(IP$1=$G29,IP$1=$H29,IP$1<>$I29,$F29<>0),13+$J29,\n  IF(AND(IP$1=$G29,IP$1=$H29,IP$1<>$I29,$F29=0),1+$J29,\n  IF(AND(IP$1<>$G29,IP$1=$H29,IP$1=$I29),12+$J29,\n  IF(AND(IP$1=$G29,IP$1=$H29,IP$1=$I29,$F29<=0.5),3+$J29,13+$J29)))))))))))","v":0},0,0,0,0,0,0,0,0,0,0,0,0,0,0,0,0,0,0,0,0,0,0,0,0,0,0,0,0,0,{"$f":"IF(JT$1>$I29,0,\n  IF(JT$1<$G29,0,\n  IF(AND(JT$1>$G29,JT$1<$H29),14+$J29,\n  IF(AND(JT$1>$H29,JT$1<$I29),4+$J29,\n  IF(AND(JT$1=$G29,JT$1<>$H29,JT$1<>$I29),11+$J29,\n  IF(AND(JT$1<>$G29,JT$1=$H29,JT$1<>$I29),12+$J29,\n  IF(AND(JT$1<>$G29,JT$1<>$H29,JT$1=$I29),2+$J29,\n  IF(AND(JT$1=$G29,JT$1=$H29,JT$1<>$I29,$F29<>0),13+$J29,\n  IF(AND(JT$1=$G29,JT$1=$H29,JT$1<>$I29,$F29=0),1+$J29,\n  IF(AND(JT$1<>$G29,JT$1=$H29,JT$1=$I29),12+$J29,\n  IF(AND(JT$1=$G29,JT$1=$H29,JT$1=$I29,$F29<=0.5),3+$J29,13+$J29)))))))))))","v":0},0,0,0,0,0,0,0,0,0,0,0,0,0,0,0,0,0,0,0,0,0,0,0,0,0,0,0,0,0,0,0,0,0,{"$f":"IF(LB$1>$I29,0,\n  IF(LB$1<$G29,0,\n  IF(AND(LB$1>$G29,LB$1<$H29),14+$J29,\n  IF(AND(LB$1>$H29,LB$1<$I29),4+$J29,\n  IF(AND(LB$1=$G29,LB$1<>$H29,LB$1<>$I29),11+$J29,\n  IF(AND(LB$1<>$G29,LB$1=$H29,LB$1<>$I29),12+$J29,\n  IF(AND(LB$1<>$G29,LB$1<>$H29,LB$1=$I29),2+$J29,\n  IF(AND(LB$1=$G29,LB$1=$H29,LB$1<>$I29,$F29<>0),13+$J29,\n  IF(AND(LB$1=$G29,LB$1=$H29,LB$1<>$I29,$F29=0),1+$J29,\n  IF(AND(LB$1<>$G29,LB$1=$H29,LB$1=$I29),12+$J29,\n  IF(AND(LB$1=$G29,LB$1=$H29,LB$1=$I29,$F29<=0.5),3+$J29,13+$J29)))))))))))","v":0},0,0,0,0,0,0,0,0,0,0,0,0,0,0,0,0,0,0,0,0,0,0,0,0,0,0,0,0,0,{"$f":"IF(MF$1>$I29,0,\n  IF(MF$1<$G29,0,\n  IF(AND(MF$1>$G29,MF$1<$H29),14+$J29,\n  IF(AND(MF$1>$H29,MF$1<$I29),4+$J29,\n  IF(AND(MF$1=$G29,MF$1<>$H29,MF$1<>$I29),11+$J29,\n  IF(AND(MF$1<>$G29,MF$1=$H29,MF$1<>$I29),12+$J29,\n  IF(AND(MF$1<>$G29,MF$1<>$H29,MF$1=$I29),2+$J29,\n  IF(AND(MF$1=$G29,MF$1=$H29,MF$1<>$I29,$F29<>0),13+$J29,\n  IF(AND(MF$1=$G29,MF$1=$H29,MF$1<>$I29,$F29=0),1+$J29,\n  IF(AND(MF$1<>$G29,MF$1=$H29,MF$1=$I29),12+$J29,\n  IF(AND(MF$1=$G29,MF$1=$H29,MF$1=$I29,$F29<=0.5),3+$J29,13+$J29)))))))))))","v":0},0,0,0,0,0,0,0,0,0,0,0,0,0,0,0,0,0,0,0,0,0,0,0,0,0,0,0,0,0,0,0,0,0,{"$f":"IF(NN$1>$I29,0,\n  IF(NN$1<$G29,0,\n  IF(AND(NN$1>$G29,NN$1<$H29),14+$J29,\n  IF(AND(NN$1>$H29,NN$1<$I29),4+$J29,\n  IF(AND(NN$1=$G29,NN$1<>$H29,NN$1<>$I29),11+$J29,\n  IF(AND(NN$1<>$G29,NN$1=$H29,NN$1<>$I29),12+$J29,\n  IF(AND(NN$1<>$G29,NN$1<>$H29,NN$1=$I29),2+$J29,\n  IF(AND(NN$1=$G29,NN$1=$H29,NN$1<>$I29,$F29<>0),13+$J29,\n  IF(AND(NN$1=$G29,NN$1=$H29,NN$1<>$I29,$F29=0),1+$J29,\n  IF(AND(NN$1<>$G29,NN$1=$H29,NN$1=$I29),12+$J29,\n  IF(AND(NN$1=$G29,NN$1=$H29,NN$1=$I29,$F29<=0.5),3+$J29,13+$J29)))))))))))","v":0},0,0,0,0,0,0,0,0,0,0,0,0,0,0,0,0,0,0,0,0,0,0,0,0,0,0,0,0,0,{"$f":"IF(OR$1>$I29,0,\n  IF(OR$1<$G29,0,\n  IF(AND(OR$1>$G29,OR$1<$H29),14+$J29,\n  IF(AND(OR$1>$H29,OR$1<$I29),4+$J29,\n  IF(AND(OR$1=$G29,OR$1<>$H29,OR$1<>$I29),11+$J29,\n  IF(AND(OR$1<>$G29,OR$1=$H29,OR$1<>$I29),12+$J29,\n  IF(AND(OR$1<>$G29,OR$1<>$H29,OR$1=$I29),2+$J29,\n  IF(AND(OR$1=$G29,OR$1=$H29,OR$1<>$I29,$F29<>0),13+$J29,\n  IF(AND(OR$1=$G29,OR$1=$H29,OR$1<>$I29,$F29=0),1+$J29,\n  IF(AND(OR$1<>$G29,OR$1=$H29,OR$1=$I29),12+$J29,\n  IF(AND(OR$1=$G29,OR$1=$H29,OR$1=$I29,$F29<=0.5),3+$J29,13+$J29)))))))))))","v":0},0,0,0,0,0,0,0,0,0,0,0,0,0,0,0,0,0,0,0,0,0,0,0,0,0,0,0,0,0,0,0,0,0,{"$f":"IF(PZ$1>$I29,0,\n  IF(PZ$1<$G29,0,\n  IF(AND(PZ$1>$G29,PZ$1<$H29),14+$J29,\n  IF(AND(PZ$1>$H29,PZ$1<$I29),4+$J29,\n  IF(AND(PZ$1=$G29,PZ$1<>$H29,PZ$1<>$I29),11+$J29,\n  IF(AND(PZ$1<>$G29,PZ$1=$H29,PZ$1<>$I29),12+$J29,\n  IF(AND(PZ$1<>$G29,PZ$1<>$H29,PZ$1=$I29),2+$J29,\n  IF(AND(PZ$1=$G29,PZ$1=$H29,PZ$1<>$I29,$F29<>0),13+$J29,\n  IF(AND(PZ$1=$G29,PZ$1=$H29,PZ$1<>$I29,$F29=0),1+$J29,\n  IF(AND(PZ$1<>$G29,PZ$1=$H29,PZ$1=$I29),12+$J29,\n  IF(AND(PZ$1=$G29,PZ$1=$H29,PZ$1=$I29,$F29<=0.5),3+$J29,13+$J29)))))))))))","v":0},0,0,0,0,0,0,0,0,0,0,0,0,0,0,0,0,0,0,0,0,0,0,0,0,0,0,0,0,0,0,0,0,0,0,0,0,0,0,0,0,0,0,0,0,0,0,0,0,0,0,0,0,0,0,0,0,0,0,0,0,0,0,0,0,0,0,0,0,0,null,{"$f":"IF(gIsItPlan,IF(AND(System!Z25,System!AA25),1,0),IF(AND(System!Z25,System!AB25),1,0))","v":1}]
[null,{"$f":"IF($SS30,IF(E30=1,System!B26,\"   \"&System!B26),\"\")","v":"   Покраска"},{"$f":"IF($SS30,IF(gIsItPlan,System!F26,System!I26),\"\")","v":"2014-07-19"},{"$f":"IF($SS30,IF(gIsItPlan,System!G26,System!J26),\"\")","v":"2014-07-22"},{"$f":"System!C26","v":2},{"$f":"System!L26","v":0},81,81,82,20,null,{"$f":"IF(L$1>$I30,0,\n  IF(L$1<$G30,0,\n  IF(AND(L$1>$G30,L$1<$H30),14+$J30,\n  IF(AND(L$1>$H30,L$1<$I30),4+$J30,\n  IF(AND(L$1=$G30,L$1<>$H30,L$1<>$I30),11+$J30,\n  IF(AND(L$1<>$G30,L$1=$H30,L$1<>$I30),12+$J30,\n  IF(AND(L$1<>$G30,L$1<>$H30,L$1=$I30),2+$J30,\n  IF(AND(L$1=$G30,L$1=$H30,L$1<>$I30,$F30<>0),13+$J30,\n  IF(AND(L$1=$G30,L$1=$H30,L$1<>$I30,$F30=0),1+$J30,\n  IF(AND(L$1<>$G30,L$1=$H30,L$1=$I30),12+$J30,\n  IF(AND(L$1=$G30,L$1=$H30,L$1=$I30,$F30<=0.5),3+$J30,13+$J30)))))))))))","v":0},0,0,0,0,0,0,0,0,0,0,0,0,0,0,0,0,0,0,0,0,0,0,0,0,0,0,0,0,0,0,{"$f":"IF(AQ$1>$I30,0,\n  IF(AQ$1<$G30,0,\n  IF(AND(AQ$1>$G30,AQ$1<$H30),14+$J30,\n  IF(AND(AQ$1>$H30,AQ$1<$I30),4+$J30,\n  IF(AND(AQ$1=$G30,AQ$1<>$H30,AQ$1<>$I30),11+$J30,\n  IF(AND(AQ$1<>$G30,AQ$1=$H30,AQ$1<>$I30),12+$J30,\n  IF(AND(AQ$1<>$G30,AQ$1<>$H30,AQ$1=$I30),2+$J30,\n  IF(AND(AQ$1=$G30,AQ$1=$H30,AQ$1<>$I30,$F30<>0),13+$J30,\n  IF(AND(AQ$1=$G30,AQ$1=$H30,AQ$1<>$I30,$F30=0),1+$J30,\n  IF(AND(AQ$1<>$G30,AQ$1=$H30,AQ$1=$I30),12+$J30,\n  IF(AND(AQ$1=$G30,AQ$1=$H30,AQ$1=$I30,$F30<=0.5),3+$J30,13+$J30)))))))))))","v":0},0,0,0,0,0,0,0,0,0,0,0,0,0,0,0,0,0,0,0,0,0,0,0,0,0,0,0,0,0,0,0,0,0,0,0,0,0,0,21,22,0,0,0,0,0,{"$f":"IF(CK$1>$I30,0,\n  IF(CK$1<$G30,0,\n  IF(AND(CK$1>$G30,CK$1<$H30),14+$J30,\n  IF(AND(CK$1>$H30,CK$1<$I30),4+$J30,\n  IF(AND(CK$1=$G30,CK$1<>$H30,CK$1<>$I30),11+$J30,\n  IF(AND(CK$1<>$G30,CK$1=$H30,CK$1<>$I30),12+$J30,\n  IF(AND(CK$1<>$G30,CK$1<>$H30,CK$1=$I30),2+$J30,\n  IF(AND(CK$1=$G30,CK$1=$H30,CK$1<>$I30,$F30<>0),13+$J30,\n  IF(AND(CK$1=$G30,CK$1=$H30,CK$1<>$I30,$F30=0),1+$J30,\n  IF(AND(CK$1<>$G30,CK$1=$H30,CK$1=$I30),12+$J30,\n  IF(AND(CK$1=$G30,CK$1=$H30,CK$1=$I30,$F30<=0.5),3+$J30,13+$J30)))))))))))","v":0},0,0,0,0,0,0,0,0,0,0,0,0,0,0,0,{"$f":"IF(DA$1>$I30,0,\n  IF(DA$1<$G30,0,\n  IF(AND(DA$1>$G30,DA$1<$H30),14+$J30,\n  IF(AND(DA$1>$H30,DA$1<$I30),4+$J30,\n  IF(AND(DA$1=$G30,DA$1<>$H30,DA$1<>$I30),11+$J30,\n  IF(AND(DA$1<>$G30,DA$1=$H30,DA$1<>$I30),12+$J30,\n  IF(AND(DA$1<>$G30,DA$1<>$H30,DA$1=$I30),2+$J30,\n  IF(AND(DA$1=$G30,DA$1=$H30,DA$1<>$I30,$F30<>0),13+$J30,\n  IF(AND(DA$1=$G30,DA$1=$H30,DA$1<>$I30,$F30=0),1+$J30,\n  IF(AND(DA$1<>$G30,DA$1=$H30,DA$1=$I30),12+$J30,\n  IF(AND(DA$1=$G30,DA$1=$H30,DA$1=$I30,$F30<=0.5),3+$J30,13+$J30)))))))))))","v":0},0,0,0,0,0,0,0,0,0,0,0,0,0,0,0,0,0,{"$f":"IF(DS$1>$I30,0,\n  IF(DS$1<$G30,0,\n  IF(AND(DS$1>$G30,DS$1<$H30),14+$J30,\n  IF(AND(DS$1>$H30,DS$1<$I30),4+$J30,\n  IF(AND(DS$1=$G30,DS$1<>$H30,DS$1<>$I30),11+$J30,\n  IF(AND(DS$1<>$G30,DS$1=$H30,DS$1<>$I30),12+$J30,\n  IF(AND(DS$1<>$G30,DS$1<>$H30,DS$1=$I30),2+$J30,\n  IF(AND(DS$1=$G30,DS$1=$H30,DS$1<>$I30,$F30<>0),13+$J30,\n  IF(AND(DS$1=$G30,DS$1=$H30,DS$1<>$I30,$F30=0),1+$J30,\n  IF(AND(DS$1<>$G30,DS$1=$H30,DS$1=$I30),12+$J30,\n  IF(AND(DS$1=$G30,DS$1=$H30,DS$1=$I30,$F30<=0.5),3+$J30,13+$J30)))))))))))","v":0},0,0,0,0,0,0,0,0,0,0,0,0,0,0,0,0,0,0,0,0,0,0,0,0,0,0,0,0,0,0,0,0,0,0,0,0,0,0,0,0,0,0,0,0,0,0,0,{"$f":"IF(FO$1>$I30,0,\n  IF(FO$1<$G30,0,\n  IF(AND(FO$1>$G30,FO$1<$H30),14+$J30,\n  IF(AND(FO$1>$H30,FO$1<$I30),4+$J30,\n  IF(AND(FO$1=$G30,FO$1<>$H30,FO$1<>$I30),11+$J30,\n  IF(AND(FO$1<>$G30,FO$1=$H30,FO$1<>$I30),12+$J30,\n  IF(AND(FO$1<>$G30,FO$1<>$H30,FO$1=$I30),2+$J30,\n  IF(AND(FO$1=$G30,FO$1=$H30,FO$1<>$I30,$F30<>0),13+$J30,\n  IF(AND(FO$1=$G30,FO$1=$H30,FO$1<>$I30,$F30=0),1+$J30,\n  IF(AND(FO$1<>$G30,FO$1=$H30,FO$1=$I30),12+$J30,\n  IF(AND(FO$1=$G30,FO$1=$H30,FO$1=$I30,$F30<=0.5),3+$J30,13+$J30)))))))))))","v":0},0,0,0,0,0,0,0,0,0,0,0,0,0,0,0,0,0,0,0,0,0,0,0,0,0,0,0,0,0,0,0,{"$f":"IF(GU$1>$I30,0,\n  IF(GU$1<$G30,0,\n  IF(AND(GU$1>$G30,GU$1<$H30),14+$J30,\n  IF(AND(GU$1>$H30,GU$1<$I30),4+$J30,\n  IF(AND(GU$1=$G30,GU$1<>$H30,GU$1<>$I30),11+$J30,\n  IF(AND(GU$1<>$G30,GU$1=$H30,GU$1<>$I30),12+$J30,\n  IF(AND(GU$1<>$G30,GU$1<>$H30,GU$1=$I30),2+$J30,\n  IF(AND(GU$1=$G30,GU$1=$H30,GU$1<>$I30,$F30<>0),13+$J30,\n  IF(AND(GU$1=$G30,GU$1=$H30,GU$1<>$I30,$F30=0),1+$J30,\n  IF(AND(GU$1<>$G30,GU$1=$H30,GU$1=$I30),12+$J30,\n  IF(AND(GU$1=$G30,GU$1=$H30,GU$1=$I30,$F30<=0.5),3+$J30,13+$J30)))))))))))","v":0},0,0,0,0,0,0,0,0,0,0,0,0,0,0,0,0,0,0,0,0,0,0,0,0,0,0,0,0,0,0,0,{"$f":"IF(IA$1>$I30,0,\n  IF(IA$1<$G30,0,\n  IF(AND(IA$1>$G30,IA$1<$H30),14+$J30,\n  IF(AND(IA$1>$H30,IA$1<$I30),4+$J30,\n  IF(AND(IA$1=$G30,IA$1<>$H30,IA$1<>$I30),11+$J30,\n  IF(AND(IA$1<>$G30,IA$1=$H30,IA$1<>$I30),12+$J30,\n  IF(AND(IA$1<>$G30,IA$1<>$H30,IA$1=$I30),2+$J30,\n  IF(AND(IA$1=$G30,IA$1=$H30,IA$1<>$I30,$F30<>0),13+$J30,\n  IF(AND(IA$1=$G30,IA$1=$H30,IA$1<>$I30,$F30=0),1+$J30,\n  IF(AND(IA$1<>$G30,IA$1=$H30,IA$1=$I30),12+$J30,\n  IF(AND(IA$1=$G30,IA$1=$H30,IA$1=$I30,$F30<=0.5),3+$J30,13+$J30)))))))))))","v":0},0,0,0,0,0,0,0,0,0,0,0,0,0,0,0,0,0,0,0,0,0,0,0,0,0,0,0,0,0,0,0,{"$f":"IF(JG$1>$I30,0,\n  IF(JG$1<$G30,0,\n  IF(AND(JG$1>$G30,JG$1<$H30),14+$J30,\n  IF(AND(JG$1>$H30,JG$1<$I30),4+$J30,\n  IF(AND(JG$1=$G30,JG$1<>$H30,JG$1<>$I30),11+$J30,\n  IF(AND(JG$1<>$G30,JG$1=$H30,JG$1<>$I30),12+$J30,\n  IF(AND(JG$1<>$G30,JG$1<>$H30,JG$1=$I30),2+$J30,\n  IF(AND(JG$1=$G30,JG$1=$H30,JG$1<>$I30,$F30<>0),13+$J30,\n  IF(AND(JG$1=$G30,JG$1=$H30,JG$1<>$I30,$F30=0),1+$J30,\n  IF(AND(JG$1<>$G30,JG$1=$H30,JG$1=$I30),12+$J30,\n  IF(AND(JG$1=$G30,JG$1=$H30,JG$1=$I30,$F30<=0.5),3+$J30,13+$J30)))))))))))","v":0},0,0,0,0,0,0,0,0,0,0,0,0,0,0,0,0,0,0,0,0,0,0,0,0,0,0,0,0,0,0,0,{"$f":"IF(KM$1>$I30,0,\n  IF(KM$1<$G30,0,\n  IF(AND(KM$1>$G30,KM$1<$H30),14+$J30,\n  IF(AND(KM$1>$H30,KM$1<$I30),4+$J30,\n  IF(AND(KM$1=$G30,KM$1<>$H30,KM$1<>$I30),11+$J30,\n  IF(AND(KM$1<>$G30,KM$1=$H30,KM$1<>$I30),12+$J30,\n  IF(AND(KM$1<>$G30,KM$1<>$H30,KM$1=$I30),2+$J30,\n  IF(AND(KM$1=$G30,KM$1=$H30,KM$1<>$I30,$F30<>0),13+$J30,\n  IF(AND(KM$1=$G30,KM$1=$H30,KM$1<>$I30,$F30=0),1+$J30,\n  IF(AND(KM$1<>$G30,KM$1=$H30,KM$1=$I30),12+$J30,\n  IF(AND(KM$1=$G30,KM$1=$H30,KM$1=$I30,$F30<=0.5),3+$J30,13+$J30)))))))))))","v":0},0,0,0,0,0,0,0,0,0,0,0,0,0,0,0,0,0,0,0,0,0,0,0,0,0,0,0,0,0,0,0,{"$f":"IF(LS$1>$I30,0,\n  IF(LS$1<$G30,0,\n  IF(AND(LS$1>$G30,LS$1<$H30),14+$J30,\n  IF(AND(LS$1>$H30,LS$1<$I30),4+$J30,\n  IF(AND(LS$1=$G30,LS$1<>$H30,LS$1<>$I30),11+$J30,\n  IF(AND(LS$1<>$G30,LS$1=$H30,LS$1<>$I30),12+$J30,\n  IF(AND(LS$1<>$G30,LS$1<>$H30,LS$1=$I30),2+$J30,\n  IF(AND(LS$1=$G30,LS$1=$H30,LS$1<>$I30,$F30<>0),13+$J30,\n  IF(AND(LS$1=$G30,LS$1=$H30,LS$1<>$I30,$F30=0),1+$J30,\n  IF(AND(LS$1<>$G30,LS$1=$H30,LS$1=$I30),12+$J30,\n  IF(AND(LS$1=$G30,LS$1=$H30,LS$1=$I30,$F30<=0.5),3+$J30,13+$J30)))))))))))","v":0},0,0,0,0,0,0,0,0,0,0,0,0,0,0,0,0,0,0,0,0,0,0,0,0,0,0,0,0,0,0,0,{"$f":"IF(MY$1>$I30,0,\n  IF(MY$1<$G30,0,\n  IF(AND(MY$1>$G30,MY$1<$H30),14+$J30,\n  IF(AND(MY$1>$H30,MY$1<$I30),4+$J30,\n  IF(AND(MY$1=$G30,MY$1<>$H30,MY$1<>$I30),11+$J30,\n  IF(AND(MY$1<>$G30,MY$1=$H30,MY$1<>$I30),12+$J30,\n  IF(AND(MY$1<>$G30,MY$1<>$H30,MY$1=$I30),2+$J30,\n  IF(AND(MY$1=$G30,MY$1=$H30,MY$1<>$I30,$F30<>0),13+$J30,\n  IF(AND(MY$1=$G30,MY$1=$H30,MY$1<>$I30,$F30=0),1+$J30,\n  IF(AND(MY$1<>$G30,MY$1=$H30,MY$1=$I30),12+$J30,\n  IF(AND(MY$1=$G30,MY$1=$H30,MY$1=$I30,$F30<=0.5),3+$J30,13+$J30)))))))))))","v":0},0,0,0,0,0,0,0,0,0,0,0,0,0,0,0,0,0,0,0,0,0,0,0,0,0,0,0,0,0,0,0,{"$f":"IF(OE$1>$I30,0,\n  IF(OE$1<$G30,0,\n  IF(AND(OE$1>$G30,OE$1<$H30),14+$J30,\n  IF(AND(OE$1>$H30,OE$1<$I30),4+$J30,\n  IF(AND(OE$1=$G30,OE$1<>$H30,OE$1<>$I30),11+$J30,\n  IF(AND(OE$1<>$G30,OE$1=$H30,OE$1<>$I30),12+$J30,\n  IF(AND(OE$1<>$G30,OE$1<>$H30,OE$1=$I30),2+$J30,\n  IF(AND(OE$1=$G30,OE$1=$H30,OE$1<>$I30,$F30<>0),13+$J30,\n  IF(AND(OE$1=$G30,OE$1=$H30,OE$1<>$I30,$F30=0),1+$J30,\n  IF(AND(OE$1<>$G30,OE$1=$H30,OE$1=$I30),12+$J30,\n  IF(AND(OE$1=$G30,OE$1=$H30,OE$1=$I30,$F30<=0.5),3+$J30,13+$J30)))))))))))","v":0},0,0,0,0,0,0,0,0,0,0,0,0,0,0,0,0,0,0,0,0,0,0,0,0,0,0,0,0,0,0,0,{"$f":"IF(PK$1>$I30,0,\n  IF(PK$1<$G30,0,\n  IF(AND(PK$1>$G30,PK$1<$H30),14+$J30,\n  IF(AND(PK$1>$H30,PK$1<$I30),4+$J30,\n  IF(AND(PK$1=$G30,PK$1<>$H30,PK$1<>$I30),11+$J30,\n  IF(AND(PK$1<>$G30,PK$1=$H30,PK$1<>$I30),12+$J30,\n  IF(AND(PK$1<>$G30,PK$1<>$H30,PK$1=$I30),2+$J30,\n  IF(AND(PK$1=$G30,PK$1=$H30,PK$1<>$I30,$F30<>0),13+$J30,\n  IF(AND(PK$1=$G30,PK$1=$H30,PK$1<>$I30,$F30=0),1+$J30,\n  IF(AND(PK$1<>$G30,PK$1=$H30,PK$1=$I30),12+$J30,\n  IF(AND(PK$1=$G30,PK$1=$H30,PK$1=$I30,$F30<=0.5),3+$J30,13+$J30)))))))))))","v":0},0,0,0,0,0,0,0,0,0,0,0,0,0,0,0,0,0,0,0,0,0,0,0,0,0,0,0,0,0,0,0,0,0,0,0,0,0,0,0,0,0,0,0,0,0,0,0,0,0,0,0,0,0,0,0,0,0,0,0,0,0,0,0,0,0,0,0,0,0,0,0,0,0,0,0,0,0,0,0,0,0,0,0,0,null,{"$f":"IF(gIsItPlan,IF(AND(System!Z26,System!AA26),1,0),IF(AND(System!Z26,System!AB26),1,0))","v":1}]
[null,{"$f":"IF($SS31,IF(E31=1,System!B27,\"   \"&System!B27),\"\")","v":"   Монтаж полового покрытия"},{"$f":"IF($SS31,IF(gIsItPlan,System!F27,System!I27),\"\")","v":"2014-07-23"},{"$f":"IF($SS31,IF(gIsItPlan,System!G27,System!J27),\"\")","v":"2014-07-27"},{"$f":"System!C27","v":2},{"$f":"System!L27","v":0},83,83,85,20,null,0,0,0,0,0,0,0,0,0,0,0,0,0,0,0,0,0,0,0,0,0,0,0,0,{"$f":"IF(AJ$1>$I31,0,\n  IF(AJ$1<$G31,0,\n  IF(AND(AJ$1>$G31,AJ$1<$H31),14+$J31,\n  IF(AND(AJ$1>$H31,AJ$1<$I31),4+$J31,\n  IF(AND(AJ$1=$G31,AJ$1<>$H31,AJ$1<>$I31),11+$J31,\n  IF(AND(AJ$1<>$G31,AJ$1=$H31,AJ$1<>$I31),12+$J31,\n  IF(AND(AJ$1<>$G31,AJ$1<>$H31,AJ$1=$I31),2+$J31,\n  IF(AND(AJ$1=$G31,AJ$1=$H31,AJ$1<>$I31,$F31<>0),13+$J31,\n  IF(AND(AJ$1=$G31,AJ$1=$H31,AJ$1<>$I31,$F31=0),1+$J31,\n  IF(AND(AJ$1<>$G31,AJ$1=$H31,AJ$1=$I31),12+$J31,\n  IF(AND(AJ$1=$G31,AJ$1=$H31,AJ$1=$I31,$F31<=0.5),3+$J31,13+$J31)))))))))))","v":0},0,0,0,0,0,0,0,0,0,0,0,0,0,0,0,0,0,0,0,0,0,0,0,0,0,0,0,0,0,0,0,0,0,0,0,0,0,0,0,{"$f":"IF(BX$1>$I31,0,\n  IF(BX$1<$G31,0,\n  IF(AND(BX$1>$G31,BX$1<$H31),14+$J31,\n  IF(AND(BX$1>$H31,BX$1<$I31),4+$J31,\n  IF(AND(BX$1=$G31,BX$1<>$H31,BX$1<>$I31),11+$J31,\n  IF(AND(BX$1<>$G31,BX$1=$H31,BX$1<>$I31),12+$J31,\n  IF(AND(BX$1<>$G31,BX$1<>$H31,BX$1=$I31),2+$J31,\n  IF(AND(BX$1=$G31,BX$1=$H31,BX$1<>$I31,$F31<>0),13+$J31,\n  IF(AND(BX$1=$G31,BX$1=$H31,BX$1<>$I31,$F31=0),1+$J31,\n  IF(AND(BX$1<>$G31,BX$1=$H31,BX$1=$I31),12+$J31,\n  IF(AND(BX$1=$G31,BX$1=$H31,BX$1=$I31,$F31<=0.5),3+$J31,13+$J31)))))))))))","v":0},0,0,0,0,0,0,0,21,24,22,0,0,0,0,0,0,0,0,0,0,0,0,0,0,0,0,0,0,0,0,0,0,0,0,0,0,0,0,0,0,0,0,0,0,0,0,0,0,0,0,0,0,0,0,0,0,0,0,0,0,0,0,0,0,0,0,0,0,0,0,0,0,0,0,0,0,0,0,0,0,0,0,0,0,0,0,0,0,0,0,0,0,0,0,0,0,0,0,0,0,0,0,0,0,0,0,0,0,0,0,0,0,0,0,0,0,0,0,0,0,0,0,0,0,0,0,0,0,0,0,0,0,0,0,0,0,0,0,0,0,0,0,0,0,0,0,0,0,0,0,0,0,0,0,0,0,0,0,0,0,0,0,0,0,0,0,0,0,0,0,0,0,0,0,0,0,0,0,0,0,0,0,0,0,0,0,0,0,0,0,0,0,0,0,0,0,0,0,0,0,0,0,0,0,0,0,0,0,0,0,0,0,0,0,0,0,0,0,0,0,0,0,0,0,0,0,0,0,0,0,0,0,0,0,0,0,0,0,0,0,0,0,0,0,0,0,0,0,0,0,0,0,0,0,0,0,0,0,0,0,0,0,0,0,0,0,0,0,0,0,0,0,0,0,0,0,0,0,0,0,0,0,0,0,0,0,0,0,0,0,0,0,0,0,0,0,0,0,0,0,0,0,0,0,0,0,0,0,0,0,0,0,0,0,0,0,0,0,0,0,0,0,0,0,0,0,0,0,0,0,0,0,0,0,0,0,0,0,0,0,0,0,0,0,0,0,0,0,0,0,0,0,0,0,0,0,0,0,0,0,0,0,0,0,0,0,0,0,0,0,0,0,0,0,0,0,0,0,0,0,0,0,0,0,0,0,0,0,0,0,0,0,0,0,0,0,0,0,0,0,0,0,0,0,0,0,0,0,0,0,0,0,0,0,0,0,0,0,0,0,0,0,0,0,0,0,0,0,0,0,0,0,0,0,0,null,{"$f":"IF(gIsItPlan,IF(AND(System!Z27,System!AA27),1,0),IF(AND(System!Z27,System!AB27),1,0))","v":1}]
[null,{"$f":"IF($SS32,IF(E32=1,System!B28,\"   \"&System!B28),\"\")","v":"   Контроль качества"},{"$f":"IF($SS32,IF(gIsItPlan,System!F28,System!I28),\"\")","v":"2014-07-28"},{"$f":"IF($SS32,IF(gIsItPlan,System!G28,System!J28),\"\")","v":"2014-07-28"},{"$f":"System!C28","v":2},{"$f":"System!L28","v":0},85,85,85,20,null,0,0,0,0,0,0,0,0,0,0,0,0,0,0,0,0,0,0,0,0,0,0,0,0,0,0,0,0,0,0,0,0,0,0,0,0,0,0,0,0,0,0,0,0,0,0,0,0,0,0,0,0,0,0,0,0,0,0,0,0,0,0,0,0,0,0,0,0,0,0,0,0,0,0,23,0,0,0,0,0,0,0,0,0,0,0,0,0,0,0,0,0,0,0,0,0,0,0,0,0,0,0,0,0,0,0,0,0,0,0,0,0,0,0,0,0,0,0,0,0,0,0,0,0,0,0,0,0,0,0,0,0,0,0,0,0,0,0,0,0,0,0,0,0,0,0,0,0,0,0,0,0,0,0,0,0,0,0,0,0,0,0,0,0,0,0,0,0,0,0,0,0,0,0,0,0,0,0,0,0,0,0,0,0,0,0,0,0,0,0,0,0,0,0,0,0,0,0,0,0,0,0,0,0,0,0,0,0,0,0,0,0,0,0,0,0,0,0,0,0,0,0,0,0,0,0,0,0,0,0,0,0,0,0,0,0,0,0,0,0,0,0,0,0,0,0,0,0,0,0,0,0,0,0,0,0,0,0,0,0,0,0,0,0,0,0,0,0,0,0,0,0,0,0,0,0,0,0,0,0,0,0,0,0,0,0,0,0,0,0,0,0,0,0,0,0,0,0,0,0,0,0,0,0,0,0,0,0,0,0,0,0,0,0,0,0,0,0,0,0,0,0,0,0,0,0,0,0,0,0,0,0,0,0,0,0,0,0,0,0,0,0,0,0,0,0,0,0,0,0,0,0,0,0,0,0,0,0,0,0,0,0,0,0,0,0,0,0,0,0,0,0,0,0,0,0,0,0,0,0,0,0,0,0,0,0,0,0,0,0,0,0,0,0,0,0,0,0,0,0,0,0,0,0,0,0,0,0,0,0,0,0,0,0,0,0,0,0,0,0,0,0,0,0,0,0,0,0,0,0,0,0,0,0,0,0,0,0,0,0,0,0,0,0,0,0,0,0,0,0,0,0,0,0,0,0,0,0,0,0,0,0,0,0,0,0,0,0,0,0,0,0,0,0,0,0,0,0,0,0,0,0,0,0,0,0,0,0,0,0,0,0,0,0,0,0,0,0,0,0,null,{"$f":"IF(gIsItPlan,IF(AND(System!Z28,System!AA28),1,0),IF(AND(System!Z28,System!AB28),1,0))","v":1}]
[null,{"$f":"IF($SS33,IF(E33=1,System!B29,\"   \"&System!B29),\"\")","v":"   Доставка мебели"},{"$f":"IF($SS33,IF(gIsItPlan,System!F29,System!I29),\"\")","v":"2014-07-29"},{"$f":"IF($SS33,IF(gIsItPlan,System!G29,System!J29),\"\")","v":"2014-07-30"},{"$f":"System!C29","v":2},{"$f":"System!L29","v":0},86,86,86,20,null,0,0,0,0,0,0,0,0,0,0,0,0,0,0,0,0,0,0,0,0,0,0,0,0,0,0,0,0,0,0,0,0,0,0,0,0,0,0,0,0,0,0,0,0,0,0,0,0,0,0,0,0,0,0,0,0,0,0,0,0,0,0,0,0,0,0,0,0,0,0,0,0,0,0,0,23,0,0,0,0,0,0,0,0,0,0,0,0,0,0,0,0,0,0,0,0,0,0,0,0,0,0,0,0,0,0,0,0,0,0,0,0,0,0,0,0,0,0,0,0,0,0,0,0,0,0,0,0,0,0,0,0,0,0,0,0,0,0,0,0,0,0,0,0,0,0,0,0,0,0,0,0,0,0,0,0,0,0,0,0,0,0,0,0,0,0,0,0,0,0,0,0,0,0,0,0,0,0,0,0,0,0,0,0,0,0,0,0,0,0,0,0,0,0,0,0,0,0,0,0,0,0,0,0,0,0,0,0,0,0,0,0,0,0,0,0,0,0,0,0,0,0,0,0,0,0,0,0,0,0,0,0,0,0,0,0,0,0,0,0,0,0,0,0,0,0,0,0,0,0,0,0,0,0,0,0,0,0,0,0,0,0,0,0,0,0,0,0,0,0,0,0,0,0,0,0,0,0,0,0,0,0,0,0,0,0,0,0,0,0,0,0,0,0,0,0,0,0,0,0,0,0,0,0,0,0,0,0,0,0,0,0,0,0,0,0,0,0,0,0,0,0,0,0,0,0,0,0,0,0,0,0,0,0,0,0,0,0,0,0,0,0,0,0,0,0,0,0,0,0,0,0,0,0,0,0,0,0,0,0,0,0,0,0,0,0,0,0,0,0,0,0,0,0,0,0,0,0,0,0,0,0,0,0,0,0,0,0,0,0,0,0,0,0,0,0,0,0,0,0,0,0,0,0,0,0,0,0,0,0,0,0,0,0,0,0,0,0,0,0,0,0,0,0,0,0,0,0,0,0,0,0,0,0,0,0,0,0,0,0,0,0,0,0,0,0,0,0,0,0,0,0,0,0,0,0,0,0,0,0,0,0,0,0,0,0,0,0,0,0,0,0,0,0,0,0,0,0,0,0,0,0,0,0,0,0,0,0,0,0,0,0,0,0,0,0,0,0,0,0,null,{"$f":"IF(gIsItPlan,IF(AND(System!Z29,System!AA29),1,0),IF(AND(System!Z29,System!AB29),1,0))","v":1}]
[null,{"$f":"IF($SS34,IF(E34=1,System!B30,\"   \"&System!B30),\"\")","v":"   Сборка мебели"},{"$f":"IF($SS34,IF(gIsItPlan,System!F30,System!I30),\"\")","v":"2014-07-31"},{"$f":"IF($SS34,IF(gIsItPlan,System!G30,System!J30),\"\")","v":"2014-07-31"},{"$f":"System!C30","v":2},{"$f":"System!L30","v":0},87,87,87,20,null,0,0,0,0,0,0,0,0,0,0,0,0,0,0,0,0,0,0,0,0,0,0,0,0,0,0,0,0,0,0,0,0,0,0,0,0,0,0,0,0,0,0,0,0,0,0,0,0,0,0,0,0,0,0,0,0,0,0,0,0,0,0,0,0,0,0,0,0,0,0,0,0,0,0,0,0,23,0,0,0,0,0,0,0,0,0,0,0,0,0,0,0,0,0,0,0,0,0,0,0,0,0,0,0,0,0,0,0,0,0,0,0,0,0,0,0,0,0,0,0,0,0,0,0,0,0,0,0,0,0,0,0,0,0,0,0,0,0,0,0,0,0,0,0,0,0,0,0,0,0,0,0,0,0,0,0,0,0,0,0,0,0,0,0,0,0,0,0,0,0,0,0,0,0,0,0,0,0,0,0,0,0,0,0,0,0,0,0,0,0,0,0,0,0,0,0,0,0,0,0,0,0,0,0,0,0,0,0,0,0,0,0,0,0,0,0,0,0,0,0,{"$f":"IF(HX$1>$I34,0,\n  IF(HX$1<$G34,0,\n  IF(AND(HX$1>$G34,HX$1<$H34),14+$J34,\n  IF(AND(HX$1>$H34,HX$1<$I34),4+$J34,\n  IF(AND(HX$1=$G34,HX$1<>$H34,HX$1<>$I34),11+$J34,\n  IF(AND(HX$1<>$G34,HX$1=$H34,HX$1<>$I34),12+$J34,\n  IF(AND(HX$1<>$G34,HX$1<>$H34,HX$1=$I34),2+$J34,\n  IF(AND(HX$1=$G34,HX$1=$H34,HX$1<>$I34,$F34<>0),13+$J34,\n  IF(AND(HX$1=$G34,HX$1=$H34,HX$1<>$I34,$F34=0),1+$J34,\n  IF(AND(HX$1<>$G34,HX$1=$H34,HX$1=$I34),12+$J34,\n  IF(AND(HX$1=$G34,HX$1=$H34,HX$1=$I34,$F34<=0.5),3+$J34,13+$J34)))))))))))","v":0},0,0,0,0,0,0,0,0,0,0,0,0,0,0,0,0,0,0,0,0,0,0,0,0,0,0,0,0,0,0,0,0,0,0,0,0,0,0,0,0,0,0,0,0,0,0,0,0,0,0,0,0,0,0,0,0,0,0,0,0,0,0,0,{"$f":"IF(KJ$1>$I34,0,\n  IF(KJ$1<$G34,0,\n  IF(AND(KJ$1>$G34,KJ$1<$H34),14+$J34,\n  IF(AND(KJ$1>$H34,KJ$1<$I34),4+$J34,\n  IF(AND(KJ$1=$G34,KJ$1<>$H34,KJ$1<>$I34),11+$J34,\n  IF(AND(KJ$1<>$G34,KJ$1=$H34,KJ$1<>$I34),12+$J34,\n  IF(AND(KJ$1<>$G34,KJ$1<>$H34,KJ$1=$I34),2+$J34,\n  IF(AND(KJ$1=$G34,KJ$1=$H34,KJ$1<>$I34,$F34<>0),13+$J34,\n  IF(AND(KJ$1=$G34,KJ$1=$H34,KJ$1<>$I34,$F34=0),1+$J34,\n  IF(AND(KJ$1<>$G34,KJ$1=$H34,KJ$1=$I34),12+$J34,\n  IF(AND(KJ$1=$G34,KJ$1=$H34,KJ$1=$I34,$F34<=0.5),3+$J34,13+$J34)))))))))))","v":0},0,0,0,0,0,0,0,0,0,0,0,0,0,0,0,0,0,0,0,0,0,0,0,0,0,0,0,0,0,0,0,0,0,0,0,0,0,0,0,0,0,0,0,0,0,0,0,0,0,0,0,0,0,0,0,0,0,0,0,0,0,0,0,{"$f":"IF(MV$1>$I34,0,\n  IF(MV$1<$G34,0,\n  IF(AND(MV$1>$G34,MV$1<$H34),14+$J34,\n  IF(AND(MV$1>$H34,MV$1<$I34),4+$J34,\n  IF(AND(MV$1=$G34,MV$1<>$H34,MV$1<>$I34),11+$J34,\n  IF(AND(MV$1<>$G34,MV$1=$H34,MV$1<>$I34),12+$J34,\n  IF(AND(MV$1<>$G34,MV$1<>$H34,MV$1=$I34),2+$J34,\n  IF(AND(MV$1=$G34,MV$1=$H34,MV$1<>$I34,$F34<>0),13+$J34,\n  IF(AND(MV$1=$G34,MV$1=$H34,MV$1<>$I34,$F34=0),1+$J34,\n  IF(AND(MV$1<>$G34,MV$1=$H34,MV$1=$I34),12+$J34,\n  IF(AND(MV$1=$G34,MV$1=$H34,MV$1=$I34,$F34<=0.5),3+$J34,13+$J34)))))))))))","v":0},0,0,0,0,0,0,0,0,0,0,0,0,0,0,0,0,0,0,0,0,0,0,0,0,0,0,0,0,0,0,0,0,0,0,0,0,0,0,0,0,0,0,0,0,0,0,0,0,0,0,0,0,0,0,0,0,0,0,0,0,0,0,0,{"$f":"IF(PH$1>$I34,0,\n  IF(PH$1<$G34,0,\n  IF(AND(PH$1>$G34,PH$1<$H34),14+$J34,\n  IF(AND(PH$1>$H34,PH$1<$I34),4+$J34,\n  IF(AND(PH$1=$G34,PH$1<>$H34,PH$1<>$I34),11+$J34,\n  IF(AND(PH$1<>$G34,PH$1=$H34,PH$1<>$I34),12+$J34,\n  IF(AND(PH$1<>$G34,PH$1<>$H34,PH$1=$I34),2+$J34,\n  IF(AND(PH$1=$G34,PH$1=$H34,PH$1<>$I34,$F34<>0),13+$J34,\n  IF(AND(PH$1=$G34,PH$1=$H34,PH$1<>$I34,$F34=0),1+$J34,\n  IF(AND(PH$1<>$G34,PH$1=$H34,PH$1=$I34),12+$J34,\n  IF(AND(PH$1=$G34,PH$1=$H34,PH$1=$I34,$F34<=0.5),3+$J34,13+$J34)))))))))))","v":0},0,0,0,0,0,0,0,0,0,0,0,0,0,0,0,0,0,0,0,0,0,0,0,0,0,0,0,0,0,0,0,0,0,0,0,0,0,0,0,0,0,0,0,0,0,0,0,0,0,0,0,0,0,0,0,0,0,0,0,0,0,0,0,0,0,0,0,0,0,0,0,0,0,0,0,0,0,0,0,0,0,0,0,0,0,0,0,null,{"$f":"IF(gIsItPlan,IF(AND(System!Z30,System!AA30),1,0),IF(AND(System!Z30,System!AB30),1,0))","v":1}]
[null,{"$f":"IF($SS35,IF(E35=1,System!B31,\"   \"&System!B31),\"\")","v":"   Установка мебели"},{"$f":"IF($SS35,IF(gIsItPlan,System!F31,System!I31),\"\")","v":"2014-08-01"},{"$f":"IF($SS35,IF(gIsItPlan,System!G31,System!J31),\"\")","v":"2014-08-02"},{"$f":"System!C31","v":2},{"$f":"System!L31","v":0},87,87,88,20,null,0,0,0,0,0,0,0,0,0,0,0,0,0,0,0,0,0,0,0,0,0,0,0,0,0,0,0,0,0,0,0,0,0,0,0,0,0,0,0,0,0,0,0,0,0,0,0,0,0,0,0,0,0,0,0,0,0,0,0,0,0,0,0,0,0,0,0,0,0,0,0,0,0,0,0,0,21,22,0,0,0,0,0,0,0,0,0,0,0,0,0,0,0,0,0,0,0,0,0,0,0,0,0,0,0,0,0,0,0,0,0,0,0,0,0,0,0,0,0,0,0,0,0,0,0,0,0,0,0,0,0,0,0,0,0,0,0,0,0,0,0,0,0,0,0,0,0,0,0,0,0,0,0,0,0,0,0,0,0,0,0,0,0,0,0,0,0,0,0,0,0,0,0,0,0,0,0,0,0,0,0,0,0,0,0,0,0,0,0,0,0,0,0,0,0,0,0,0,0,0,0,0,0,0,0,0,0,0,0,0,0,0,0,0,0,0,0,0,0,0,0,0,0,0,0,0,0,0,0,0,0,0,0,0,0,0,0,0,0,0,0,0,0,0,0,0,0,0,0,0,0,0,0,0,0,0,0,0,0,0,0,0,0,0,0,0,0,0,0,0,0,0,0,0,0,0,0,0,0,0,0,0,0,0,0,0,0,0,0,0,0,0,0,0,0,0,0,0,0,0,0,0,0,0,0,0,0,0,0,0,0,0,0,0,0,0,0,0,0,0,0,0,0,0,0,0,0,0,0,0,0,0,0,0,0,0,0,0,0,0,0,0,0,0,0,0,0,0,0,0,0,0,0,0,0,0,0,0,0,0,0,0,0,0,0,0,0,0,0,0,0,0,0,0,0,0,0,0,0,0,0,0,0,0,0,0,0,0,0,0,0,0,0,0,0,0,0,0,0,0,0,0,0,0,0,0,0,0,0,0,0,0,0,0,0,0,0,0,0,0,0,0,0,0,0,0,0,0,0,0,0,0,0,0,0,0,0,0,0,0,0,0,0,0,0,0,0,0,0,0,0,0,0,0,0,0,0,0,0,0,0,0,0,0,0,0,0,0,0,0,0,0,0,0,0,0,0,0,0,0,0,0,0,0,0,0,0,0,0,0,0,0,0,0,0,0,0,0,0,0,null,{"$f":"IF(gIsItPlan,IF(AND(System!Z31,System!AA31),1,0),IF(AND(System!Z31,System!AB31),1,0))","v":1}]
[null,{"$f":"IF($SS36,IF(E36=1,System!B32,\"   \"&System!B32),\"\")","v":"   Контроль качества"},{"$f":"IF($SS36,IF(gIsItPlan,System!F32,System!I32),\"\")","v":"2014-08-03"},{"$f":"IF($SS36,IF(gIsItPlan,System!G32,System!J32),\"\")","v":"2014-08-03"},{"$f":"System!C32","v":2},{"$f":"System!L32","v":0},88,88,88,20,null,0,0,0,0,0,0,0,0,0,0,0,0,0,0,0,0,0,0,0,0,0,0,0,0,0,0,0,0,0,0,0,0,0,0,0,0,0,0,0,0,0,0,0,0,0,0,0,0,0,0,0,0,0,0,0,0,0,0,0,0,0,0,0,0,0,0,0,0,0,0,0,0,0,0,0,0,0,23,0,0,0,0,0,0,0,0,0,0,0,0,0,0,0,0,0,0,0,0,0,0,0,0,0,0,0,0,0,0,0,0,0,0,0,0,0,0,0,0,0,0,0,0,0,0,0,0,0,0,0,0,0,0,0,0,0,0,0,0,0,0,0,0,0,0,0,0,0,0,0,0,0,0,0,0,0,0,0,0,0,0,0,0,0,0,0,0,0,0,0,0,0,0,0,0,0,0,0,0,0,0,0,0,0,0,0,0,0,0,0,0,0,0,0,0,0,0,0,0,0,0,0,0,0,0,0,0,0,0,0,0,0,0,0,0,0,0,0,0,0,0,0,0,0,0,0,0,0,0,0,0,0,0,0,0,0,0,0,0,0,0,0,0,0,0,0,0,0,0,0,0,0,0,0,0,0,0,0,0,0,0,0,0,0,0,0,0,0,0,0,0,0,0,0,0,0,0,0,0,0,0,0,0,0,0,0,0,0,0,0,0,0,0,0,0,0,0,0,0,0,0,0,0,0,0,0,0,0,0,0,0,0,0,0,0,0,0,0,0,0,0,0,0,0,0,0,0,0,0,0,0,0,0,0,0,0,0,0,0,0,0,0,0,0,0,0,0,0,0,0,0,0,0,0,0,0,0,0,0,0,0,0,0,0,0,0,0,0,0,0,0,0,0,0,0,0,0,0,0,0,0,0,0,0,0,0,0,0,0,0,0,0,0,0,0,0,0,0,0,0,0,0,0,0,0,0,0,0,0,0,0,0,0,0,0,0,0,0,0,0,0,0,0,0,0,0,0,0,0,0,0,0,0,0,0,0,0,0,0,0,0,0,0,0,0,0,0,0,0,0,0,0,0,0,0,0,0,0,0,0,0,0,0,0,0,0,0,0,0,0,0,0,0,0,0,0,0,0,0,0,0,0,0,0,0,0,0,0,0,0,0,0,0,0,0,0,0,0,0,0,0,null,{"$f":"IF(gIsItPlan,IF(AND(System!Z32,System!AA32),1,0),IF(AND(System!Z32,System!AB32),1,0))","v":1}]
[null,{"$f":"IF($SS37,IF(E37=1,System!B33,\"   \"&System!B33),\"\")","v":"Завершение"},{"$f":"IF($SS37,IF(gIsItPlan,System!F33,System!I33),\"\")","v":"2014-08-04"},{"$f":"IF($SS37,IF(gIsItPlan,System!G33,System!J33),\"\")","v":"2014-08-09"},{"$f":"System!C33","v":1},{"$f":"System!L33","v":0},89,89,91,0,null,0,0,0,0,0,0,0,0,0,0,0,0,0,0,0,0,0,0,0,0,0,0,0,0,0,0,0,0,0,0,0,0,0,0,0,0,0,0,0,0,0,0,0,0,0,0,0,0,0,0,0,0,0,0,0,0,0,0,0,0,0,0,0,0,0,0,0,0,0,0,0,0,0,0,0,0,0,0,1,4,2,0,0,0,0,0,0,0,0,0,0,0,0,0,0,0,0,0,0,0,0,0,0,0,0,0,0,0,0,0,0,0,0,0,0,0,0,0,0,0,0,0,0,0,0,0,0,0,0,0,0,0,0,0,0,0,0,0,0,0,0,0,0,0,0,0,0,0,0,0,0,0,0,0,0,0,0,0,0,0,0,0,0,0,0,0,0,0,0,0,0,0,0,0,0,0,0,0,0,0,0,0,0,0,0,0,0,0,0,0,0,0,0,0,0,0,0,0,0,0,0,0,0,0,0,0,0,0,0,0,0,0,0,0,0,0,0,0,0,0,0,0,0,0,0,0,0,0,0,0,0,0,0,0,0,0,0,0,0,0,0,0,0,0,0,0,0,0,0,0,0,0,0,0,0,0,0,0,0,0,0,0,0,0,0,0,0,0,0,0,0,0,0,0,0,0,0,0,0,0,0,0,0,0,0,0,0,0,0,0,0,0,0,0,0,0,0,0,0,0,0,0,0,0,0,0,0,0,0,0,0,0,0,0,0,0,0,0,0,0,0,0,0,0,0,0,0,0,0,0,0,0,0,0,0,0,0,0,0,0,0,0,0,0,0,0,0,0,0,0,0,0,0,0,0,0,0,0,0,0,0,0,0,0,0,0,0,0,0,0,0,0,0,0,0,0,0,0,0,0,0,0,0,0,0,0,0,0,0,0,0,0,0,0,0,0,0,0,0,0,0,0,0,0,0,0,0,0,0,0,0,0,0,0,0,0,0,0,0,0,0,0,0,0,0,0,0,0,0,0,0,0,0,0,0,0,0,0,0,0,0,0,0,0,0,0,0,0,0,0,0,0,0,0,0,0,0,0,0,0,0,0,0,0,0,0,0,0,0,0,0,0,0,0,0,0,0,0,0,0,0,0,0,0,0,0,0,0,0,0,0,0,0,0,0,0,0,0,0,0,null,{"$f":"IF(gIsItPlan,IF(AND(System!Z33,System!AA33),1,0),IF(AND(System!Z33,System!AB33),1,0))","v":1}]
[null,{"$f":"IF($SS38,IF(E38=1,System!B34,\"   \"&System!B34),\"\")","v":"   Приёмка работ"},{"$f":"IF($SS38,IF(gIsItPlan,System!F34,System!I34),\"\")","v":"2014-08-04"},{"$f":"IF($SS38,IF(gIsItPlan,System!G34,System!J34),\"\")","v":"2014-08-04"},{"$f":"System!C34","v":2},{"$f":"System!L34","v":0},{"$f":"IF($SS38,gFstCol+MATCH($C38,gGantStartDates,1)-1-IF(gDpC<1,gCpD-1,0),0)","v":89},{"$f":"IF($SS38,$G38+ROUND(($I38-$G38)*$F38-gDelta,0),0)","v":89},{"$f":"IF($SS38,gFstCol+MATCH($D38,gGantStartDates,1)-1,0)","v":89},20,null,0,0,0,0,0,0,0,0,0,0,0,0,0,0,0,0,0,0,0,0,0,0,0,0,0,0,0,0,0,0,0,0,0,0,0,0,0,0,0,0,0,0,0,0,0,0,0,0,0,0,0,0,0,0,0,0,0,0,0,0,0,0,0,0,0,0,0,0,0,0,0,0,0,0,0,0,0,0,23,0,0,0,0,0,0,0,0,0,0,0,0,0,0,0,0,0,0,0,0,0,0,0,0,0,0,0,0,0,0,0,0,0,0,0,0,0,0,0,0,0,0,0,0,0,0,0,0,0,0,0,0,0,0,0,0,0,0,0,0,0,0,0,0,0,0,0,0,0,0,0,0,0,0,0,0,0,0,0,0,0,0,0,0,0,0,0,0,0,0,0,0,0,0,0,0,0,0,0,0,0,0,0,0,0,0,0,0,0,0,0,0,0,0,0,0,0,0,0,0,0,0,0,0,0,0,0,0,0,0,0,0,0,0,0,0,0,0,0,0,0,0,0,0,0,0,0,0,0,0,0,0,0,0,0,0,0,0,0,0,0,0,0,0,0,0,0,0,0,0,0,0,0,0,0,0,0,0,0,0,0,0,0,0,0,0,0,0,0,0,0,0,0,0,0,0,0,0,0,0,0,0,0,0,0,0,0,0,0,0,0,0,0,0,0,0,0,0,0,0,0,0,0,0,0,0,0,0,0,0,0,0,0,0,0,0,0,0,0,0,0,0,0,0,0,0,0,0,0,0,0,0,0,0,0,0,0,0,0,0,0,0,0,0,0,0,0,0,0,0,0,0,0,0,0,0,0,0,0,0,0,0,0,0,0,0,0,0,0,0,0,0,0,0,0,0,0,0,0,0,0,0,0,0,0,0,0,0,0,0,0,0,0,0,0,0,0,0,0,0,0,0,0,0,0,0,0,0,0,0,0,0,0,0,0,0,0,0,0,0,0,0,0,0,0,0,0,0,0,0,0,0,0,0,0,0,0,0,0,0,0,0,0,0,0,0,0,0,0,0,0,0,0,0,0,0,0,0,0,0,0,0,0,0,0,0,0,0,0,0,0,0,0,0,0,0,0,0,0,0,0,0,0,0,0,0,0,0,0,0,0,0,0,0,0,0,0,0,0,0,0,null,{"$f":"IF(gIsItPlan,IF(AND(System!Z34,System!AA34),1,0),IF(AND(System!Z34,System!AB34),1,0))","v":1}]
[null,{"$f":"IF($SS39,IF(E39=1,System!B35,\"   \"&System!B35),\"\")","v":"   Устранение недостатков"},{"$f":"IF($SS39,IF(gIsItPlan,System!F35,System!I35),\"\")","v":"2014-08-05"},{"$f":"IF($SS39,IF(gIsItPlan,System!G35,System!J35),\"\")","v":"2014-08-07"},{"$f":"System!C35","v":2},{"$f":"System!L35","v":0},89,89,90,20,null,0,0,0,0,0,0,0,0,0,0,0,0,0,0,0,0,0,0,0,0,0,0,0,0,0,0,0,0,0,0,0,0,0,0,0,0,0,0,0,0,0,0,0,0,0,0,0,0,0,0,0,0,0,0,0,0,0,0,0,0,0,0,0,0,0,0,0,0,0,0,0,0,0,0,0,0,0,0,21,22,0,0,0,0,0,0,0,0,0,0,0,0,0,0,0,0,0,0,0,0,0,0,0,0,0,0,0,0,0,0,0,0,0,0,0,0,0,0,0,0,0,0,0,0,0,0,0,0,0,0,0,0,0,0,0,0,0,0,0,0,0,0,0,0,0,0,0,0,0,0,0,0,0,0,0,0,0,0,0,0,0,0,0,0,0,0,0,0,0,0,0,0,0,0,0,0,0,0,0,0,0,0,0,0,0,0,0,0,0,0,0,0,0,0,0,0,0,0,0,0,0,0,0,0,0,0,0,0,0,0,0,0,0,0,0,0,0,0,0,0,0,0,0,0,0,0,0,0,0,0,0,0,0,0,0,0,0,0,0,0,0,0,0,0,0,0,0,0,0,0,0,0,0,0,0,0,0,0,0,0,0,0,0,0,0,0,0,0,0,0,0,0,0,0,0,0,0,0,0,0,0,0,0,0,0,0,0,0,0,0,0,0,0,0,0,0,0,0,0,0,0,0,0,0,0,0,0,0,0,0,0,0,0,0,0,0,0,0,0,0,0,0,0,0,0,0,0,0,0,0,0,0,0,0,0,0,0,0,0,0,0,0,0,0,0,0,0,0,0,0,0,0,0,0,0,0,0,0,0,0,0,0,0,0,0,0,0,0,0,0,0,0,0,0,0,0,0,0,0,0,0,0,0,0,0,0,0,0,0,0,0,0,0,0,0,0,0,0,0,0,0,0,0,0,0,0,0,0,0,0,0,0,0,0,0,0,0,0,0,0,0,0,0,0,0,0,0,0,0,0,0,0,0,0,0,0,0,0,0,0,0,0,0,0,0,0,0,0,0,0,0,0,0,0,0,0,0,0,0,0,0,0,0,0,0,0,0,0,0,0,0,0,0,0,0,0,0,0,0,0,0,0,0,0,0,0,0,0,0,0,0,0,0,0,0,0,0,0,0,0,null,{"$f":"IF(gIsItPlan,IF(AND(System!Z35,System!AA35),1,0),IF(AND(System!Z35,System!AB35),1,0))","v":1}]
[null,{"$f":"IF($SS40,IF(E40=1,System!B36,\"   \"&System!B36),\"\")","v":"   Оплата услуг подрядчика"},{"$f":"IF($SS40,IF(gIsItPlan,System!F36,System!I36),\"\")","v":"2014-08-08"},{"$f":"IF($SS40,IF(gIsItPlan,System!G36,System!J36),\"\")","v":"2014-08-09"},{"$f":"System!C36","v":2},{"$f":"System!L36","v":0},91,91,91,20,null,0,0,0,0,0,0,0,0,0,0,0,0,0,0,0,0,0,0,0,0,0,0,0,0,0,0,0,0,0,0,0,0,0,0,0,0,0,0,0,0,0,0,0,0,0,0,0,0,0,0,0,0,0,0,0,0,0,0,0,0,0,0,0,0,0,0,0,0,0,0,0,0,0,0,0,0,0,0,0,0,23,0,0,0,0,0,0,0,0,0,0,0,0,0,0,0,0,0,0,0,0,0,0,0,0,0,0,0,0,0,0,0,0,0,0,0,0,0,0,0,0,0,0,0,0,0,0,0,0,0,0,0,0,0,0,0,0,0,0,0,0,0,0,0,0,0,0,0,0,0,0,0,0,0,0,0,0,0,0,0,0,0,0,0,0,0,0,0,0,0,0,0,0,0,0,0,0,0,0,0,0,0,0,0,0,0,0,0,0,0,0,0,0,0,0,0,0,0,0,0,0,0,0,0,0,0,0,0,0,0,0,0,0,0,0,0,0,0,0,0,0,0,0,0,0,0,0,0,0,0,0,0,0,0,0,0,0,0,0,0,0,0,0,0,0,0,0,0,0,0,0,0,0,0,0,0,0,0,0,0,0,0,0,0,0,0,0,0,0,0,0,0,0,0,0,0,0,0,0,0,0,0,0,0,0,0,0,0,0,0,0,0,0,0,0,0,0,0,0,0,0,0,0,0,0,0,0,0,0,0,0,0,0,0,0,0,0,0,0,0,0,0,0,0,0,0,0,0,0,0,0,0,0,0,0,0,0,0,0,0,0,0,0,0,0,0,0,0,0,0,0,0,0,0,0,0,0,0,0,0,0,0,0,0,0,0,0,0,0,0,0,0,0,0,0,0,0,0,0,0,0,0,0,0,0,0,0,0,0,0,0,0,0,0,0,0,0,0,0,0,0,0,0,0,0,0,0,0,0,0,0,0,0,0,0,0,0,0,0,0,0,0,0,0,0,0,0,0,0,0,0,0,0,0,0,0,0,0,0,0,0,0,0,0,0,0,0,0,0,0,0,0,0,0,0,0,0,0,0,0,0,0,0,0,0,0,0,0,0,0,0,0,0,0,0,0,0,0,0,0,0,0,0,0,0,0,0,0,0,0,0,0,0,0,0,0,0,0,0,0,null,{"$f":"IF(gIsItPlan,IF(AND(System!Z36,System!AA36),1,0),IF(AND(System!Z36,System!AB36),1,0))","v":1}]
[null,{"$f":"IF($SS41,IF(E41=1,System!B37,\"   \"&System!B37),\"\")","v":""},{"$f":"IF($SS41,IF(gIsItPlan,System!F37,System!I37),\"\")","v":""},{"$f":"IF($SS41,IF(gIsItPlan,System!G37,System!J37),\"\")","v":""},{"$f":"System!C37","v":0},{"$f":"System!L37","v":0},0,0,0,20,null,0,0,0,0,0,0,0,0,0,0,0,0,0,0,0,0,0,0,0,0,0,0,0,0,0,0,0,0,0,0,0,0,0,0,0,0,0,0,0,0,0,0,0,0,0,0,0,0,0,0,0,0,0,0,0,0,0,0,0,0,0,0,0,0,0,0,0,0,0,0,0,0,0,0,0,0,0,0,0,0,0,0,0,0,0,0,0,0,0,0,0,0,0,0,0,0,0,0,0,0,0,0,0,0,0,0,0,0,0,0,0,0,0,0,0,0,0,0,0,0,0,0,0,0,0,0,0,0,0,0,0,0,0,0,0,0,0,0,0,0,0,0,0,0,0,0,0,0,0,0,0,0,0,0,0,0,0,0,0,0,0,0,0,0,0,0,0,0,0,0,0,0,0,0,0,0,0,0,0,0,0,0,0,0,0,0,0,0,0,0,0,0,0,0,0,0,0,0,0,0,0,0,0,0,0,0,0,0,0,0,0,0,0,0,0,0,0,0,0,0,0,0,0,0,0,0,0,0,0,0,0,0,0,0,0,0,0,0,0,0,0,0,0,0,0,0,0,0,0,0,0,0,0,0,0,0,0,0,0,0,0,0,0,0,0,0,0,0,0,0,0,0,0,0,0,0,0,0,0,0,0,0,0,0,0,0,0,0,0,0,0,0,0,0,0,0,0,0,0,0,0,0,0,0,0,0,0,0,0,0,0,0,0,0,0,0,0,0,0,0,0,0,0,0,0,0,0,0,0,0,0,0,0,0,0,0,0,0,0,0,0,0,0,0,0,0,0,0,0,0,0,0,0,0,0,0,0,0,0,0,0,0,0,0,0,0,0,0,0,0,0,0,0,0,0,0,0,0,0,0,0,0,0,0,0,0,0,0,0,0,0,0,0,0,0,0,0,0,0,0,0,0,0,0,0,0,0,0,0,0,0,0,0,0,0,0,0,0,0,0,0,0,0,0,0,0,0,0,0,0,0,0,0,0,0,0,0,0,0,0,0,0,0,0,0,0,0,0,0,0,{"$f":"IF(QT$1>$I41,0,\n  IF(QT$1<$G41,0,\n  IF(AND(QT$1>$G41,QT$1<$H41),14+$J41,\n  IF(AND(QT$1>$H41,QT$1<$I41),4+$J41,\n  IF(AND(QT$1=$G41,QT$1<>$H41,QT$1<>$I41),11+$J41,\n  IF(AND(QT$1<>$G41,QT$1=$H41,QT$1<>$I41),12+$J41,\n  IF(AND(QT$1<>$G41,QT$1<>$H41,QT$1=$I41),2+$J41,\n  IF(AND(QT$1=$G41,QT$1=$H41,QT$1<>$I41,$F41<>0),13+$J41,\n  IF(AND(QT$1=$G41,QT$1=$H41,QT$1<>$I41,$F41=0),1+$J41,\n  IF(AND(QT$1<>$G41,QT$1=$H41,QT$1=$I41),12+$J41,\n  IF(AND(QT$1=$G41,QT$1=$H41,QT$1=$I41,$F41<=0.5),3+$J41,13+$J41)))))))))))","v":0},0,0,0,0,0,0,0,0,0,0,0,0,0,0,0,0,0,0,0,0,0,0,0,0,0,0,0,0,0,{"$f":"IF(RX$1>$I41,0,\n  IF(RX$1<$G41,0,\n  IF(AND(RX$1>$G41,RX$1<$H41),14+$J41,\n  IF(AND(RX$1>$H41,RX$1<$I41),4+$J41,\n  IF(AND(RX$1=$G41,RX$1<>$H41,RX$1<>$I41),11+$J41,\n  IF(AND(RX$1<>$G41,RX$1=$H41,RX$1<>$I41),12+$J41,\n  IF(AND(RX$1<>$G41,RX$1<>$H41,RX$1=$I41),2+$J41,\n  IF(AND(RX$1=$G41,RX$1=$H41,RX$1<>$I41,$F41<>0),13+$J41,\n  IF(AND(RX$1=$G41,RX$1=$H41,RX$1<>$I41,$F41=0),1+$J41,\n  IF(AND(RX$1<>$G41,RX$1=$H41,RX$1=$I41),12+$J41,\n  IF(AND(RX$1=$G41,RX$1=$H41,RX$1=$I41,$F41<=0.5),3+$J41,13+$J41)))))))))))","v":0},0,0,0,0,0,0,0,0,0,0,0,0,0,0,0,0,0,0,0,null,{"$f":"IF(gIsItPlan,IF(AND(System!Z37,System!AA37),1,0),IF(AND(System!Z37,System!AB37),1,0))","v":0}]
[null,{"$f":"IF($SS42,IF(E42=1,System!B38,\"   \"&System!B38),\"\")","v":""},{"$f":"IF($SS42,IF(gIsItPlan,System!F38,System!I38),\"\")","v":""},{"$f":"IF($SS42,IF(gIsItPlan,System!G38,System!J38),\"\")","v":""},{"$f":"System!C38","v":0},{"$f":"System!L38","v":0},0,0,0,20,null,0,0,0,0,0,0,0,0,0,0,0,0,0,0,0,0,0,0,0,0,0,0,0,0,0,0,0,0,0,0,0,0,0,0,0,0,0,0,0,0,0,0,0,0,0,0,0,0,0,0,0,0,0,0,0,0,0,0,0,0,0,0,0,0,0,0,0,0,0,0,0,0,0,0,0,0,0,0,0,0,0,0,0,0,0,0,0,0,0,0,0,0,0,0,0,0,0,0,0,0,0,0,0,0,0,0,0,0,0,0,0,0,0,0,0,0,0,0,0,0,0,0,0,0,0,0,0,0,0,0,0,0,0,0,0,0,0,0,0,0,0,0,0,0,0,0,0,0,0,0,0,0,0,0,0,0,0,0,0,0,0,0,0,0,0,0,0,0,0,0,0,0,0,0,0,0,0,0,0,0,0,0,0,0,0,0,0,0,0,0,0,0,0,0,0,0,0,0,0,0,0,0,0,0,0,0,0,0,0,0,0,0,0,0,0,0,0,0,0,0,0,0,0,0,0,0,0,0,0,0,0,0,0,0,0,0,0,0,0,0,0,0,0,0,0,0,0,0,0,0,0,0,0,0,0,0,0,0,0,0,0,0,0,0,0,0,0,0,0,0,0,0,0,0,0,0,0,0,0,0,0,0,0,0,0,0,0,0,0,0,0,0,0,0,0,0,0,0,0,0,0,0,0,0,0,0,0,0,0,0,0,0,0,0,0,0,0,0,0,0,0,0,0,0,0,0,0,0,0,0,0,0,0,0,0,0,0,0,0,0,0,0,0,0,0,0,0,0,0,0,0,0,0,0,0,0,0,0,0,0,0,0,0,0,0,0,0,0,0,0,0,0,0,0,0,0,0,0,0,0,0,0,0,0,0,0,0,0,0,0,0,0,0,0,0,0,0,0,0,0,0,0,0,0,0,0,0,0,0,0,0,0,0,0,0,0,0,0,0,0,0,0,0,0,0,0,0,0,0,0,0,0,0,0,0,0,0,0,0,0,0,0,0,0,0,0,0,{"$f":"IF(QQ$1>$I42,0,\n  IF(QQ$1<$G42,0,\n  IF(AND(QQ$1>$G42,QQ$1<$H42),14+$J42,\n  IF(AND(QQ$1>$H42,QQ$1<$I42),4+$J42,\n  IF(AND(QQ$1=$G42,QQ$1<>$H42,QQ$1<>$I42),11+$J42,\n  IF(AND(QQ$1<>$G42,QQ$1=$H42,QQ$1<>$I42),12+$J42,\n  IF(AND(QQ$1<>$G42,QQ$1<>$H42,QQ$1=$I42),2+$J42,\n  IF(AND(QQ$1=$G42,QQ$1=$H42,QQ$1<>$I42,$F42<>0),13+$J42,\n  IF(AND(QQ$1=$G42,QQ$1=$H42,QQ$1<>$I42,$F42=0),1+$J42,\n  IF(AND(QQ$1<>$G42,QQ$1=$H42,QQ$1=$I42),12+$J42,\n  IF(AND(QQ$1=$G42,QQ$1=$H42,QQ$1=$I42,$F42<=0.5),3+$J42,13+$J42)))))))))))","v":0},0,0,0,0,0,0,0,0,0,0,0,0,0,0,0,0,0,0,0,0,0,0,0,0,0,0,0,0,0,0,0,0,0,0,0,0,0,0,0,0,0,0,0,0,0,0,0,0,0,0,0,0,null,{"$f":"IF(gIsItPlan,IF(AND(System!Z38,System!AA38),1,0),IF(AND(System!Z38,System!AB38),1,0))","v":0}]
[null,{"$f":"IF($SS43,IF(E43=1,System!B39,\"   \"&System!B39),\"\")","v":""},{"$f":"IF($SS43,IF(gIsItPlan,System!F39,System!I39),\"\")","v":""},{"$f":"IF($SS43,IF(gIsItPlan,System!G39,System!J39),\"\")","v":""},{"$f":"System!C39","v":0},{"$f":"System!L39","v":0},0,0,0,20,null,0,0,0,0,0,0,0,0,0,0,0,0,0,0,0,0,0,0,0,0,0,0,0,0,0,0,0,0,0,0,0,0,0,0,0,0,0,0,0,0,0,0,0,0,0,0,0,0,0,0,0,0,0,0,0,0,0,0,0,0,0,0,0,0,0,0,0,0,0,0,0,0,0,0,0,0,0,0,0,0,0,0,0,0,0,0,0,0,0,0,0,0,0,0,0,0,0,0,0,0,0,0,0,0,0,0,0,0,0,0,0,0,0,0,0,0,0,0,0,0,0,0,0,0,0,0,0,0,0,0,0,0,0,0,0,0,0,0,0,0,0,0,0,0,0,0,0,0,0,0,0,0,0,0,0,0,0,0,0,0,0,0,0,0,0,0,0,0,0,0,0,0,0,0,0,0,0,0,0,0,0,0,0,0,0,0,0,0,0,0,0,0,0,0,0,0,0,0,0,0,0,0,0,0,0,0,0,0,0,0,0,0,0,0,0,0,0,0,0,0,0,0,0,0,0,0,0,0,0,0,0,0,0,0,0,0,0,0,0,0,0,0,0,0,0,0,0,0,0,0,0,0,0,0,0,0,0,0,0,0,0,0,0,0,0,0,0,0,0,0,0,0,0,0,0,0,0,0,0,0,0,0,0,0,0,0,0,0,0,0,0,0,0,0,0,0,0,0,0,0,0,0,0,0,0,0,0,0,0,0,0,0,0,0,0,0,0,0,0,0,0,0,0,0,0,0,0,0,0,0,0,0,0,0,0,0,0,0,0,0,0,0,0,0,0,0,0,0,0,0,0,0,0,0,0,0,0,0,0,0,0,0,0,0,0,0,0,0,0,0,0,0,0,0,0,0,0,0,0,0,0,0,0,0,0,0,0,0,0,0,0,0,0,0,0,0,0,0,0,0,0,0,0,0,0,0,0,0,0,0,0,0,0,0,0,0,0,0,0,0,0,0,0,0,0,0,0,0,0,0,0,0,0,0,0,0,0,0,0,0,0,0,0,0,0,0,0,0,0,0,0,0,0,0,0,0,0,0,0,0,0,0,0,0,0,0,0,0,0,0,0,{"$f":"IF(RO$1>$I43,0,\n  IF(RO$1<$G43,0,\n  IF(AND(RO$1>$G43,RO$1<$H43),14+$J43,\n  IF(AND(RO$1>$H43,RO$1<$I43),4+$J43,\n  IF(AND(RO$1=$G43,RO$1<>$H43,RO$1<>$I43),11+$J43,\n  IF(AND(RO$1<>$G43,RO$1=$H43,RO$1<>$I43),12+$J43,\n  IF(AND(RO$1<>$G43,RO$1<>$H43,RO$1=$I43),2+$J43,\n  IF(AND(RO$1=$G43,RO$1=$H43,RO$1<>$I43,$F43<>0),13+$J43,\n  IF(AND(RO$1=$G43,RO$1=$H43,RO$1<>$I43,$F43=0),1+$J43,\n  IF(AND(RO$1<>$G43,RO$1=$H43,RO$1=$I43),12+$J43,\n  IF(AND(RO$1=$G43,RO$1=$H43,RO$1=$I43,$F43<=0.5),3+$J43,13+$J43)))))))))))","v":0},0,0,0,0,0,0,0,0,0,0,0,0,0,0,0,0,0,0,0,0,0,0,0,0,0,0,0,0,null,{"$f":"IF(gIsItPlan,IF(AND(System!Z39,System!AA39),1,0),IF(AND(System!Z39,System!AB39),1,0))","v":0}]
[null,{"$f":"IF($SS44,IF(E44=1,System!B40,\"   \"&System!B40),\"\")","v":""},{"$f":"IF($SS44,IF(gIsItPlan,System!F40,System!I40),\"\")","v":""},{"$f":"IF($SS44,IF(gIsItPlan,System!G40,System!J40),\"\")","v":""},{"$f":"System!C40","v":0},{"$f":"System!L40","v":0},0,0,0,20,null,0,0,0,0,0,0,0,0,0,0,0,0,0,0,0,0,0,0,0,0,0,0,0,0,0,0,0,0,0,0,0,0,0,0,0,0,0,0,0,0,0,0,0,0,0,0,0,0,0,0,0,0,0,0,0,0,0,0,0,0,0,0,{"$f":"IF(BV$1>$I44,0,\n  IF(BV$1<$G44,0,\n  IF(AND(BV$1>$G44,BV$1<$H44),14+$J44,\n  IF(AND(BV$1>$H44,BV$1<$I44),4+$J44,\n  IF(AND(BV$1=$G44,BV$1<>$H44,BV$1<>$I44),11+$J44,\n  IF(AND(BV$1<>$G44,BV$1=$H44,BV$1<>$I44),12+$J44,\n  IF(AND(BV$1<>$G44,BV$1<>$H44,BV$1=$I44),2+$J44,\n  IF(AND(BV$1=$G44,BV$1=$H44,BV$1<>$I44,$F44<>0),13+$J44,\n  IF(AND(BV$1=$G44,BV$1=$H44,BV$1<>$I44,$F44=0),1+$J44,\n  IF(AND(BV$1<>$G44,BV$1=$H44,BV$1=$I44),12+$J44,\n  IF(AND(BV$1=$G44,BV$1=$H44,BV$1=$I44,$F44<=0.5),3+$J44,13+$J44)))))))))))","v":0},0,0,0,0,0,0,0,0,0,0,0,0,0,0,0,0,0,0,0,0,0,0,0,0,0,0,0,0,0,0,0,0,0,0,0,0,0,0,0,0,0,0,0,0,0,0,0,{"$f":"IF(DR$1>$I44,0,\n  IF(DR$1<$G44,0,\n  IF(AND(DR$1>$G44,DR$1<$H44),14+$J44,\n  IF(AND(DR$1>$H44,DR$1<$I44),4+$J44,\n  IF(AND(DR$1=$G44,DR$1<>$H44,DR$1<>$I44),11+$J44,\n  IF(AND(DR$1<>$G44,DR$1=$H44,DR$1<>$I44),12+$J44,\n  IF(AND(DR$1<>$G44,DR$1<>$H44,DR$1=$I44),2+$J44,\n  IF(AND(DR$1=$G44,DR$1=$H44,DR$1<>$I44,$F44<>0),13+$J44,\n  IF(AND(DR$1=$G44,DR$1=$H44,DR$1<>$I44,$F44=0),1+$J44,\n  IF(AND(DR$1<>$G44,DR$1=$H44,DR$1=$I44),12+$J44,\n  IF(AND(DR$1=$G44,DR$1=$H44,DR$1=$I44,$F44<=0.5),3+$J44,13+$J44)))))))))))","v":0},0,0,0,0,0,0,0,0,0,0,0,0,0,0,0,0,0,0,0,0,0,0,0,0,0,0,0,0,0,0,0,0,0,0,0,0,0,0,0,0,0,0,0,0,0,0,{"$f":"IF(FM$1>$I44,0,\n  IF(FM$1<$G44,0,\n  IF(AND(FM$1>$G44,FM$1<$H44),14+$J44,\n  IF(AND(FM$1>$H44,FM$1<$I44),4+$J44,\n  IF(AND(FM$1=$G44,FM$1<>$H44,FM$1<>$I44),11+$J44,\n  IF(AND(FM$1<>$G44,FM$1=$H44,FM$1<>$I44),12+$J44,\n  IF(AND(FM$1<>$G44,FM$1<>$H44,FM$1=$I44),2+$J44,\n  IF(AND(FM$1=$G44,FM$1=$H44,FM$1<>$I44,$F44<>0),13+$J44,\n  IF(AND(FM$1=$G44,FM$1=$H44,FM$1<>$I44,$F44=0),1+$J44,\n  IF(AND(FM$1<>$G44,FM$1=$H44,FM$1=$I44),12+$J44,\n  IF(AND(FM$1=$G44,FM$1=$H44,FM$1=$I44,$F44<=0.5),3+$J44,13+$J44)))))))))))","v":0},0,0,0,0,0,0,0,0,0,0,0,0,0,0,0,0,0,0,0,0,0,0,0,0,0,0,0,0,0,0,0,0,{"$f":"IF(GT$1>$I44,0,\n  IF(GT$1<$G44,0,\n  IF(AND(GT$1>$G44,GT$1<$H44),14+$J44,\n  IF(AND(GT$1>$H44,GT$1<$I44),4+$J44,\n  IF(AND(GT$1=$G44,GT$1<>$H44,GT$1<>$I44),11+$J44,\n  IF(AND(GT$1<>$G44,GT$1=$H44,GT$1<>$I44),12+$J44,\n  IF(AND(GT$1<>$G44,GT$1<>$H44,GT$1=$I44),2+$J44,\n  IF(AND(GT$1=$G44,GT$1=$H44,GT$1<>$I44,$F44<>0),13+$J44,\n  IF(AND(GT$1=$G44,GT$1=$H44,GT$1<>$I44,$F44=0),1+$J44,\n  IF(AND(GT$1<>$G44,GT$1=$H44,GT$1=$I44),12+$J44,\n  IF(AND(GT$1=$G44,GT$1=$H44,GT$1=$I44,$F44<=0.5),3+$J44,13+$J44)))))))))))","v":0},0,0,0,0,0,0,0,0,0,0,0,0,0,0,0,0,0,0,0,0,0,0,0,0,0,0,0,0,0,0,0,0,0,0,0,0,0,0,0,0,0,0,0,0,0,0,0,0,0,0,0,0,0,0,0,0,0,0,0,0,0,0,0,{"$f":"IF(JF$1>$I44,0,\n  IF(JF$1<$G44,0,\n  IF(AND(JF$1>$G44,JF$1<$H44),14+$J44,\n  IF(AND(JF$1>$H44,JF$1<$I44),4+$J44,\n  IF(AND(JF$1=$G44,JF$1<>$H44,JF$1<>$I44),11+$J44,\n  IF(AND(JF$1<>$G44,JF$1=$H44,JF$1<>$I44),12+$J44,\n  IF(AND(JF$1<>$G44,JF$1<>$H44,JF$1=$I44),2+$J44,\n  IF(AND(JF$1=$G44,JF$1=$H44,JF$1<>$I44,$F44<>0),13+$J44,\n  IF(AND(JF$1=$G44,JF$1=$H44,JF$1<>$I44,$F44=0),1+$J44,\n  IF(AND(JF$1<>$G44,JF$1=$H44,JF$1=$I44),12+$J44,\n  IF(AND(JF$1=$G44,JF$1=$H44,JF$1=$I44,$F44<=0.5),3+$J44,13+$J44)))))))))))","v":0},0,0,0,0,0,0,0,0,0,0,0,0,0,0,0,0,0,0,0,0,0,0,0,0,0,0,0,0,0,0,0,0,0,0,0,0,0,0,0,0,0,0,0,0,0,0,0,0,0,0,0,0,0,0,0,0,0,0,0,0,0,0,0,{"$f":"IF(LR$1>$I44,0,\n  IF(LR$1<$G44,0,\n  IF(AND(LR$1>$G44,LR$1<$H44),14+$J44,\n  IF(AND(LR$1>$H44,LR$1<$I44),4+$J44,\n  IF(AND(LR$1=$G44,LR$1<>$H44,LR$1<>$I44),11+$J44,\n  IF(AND(LR$1<>$G44,LR$1=$H44,LR$1<>$I44),12+$J44,\n  IF(AND(LR$1<>$G44,LR$1<>$H44,LR$1=$I44),2+$J44,\n  IF(AND(LR$1=$G44,LR$1=$H44,LR$1<>$I44,$F44<>0),13+$J44,\n  IF(AND(LR$1=$G44,LR$1=$H44,LR$1<>$I44,$F44=0),1+$J44,\n  IF(AND(LR$1<>$G44,LR$1=$H44,LR$1=$I44),12+$J44,\n  IF(AND(LR$1=$G44,LR$1=$H44,LR$1=$I44,$F44<=0.5),3+$J44,13+$J44)))))))))))","v":0},0,0,0,0,0,0,0,0,0,0,0,0,0,0,0,0,0,0,0,0,0,0,0,0,0,0,0,0,0,0,0,0,0,0,0,0,0,0,0,0,0,0,0,0,0,0,0,0,0,0,0,0,0,0,0,0,0,0,0,0,0,0,0,{"$f":"IF(OD$1>$I44,0,\n  IF(OD$1<$G44,0,\n  IF(AND(OD$1>$G44,OD$1<$H44),14+$J44,\n  IF(AND(OD$1>$H44,OD$1<$I44),4+$J44,\n  IF(AND(OD$1=$G44,OD$1<>$H44,OD$1<>$I44),11+$J44,\n  IF(AND(OD$1<>$G44,OD$1=$H44,OD$1<>$I44),12+$J44,\n  IF(AND(OD$1<>$G44,OD$1<>$H44,OD$1=$I44),2+$J44,\n  IF(AND(OD$1=$G44,OD$1=$H44,OD$1<>$I44,$F44<>0),13+$J44,\n  IF(AND(OD$1=$G44,OD$1=$H44,OD$1<>$I44,$F44=0),1+$J44,\n  IF(AND(OD$1<>$G44,OD$1=$H44,OD$1=$I44),12+$J44,\n  IF(AND(OD$1=$G44,OD$1=$H44,OD$1=$I44,$F44<=0.5),3+$J44,13+$J44)))))))))))","v":0},0,0,0,0,0,0,0,0,0,0,0,0,0,0,0,0,0,0,0,0,0,0,0,0,0,0,0,0,0,0,0,0,0,0,0,0,0,0,0,0,0,0,0,0,0,0,0,0,0,0,0,0,0,0,0,0,0,0,0,0,0,0,0,{"$f":"IF(QP$1>$I44,0,\n  IF(QP$1<$G44,0,\n  IF(AND(QP$1>$G44,QP$1<$H44),14+$J44,\n  IF(AND(QP$1>$H44,QP$1<$I44),4+$J44,\n  IF(AND(QP$1=$G44,QP$1<>$H44,QP$1<>$I44),11+$J44,\n  IF(AND(QP$1<>$G44,QP$1=$H44,QP$1<>$I44),12+$J44,\n  IF(AND(QP$1<>$G44,QP$1<>$H44,QP$1=$I44),2+$J44,\n  IF(AND(QP$1=$G44,QP$1=$H44,QP$1<>$I44,$F44<>0),13+$J44,\n  IF(AND(QP$1=$G44,QP$1=$H44,QP$1<>$I44,$F44=0),1+$J44,\n  IF(AND(QP$1<>$G44,QP$1=$H44,QP$1=$I44),12+$J44,\n  IF(AND(QP$1=$G44,QP$1=$H44,QP$1=$I44,$F44<=0.5),3+$J44,13+$J44)))))))))))","v":0},0,0,0,0,0,0,0,0,0,0,0,0,0,0,0,0,0,0,0,{"$f":"IF(RJ$1>$I44,0,\n  IF(RJ$1<$G44,0,\n  IF(AND(RJ$1>$G44,RJ$1<$H44),14+$J44,\n  IF(AND(RJ$1>$H44,RJ$1<$I44),4+$J44,\n  IF(AND(RJ$1=$G44,RJ$1<>$H44,RJ$1<>$I44),11+$J44,\n  IF(AND(RJ$1<>$G44,RJ$1=$H44,RJ$1<>$I44),12+$J44,\n  IF(AND(RJ$1<>$G44,RJ$1<>$H44,RJ$1=$I44),2+$J44,\n  IF(AND(RJ$1=$G44,RJ$1=$H44,RJ$1<>$I44,$F44<>0),13+$J44,\n  IF(AND(RJ$1=$G44,RJ$1=$H44,RJ$1<>$I44,$F44=0),1+$J44,\n  IF(AND(RJ$1<>$G44,RJ$1=$H44,RJ$1=$I44),12+$J44,\n  IF(AND(RJ$1=$G44,RJ$1=$H44,RJ$1=$I44,$F44<=0.5),3+$J44,13+$J44)))))))))))","v":0},0,0,0,0,0,0,0,0,0,0,0,0,0,0,0,0,0,0,0,0,0,0,0,0,0,0,0,0,0,0,0,0,0,null,{"$f":"IF(gIsItPlan,IF(AND(System!Z40,System!AA40),1,0),IF(AND(System!Z40,System!AB40),1,0))","v":0}]
[null,{"$f":"IF($SS45,IF(E45=1,System!B41,\"   \"&System!B41),\"\")","v":""},{"$f":"IF($SS45,IF(gIsItPlan,System!F41,System!I41),\"\")","v":""},{"$f":"IF($SS45,IF(gIsItPlan,System!G41,System!J41),\"\")","v":""},{"$f":"System!C41","v":0},{"$f":"System!L41","v":0},0,0,0,20,null,0,0,0,0,0,0,0,0,0,0,0,0,0,0,0,{"$f":"IF(AA$1>$I45,0,\n  IF(AA$1<$G45,0,\n  IF(AND(AA$1>$G45,AA$1<$H45),14+$J45,\n  IF(AND(AA$1>$H45,AA$1<$I45),4+$J45,\n  IF(AND(AA$1=$G45,AA$1<>$H45,AA$1<>$I45),11+$J45,\n  IF(AND(AA$1<>$G45,AA$1=$H45,AA$1<>$I45),12+$J45,\n  IF(AND(AA$1<>$G45,AA$1<>$H45,AA$1=$I45),2+$J45,\n  IF(AND(AA$1=$G45,AA$1=$H45,AA$1<>$I45,$F45<>0),13+$J45,\n  IF(AND(AA$1=$G45,AA$1=$H45,AA$1<>$I45,$F45=0),1+$J45,\n  IF(AND(AA$1<>$G45,AA$1=$H45,AA$1=$I45),12+$J45,\n  IF(AND(AA$1=$G45,AA$1=$H45,AA$1=$I45,$F45<=0.5),3+$J45,13+$J45)))))))))))","v":0},0,0,0,0,0,0,0,0,0,0,0,0,0,0,0,0,0,0,0,0,0,0,0,0,0,0,0,0,0,0,0,{"$f":"IF(BG$1>$I45,0,\n  IF(BG$1<$G45,0,\n  IF(AND(BG$1>$G45,BG$1<$H45),14+$J45,\n  IF(AND(BG$1>$H45,BG$1<$I45),4+$J45,\n  IF(AND(BG$1=$G45,BG$1<>$H45,BG$1<>$I45),11+$J45,\n  IF(AND(BG$1<>$G45,BG$1=$H45,BG$1<>$I45),12+$J45,\n  IF(AND(BG$1<>$G45,BG$1<>$H45,BG$1=$I45),2+$J45,\n  IF(AND(BG$1=$G45,BG$1=$H45,BG$1<>$I45,$F45<>0),13+$J45,\n  IF(AND(BG$1=$G45,BG$1=$H45,BG$1<>$I45,$F45=0),1+$J45,\n  IF(AND(BG$1<>$G45,BG$1=$H45,BG$1=$I45),12+$J45,\n  IF(AND(BG$1=$G45,BG$1=$H45,BG$1=$I45,$F45<=0.5),3+$J45,13+$J45)))))))))))","v":0},0,0,0,0,0,0,0,0,0,0,0,0,0,0,0,0,0,0,0,0,0,0,0,0,0,0,0,0,0,0,0,0,0,0,0,0,0,0,0,0,0,0,0,0,0,0,0,0,0,0,0,0,0,0,0,0,0,0,0,0,{"$f":"IF(DP$1>$I45,0,\n  IF(DP$1<$G45,0,\n  IF(AND(DP$1>$G45,DP$1<$H45),14+$J45,\n  IF(AND(DP$1>$H45,DP$1<$I45),4+$J45,\n  IF(AND(DP$1=$G45,DP$1<>$H45,DP$1<>$I45),11+$J45,\n  IF(AND(DP$1<>$G45,DP$1=$H45,DP$1<>$I45),12+$J45,\n  IF(AND(DP$1<>$G45,DP$1<>$H45,DP$1=$I45),2+$J45,\n  IF(AND(DP$1=$G45,DP$1=$H45,DP$1<>$I45,$F45<>0),13+$J45,\n  IF(AND(DP$1=$G45,DP$1=$H45,DP$1<>$I45,$F45=0),1+$J45,\n  IF(AND(DP$1<>$G45,DP$1=$H45,DP$1=$I45),12+$J45,\n  IF(AND(DP$1=$G45,DP$1=$H45,DP$1=$I45,$F45<=0.5),3+$J45,13+$J45)))))))))))","v":0},0,0,0,0,0,0,0,0,0,0,0,0,0,0,0,0,0,0,0,0,0,0,0,0,0,0,0,0,0,0,0,0,0,{"$f":"IF(EX$1>$I45,0,\n  IF(EX$1<$G45,0,\n  IF(AND(EX$1>$G45,EX$1<$H45),14+$J45,\n  IF(AND(EX$1>$H45,EX$1<$I45),4+$J45,\n  IF(AND(EX$1=$G45,EX$1<>$H45,EX$1<>$I45),11+$J45,\n  IF(AND(EX$1<>$G45,EX$1=$H45,EX$1<>$I45),12+$J45,\n  IF(AND(EX$1<>$G45,EX$1<>$H45,EX$1=$I45),2+$J45,\n  IF(AND(EX$1=$G45,EX$1=$H45,EX$1<>$I45,$F45<>0),13+$J45,\n  IF(AND(EX$1=$G45,EX$1=$H45,EX$1<>$I45,$F45=0),1+$J45,\n  IF(AND(EX$1<>$G45,EX$1=$H45,EX$1=$I45),12+$J45,\n  IF(AND(EX$1=$G45,EX$1=$H45,EX$1=$I45,$F45<=0.5),3+$J45,13+$J45)))))))))))","v":0},0,0,0,0,0,0,0,0,0,0,0,0,0,0,0,0,0,0,0,0,0,0,0,0,0,0,0,0,0,0,0,0,0,0,0,0,0,0,0,0,0,0,0,0,0,0,{"$f":"IF(GS$1>$I45,0,\n  IF(GS$1<$G45,0,\n  IF(AND(GS$1>$G45,GS$1<$H45),14+$J45,\n  IF(AND(GS$1>$H45,GS$1<$I45),4+$J45,\n  IF(AND(GS$1=$G45,GS$1<>$H45,GS$1<>$I45),11+$J45,\n  IF(AND(GS$1<>$G45,GS$1=$H45,GS$1<>$I45),12+$J45,\n  IF(AND(GS$1<>$G45,GS$1<>$H45,GS$1=$I45),2+$J45,\n  IF(AND(GS$1=$G45,GS$1=$H45,GS$1<>$I45,$F45<>0),13+$J45,\n  IF(AND(GS$1=$G45,GS$1=$H45,GS$1<>$I45,$F45=0),1+$J45,\n  IF(AND(GS$1<>$G45,GS$1=$H45,GS$1=$I45),12+$J45,\n  IF(AND(GS$1=$G45,GS$1=$H45,GS$1=$I45,$F45<=0.5),3+$J45,13+$J45)))))))))))","v":0},0,0,0,0,0,0,0,0,0,0,0,0,0,0,0,0,0,0,0,0,0,0,0,0,0,0,0,0,0,0,0,0,0,0,0,0,0,0,0,0,0,0,0,0,0,0,0,0,0,0,0,0,0,0,0,0,0,0,0,0,0,0,0,{"$f":"IF(JE$1>$I45,0,\n  IF(JE$1<$G45,0,\n  IF(AND(JE$1>$G45,JE$1<$H45),14+$J45,\n  IF(AND(JE$1>$H45,JE$1<$I45),4+$J45,\n  IF(AND(JE$1=$G45,JE$1<>$H45,JE$1<>$I45),11+$J45,\n  IF(AND(JE$1<>$G45,JE$1=$H45,JE$1<>$I45),12+$J45,\n  IF(AND(JE$1<>$G45,JE$1<>$H45,JE$1=$I45),2+$J45,\n  IF(AND(JE$1=$G45,JE$1=$H45,JE$1<>$I45,$F45<>0),13+$J45,\n  IF(AND(JE$1=$G45,JE$1=$H45,JE$1<>$I45,$F45=0),1+$J45,\n  IF(AND(JE$1<>$G45,JE$1=$H45,JE$1=$I45),12+$J45,\n  IF(AND(JE$1=$G45,JE$1=$H45,JE$1=$I45,$F45<=0.5),3+$J45,13+$J45)))))))))))","v":0},0,0,0,0,0,0,0,0,0,0,0,0,0,0,0,0,0,0,0,0,0,0,0,0,0,0,0,0,0,0,0,0,0,0,0,0,0,0,0,0,0,0,0,0,0,0,0,0,0,0,0,0,0,0,0,0,0,0,0,0,0,0,0,{"$f":"IF(LQ$1>$I45,0,\n  IF(LQ$1<$G45,0,\n  IF(AND(LQ$1>$G45,LQ$1<$H45),14+$J45,\n  IF(AND(LQ$1>$H45,LQ$1<$I45),4+$J45,\n  IF(AND(LQ$1=$G45,LQ$1<>$H45,LQ$1<>$I45),11+$J45,\n  IF(AND(LQ$1<>$G45,LQ$1=$H45,LQ$1<>$I45),12+$J45,\n  IF(AND(LQ$1<>$G45,LQ$1<>$H45,LQ$1=$I45),2+$J45,\n  IF(AND(LQ$1=$G45,LQ$1=$H45,LQ$1<>$I45,$F45<>0),13+$J45,\n  IF(AND(LQ$1=$G45,LQ$1=$H45,LQ$1<>$I45,$F45=0),1+$J45,\n  IF(AND(LQ$1<>$G45,LQ$1=$H45,LQ$1=$I45),12+$J45,\n  IF(AND(LQ$1=$G45,LQ$1=$H45,LQ$1=$I45,$F45<=0.5),3+$J45,13+$J45)))))))))))","v":0},0,0,0,0,0,0,0,0,0,0,0,0,0,0,0,0,0,0,0,0,0,0,0,0,0,0,0,0,0,0,0,0,0,0,0,0,0,0,0,0,0,0,0,0,0,0,0,0,0,0,0,0,0,0,0,0,0,0,0,0,0,0,0,{"$f":"IF(OC$1>$I45,0,\n  IF(OC$1<$G45,0,\n  IF(AND(OC$1>$G45,OC$1<$H45),14+$J45,\n  IF(AND(OC$1>$H45,OC$1<$I45),4+$J45,\n  IF(AND(OC$1=$G45,OC$1<>$H45,OC$1<>$I45),11+$J45,\n  IF(AND(OC$1<>$G45,OC$1=$H45,OC$1<>$I45),12+$J45,\n  IF(AND(OC$1<>$G45,OC$1<>$H45,OC$1=$I45),2+$J45,\n  IF(AND(OC$1=$G45,OC$1=$H45,OC$1<>$I45,$F45<>0),13+$J45,\n  IF(AND(OC$1=$G45,OC$1=$H45,OC$1<>$I45,$F45=0),1+$J45,\n  IF(AND(OC$1<>$G45,OC$1=$H45,OC$1=$I45),12+$J45,\n  IF(AND(OC$1=$G45,OC$1=$H45,OC$1=$I45,$F45<=0.5),3+$J45,13+$J45)))))))))))","v":0},0,0,0,0,0,0,0,0,0,0,0,0,0,0,0,0,0,0,0,0,0,0,0,0,0,0,0,0,0,0,0,0,0,0,0,0,0,0,0,0,0,0,0,0,0,0,0,0,0,0,0,0,0,0,0,0,0,0,0,0,0,0,0,{"$f":"IF(QO$1>$I45,0,\n  IF(QO$1<$G45,0,\n  IF(AND(QO$1>$G45,QO$1<$H45),14+$J45,\n  IF(AND(QO$1>$H45,QO$1<$I45),4+$J45,\n  IF(AND(QO$1=$G45,QO$1<>$H45,QO$1<>$I45),11+$J45,\n  IF(AND(QO$1<>$G45,QO$1=$H45,QO$1<>$I45),12+$J45,\n  IF(AND(QO$1<>$G45,QO$1<>$H45,QO$1=$I45),2+$J45,\n  IF(AND(QO$1=$G45,QO$1=$H45,QO$1<>$I45,$F45<>0),13+$J45,\n  IF(AND(QO$1=$G45,QO$1=$H45,QO$1<>$I45,$F45=0),1+$J45,\n  IF(AND(QO$1<>$G45,QO$1=$H45,QO$1=$I45),12+$J45,\n  IF(AND(QO$1=$G45,QO$1=$H45,QO$1=$I45,$F45<=0.5),3+$J45,13+$J45)))))))))))","v":0},0,0,0,0,0,0,0,0,0,0,0,0,0,0,0,0,0,0,0,0,0,0,0,0,0,0,0,0,0,0,0,0,0,0,0,0,0,0,0,0,0,0,0,0,0,0,0,0,0,0,0,0,0,0,null,{"$f":"IF(gIsItPlan,IF(AND(System!Z41,System!AA41),1,0),IF(AND(System!Z41,System!AB41),1,0))","v":0}]
[null,{"$f":"IF($SS46,IF(E46=1,System!B42,\"   \"&System!B42),\"\")","v":""},{"$f":"IF($SS46,IF(gIsItPlan,System!F42,System!I42),\"\")","v":""},{"$f":"IF($SS46,IF(gIsItPlan,System!G42,System!J42),\"\")","v":""},{"$f":"System!C42","v":0},{"$f":"System!L42","v":0},0,0,0,20,null,{"$f":"IF(L$1>$I46,0,\n  IF(L$1<$G46,0,\n  IF(AND(L$1>$G46,L$1<$H46),14+$J46,\n  IF(AND(L$1>$H46,L$1<$I46),4+$J46,\n  IF(AND(L$1=$G46,L$1<>$H46,L$1<>$I46),11+$J46,\n  IF(AND(L$1<>$G46,L$1=$H46,L$1<>$I46),12+$J46,\n  IF(AND(L$1<>$G46,L$1<>$H46,L$1=$I46),2+$J46,\n  IF(AND(L$1=$G46,L$1=$H46,L$1<>$I46,$F46<>0),13+$J46,\n  IF(AND(L$1=$G46,L$1=$H46,L$1<>$I46,$F46=0),1+$J46,\n  IF(AND(L$1<>$G46,L$1=$H46,L$1=$I46),12+$J46,\n  IF(AND(L$1=$G46,L$1=$H46,L$1=$I46,$F46<=0.5),3+$J46,13+$J46)))))))))))","v":0},0,0,0,0,0,0,0,0,0,0,0,0,0,0,0,0,0,0,0,0,0,0,0,0,0,0,0,0,0,0,0,0,0,0,0,0,0,0,0,0,0,0,0,0,0,0,0,0,0,0,0,0,0,0,0,0,0,0,0,0,0,0,0,0,0,0,0,0,0,0,0,0,0,0,0,0,0,0,0,0,0,0,0,0,0,0,0,0,0,0,0,0,{"$f":"IF(DA$1>$I46,0,\n  IF(DA$1<$G46,0,\n  IF(AND(DA$1>$G46,DA$1<$H46),14+$J46,\n  IF(AND(DA$1>$H46,DA$1<$I46),4+$J46,\n  IF(AND(DA$1=$G46,DA$1<>$H46,DA$1<>$I46),11+$J46,\n  IF(AND(DA$1<>$G46,DA$1=$H46,DA$1<>$I46),12+$J46,\n  IF(AND(DA$1<>$G46,DA$1<>$H46,DA$1=$I46),2+$J46,\n  IF(AND(DA$1=$G46,DA$1=$H46,DA$1<>$I46,$F46<>0),13+$J46,\n  IF(AND(DA$1=$G46,DA$1=$H46,DA$1<>$I46,$F46=0),1+$J46,\n  IF(AND(DA$1<>$G46,DA$1=$H46,DA$1=$I46),12+$J46,\n  IF(AND(DA$1=$G46,DA$1=$H46,DA$1=$I46,$F46<=0.5),3+$J46,13+$J46)))))))))))","v":0},0,0,0,0,0,0,0,0,0,0,0,0,0,0,0,0,0,0,0,0,0,0,0,0,0,0,0,0,0,0,0,0,0,0,0,0,0,0,0,0,0,0,0,0,0,{"$f":"IF(EU$1>$I46,0,\n  IF(EU$1<$G46,0,\n  IF(AND(EU$1>$G46,EU$1<$H46),14+$J46,\n  IF(AND(EU$1>$H46,EU$1<$I46),4+$J46,\n  IF(AND(EU$1=$G46,EU$1<>$H46,EU$1<>$I46),11+$J46,\n  IF(AND(EU$1<>$G46,EU$1=$H46,EU$1<>$I46),12+$J46,\n  IF(AND(EU$1<>$G46,EU$1<>$H46,EU$1=$I46),2+$J46,\n  IF(AND(EU$1=$G46,EU$1=$H46,EU$1<>$I46,$F46<>0),13+$J46,\n  IF(AND(EU$1=$G46,EU$1=$H46,EU$1<>$I46,$F46=0),1+$J46,\n  IF(AND(EU$1<>$G46,EU$1=$H46,EU$1=$I46),12+$J46,\n  IF(AND(EU$1=$G46,EU$1=$H46,EU$1=$I46,$F46<=0.5),3+$J46,13+$J46)))))))))))","v":0},0,0,0,0,0,0,0,0,0,0,0,0,0,0,0,0,0,0,0,0,0,0,0,0,0,0,0,0,0,0,0,0,0,0,0,{"$f":"IF(GE$1>$I46,0,\n  IF(GE$1<$G46,0,\n  IF(AND(GE$1>$G46,GE$1<$H46),14+$J46,\n  IF(AND(GE$1>$H46,GE$1<$I46),4+$J46,\n  IF(AND(GE$1=$G46,GE$1<>$H46,GE$1<>$I46),11+$J46,\n  IF(AND(GE$1<>$G46,GE$1=$H46,GE$1<>$I46),12+$J46,\n  IF(AND(GE$1<>$G46,GE$1<>$H46,GE$1=$I46),2+$J46,\n  IF(AND(GE$1=$G46,GE$1=$H46,GE$1<>$I46,$F46<>0),13+$J46,\n  IF(AND(GE$1=$G46,GE$1=$H46,GE$1<>$I46,$F46=0),1+$J46,\n  IF(AND(GE$1<>$G46,GE$1=$H46,GE$1=$I46),12+$J46,\n  IF(AND(GE$1=$G46,GE$1=$H46,GE$1=$I46,$F46<=0.5),3+$J46,13+$J46)))))))))))","v":0},0,0,0,0,0,0,0,0,0,0,0,0,0,0,0,0,0,0,0,0,{"$f":"IF(GZ$1>$I46,0,\n  IF(GZ$1<$G46,0,\n  IF(AND(GZ$1>$G46,GZ$1<$H46),14+$J46,\n  IF(AND(GZ$1>$H46,GZ$1<$I46),4+$J46,\n  IF(AND(GZ$1=$G46,GZ$1<>$H46,GZ$1<>$I46),11+$J46,\n  IF(AND(GZ$1<>$G46,GZ$1=$H46,GZ$1<>$I46),12+$J46,\n  IF(AND(GZ$1<>$G46,GZ$1<>$H46,GZ$1=$I46),2+$J46,\n  IF(AND(GZ$1=$G46,GZ$1=$H46,GZ$1<>$I46,$F46<>0),13+$J46,\n  IF(AND(GZ$1=$G46,GZ$1=$H46,GZ$1<>$I46,$F46=0),1+$J46,\n  IF(AND(GZ$1<>$G46,GZ$1=$H46,GZ$1=$I46),12+$J46,\n  IF(AND(GZ$1=$G46,GZ$1=$H46,GZ$1=$I46,$F46<=0.5),3+$J46,13+$J46)))))))))))","v":0},0,0,0,0,0,0,0,0,0,0,0,0,0,0,0,0,0,0,0,0,0,0,0,0,0,0,0,0,0,0,0,0,0,0,0,0,0,0,0,0,0,0,{"$f":"IF(IQ$1>$I46,0,\n  IF(IQ$1<$G46,0,\n  IF(AND(IQ$1>$G46,IQ$1<$H46),14+$J46,\n  IF(AND(IQ$1>$H46,IQ$1<$I46),4+$J46,\n  IF(AND(IQ$1=$G46,IQ$1<>$H46,IQ$1<>$I46),11+$J46,\n  IF(AND(IQ$1<>$G46,IQ$1=$H46,IQ$1<>$I46),12+$J46,\n  IF(AND(IQ$1<>$G46,IQ$1<>$H46,IQ$1=$I46),2+$J46,\n  IF(AND(IQ$1=$G46,IQ$1=$H46,IQ$1<>$I46,$F46<>0),13+$J46,\n  IF(AND(IQ$1=$G46,IQ$1=$H46,IQ$1<>$I46,$F46=0),1+$J46,\n  IF(AND(IQ$1<>$G46,IQ$1=$H46,IQ$1=$I46),12+$J46,\n  IF(AND(IQ$1=$G46,IQ$1=$H46,IQ$1=$I46,$F46<=0.5),3+$J46,13+$J46)))))))))))","v":0},0,0,0,0,0,0,0,0,0,0,0,0,0,0,0,0,0,0,0,0,{"$f":"IF(JL$1>$I46,0,\n  IF(JL$1<$G46,0,\n  IF(AND(JL$1>$G46,JL$1<$H46),14+$J46,\n  IF(AND(JL$1>$H46,JL$1<$I46),4+$J46,\n  IF(AND(JL$1=$G46,JL$1<>$H46,JL$1<>$I46),11+$J46,\n  IF(AND(JL$1<>$G46,JL$1=$H46,JL$1<>$I46),12+$J46,\n  IF(AND(JL$1<>$G46,JL$1<>$H46,JL$1=$I46),2+$J46,\n  IF(AND(JL$1=$G46,JL$1=$H46,JL$1<>$I46,$F46<>0),13+$J46,\n  IF(AND(JL$1=$G46,JL$1=$H46,JL$1<>$I46,$F46=0),1+$J46,\n  IF(AND(JL$1<>$G46,JL$1=$H46,JL$1=$I46),12+$J46,\n  IF(AND(JL$1=$G46,JL$1=$H46,JL$1=$I46,$F46<=0.5),3+$J46,13+$J46)))))))))))","v":0},0,0,0,0,0,0,0,0,0,0,0,0,0,0,0,0,0,0,0,0,0,0,0,0,0,0,0,0,0,0,0,0,0,0,0,0,0,0,0,0,0,0,{"$f":"IF(LC$1>$I46,0,\n  IF(LC$1<$G46,0,\n  IF(AND(LC$1>$G46,LC$1<$H46),14+$J46,\n  IF(AND(LC$1>$H46,LC$1<$I46),4+$J46,\n  IF(AND(LC$1=$G46,LC$1<>$H46,LC$1<>$I46),11+$J46,\n  IF(AND(LC$1<>$G46,LC$1=$H46,LC$1<>$I46),12+$J46,\n  IF(AND(LC$1<>$G46,LC$1<>$H46,LC$1=$I46),2+$J46,\n  IF(AND(LC$1=$G46,LC$1=$H46,LC$1<>$I46,$F46<>0),13+$J46,\n  IF(AND(LC$1=$G46,LC$1=$H46,LC$1<>$I46,$F46=0),1+$J46,\n  IF(AND(LC$1<>$G46,LC$1=$H46,LC$1=$I46),12+$J46,\n  IF(AND(LC$1=$G46,LC$1=$H46,LC$1=$I46,$F46<=0.5),3+$J46,13+$J46)))))))))))","v":0},0,0,0,0,0,0,0,0,0,0,0,0,0,0,0,0,0,0,0,0,{"$f":"IF(LX$1>$I46,0,\n  IF(LX$1<$G46,0,\n  IF(AND(LX$1>$G46,LX$1<$H46),14+$J46,\n  IF(AND(LX$1>$H46,LX$1<$I46),4+$J46,\n  IF(AND(LX$1=$G46,LX$1<>$H46,LX$1<>$I46),11+$J46,\n  IF(AND(LX$1<>$G46,LX$1=$H46,LX$1<>$I46),12+$J46,\n  IF(AND(LX$1<>$G46,LX$1<>$H46,LX$1=$I46),2+$J46,\n  IF(AND(LX$1=$G46,LX$1=$H46,LX$1<>$I46,$F46<>0),13+$J46,\n  IF(AND(LX$1=$G46,LX$1=$H46,LX$1<>$I46,$F46=0),1+$J46,\n  IF(AND(LX$1<>$G46,LX$1=$H46,LX$1=$I46),12+$J46,\n  IF(AND(LX$1=$G46,LX$1=$H46,LX$1=$I46,$F46<=0.5),3+$J46,13+$J46)))))))))))","v":0},0,0,0,0,0,0,0,0,0,0,0,0,0,0,0,0,0,0,0,0,0,0,0,0,0,0,0,0,0,0,0,0,0,0,0,0,0,0,0,0,0,0,{"$f":"IF(NO$1>$I46,0,\n  IF(NO$1<$G46,0,\n  IF(AND(NO$1>$G46,NO$1<$H46),14+$J46,\n  IF(AND(NO$1>$H46,NO$1<$I46),4+$J46,\n  IF(AND(NO$1=$G46,NO$1<>$H46,NO$1<>$I46),11+$J46,\n  IF(AND(NO$1<>$G46,NO$1=$H46,NO$1<>$I46),12+$J46,\n  IF(AND(NO$1<>$G46,NO$1<>$H46,NO$1=$I46),2+$J46,\n  IF(AND(NO$1=$G46,NO$1=$H46,NO$1<>$I46,$F46<>0),13+$J46,\n  IF(AND(NO$1=$G46,NO$1=$H46,NO$1<>$I46,$F46=0),1+$J46,\n  IF(AND(NO$1<>$G46,NO$1=$H46,NO$1=$I46),12+$J46,\n  IF(AND(NO$1=$G46,NO$1=$H46,NO$1=$I46,$F46<=0.5),3+$J46,13+$J46)))))))))))","v":0},0,0,0,0,0,0,0,0,0,0,0,0,0,0,0,0,0,0,0,0,{"$f":"IF(OJ$1>$I46,0,\n  IF(OJ$1<$G46,0,\n  IF(AND(OJ$1>$G46,OJ$1<$H46),14+$J46,\n  IF(AND(OJ$1>$H46,OJ$1<$I46),4+$J46,\n  IF(AND(OJ$1=$G46,OJ$1<>$H46,OJ$1<>$I46),11+$J46,\n  IF(AND(OJ$1<>$G46,OJ$1=$H46,OJ$1<>$I46),12+$J46,\n  IF(AND(OJ$1<>$G46,OJ$1<>$H46,OJ$1=$I46),2+$J46,\n  IF(AND(OJ$1=$G46,OJ$1=$H46,OJ$1<>$I46,$F46<>0),13+$J46,\n  IF(AND(OJ$1=$G46,OJ$1=$H46,OJ$1<>$I46,$F46=0),1+$J46,\n  IF(AND(OJ$1<>$G46,OJ$1=$H46,OJ$1=$I46),12+$J46,\n  IF(AND(OJ$1=$G46,OJ$1=$H46,OJ$1=$I46,$F46<=0.5),3+$J46,13+$J46)))))))))))","v":0},0,0,0,0,0,0,0,0,0,0,0,0,0,0,0,0,0,0,0,0,0,0,0,0,0,0,0,0,0,0,0,0,0,0,0,0,0,0,0,0,0,0,{"$f":"IF(QA$1>$I46,0,\n  IF(QA$1<$G46,0,\n  IF(AND(QA$1>$G46,QA$1<$H46),14+$J46,\n  IF(AND(QA$1>$H46,QA$1<$I46),4+$J46,\n  IF(AND(QA$1=$G46,QA$1<>$H46,QA$1<>$I46),11+$J46,\n  IF(AND(QA$1<>$G46,QA$1=$H46,QA$1<>$I46),12+$J46,\n  IF(AND(QA$1<>$G46,QA$1<>$H46,QA$1=$I46),2+$J46,\n  IF(AND(QA$1=$G46,QA$1=$H46,QA$1<>$I46,$F46<>0),13+$J46,\n  IF(AND(QA$1=$G46,QA$1=$H46,QA$1<>$I46,$F46=0),1+$J46,\n  IF(AND(QA$1<>$G46,QA$1=$H46,QA$1=$I46),12+$J46,\n  IF(AND(QA$1=$G46,QA$1=$H46,QA$1=$I46,$F46<=0.5),3+$J46,13+$J46)))))))))))","v":0},0,0,0,0,0,0,0,0,0,0,0,0,0,0,0,0,0,0,0,0,0,0,0,0,0,0,0,0,0,0,0,0,0,0,0,0,0,0,0,0,0,0,0,0,0,0,0,0,0,0,0,0,0,0,0,0,0,0,0,0,0,0,0,0,0,0,0,0,null,{"$f":"IF(gIsItPlan,IF(AND(System!Z42,System!AA42),1,0),IF(AND(System!Z42,System!AB42),1,0))","v":0}]
[null,{"$f":"IF($SS47,IF(E47=1,System!B43,\"   \"&System!B43),\"\")","v":""},{"$f":"IF($SS47,IF(gIsItPlan,System!F43,System!I43),\"\")","v":""},{"$f":"IF($SS47,IF(gIsItPlan,System!G43,System!J43),\"\")","v":""},{"$f":"System!C43","v":0},{"$f":"System!L43","v":0},0,0,0,20,null,0,0,0,0,0,0,0,0,0,0,0,0,0,0,0,0,0,0,0,0,0,0,0,0,0,0,0,0,0,0,0,0,0,0,0,0,0,0,0,0,0,0,0,0,0,0,0,0,0,0,0,0,0,0,0,0,0,0,0,0,0,0,0,0,0,0,0,{"$f":"IF(CA$1>$I47,0,\n  IF(CA$1<$G47,0,\n  IF(AND(CA$1>$G47,CA$1<$H47),14+$J47,\n  IF(AND(CA$1>$H47,CA$1<$I47),4+$J47,\n  IF(AND(CA$1=$G47,CA$1<>$H47,CA$1<>$I47),11+$J47,\n  IF(AND(CA$1<>$G47,CA$1=$H47,CA$1<>$I47),12+$J47,\n  IF(AND(CA$1<>$G47,CA$1<>$H47,CA$1=$I47),2+$J47,\n  IF(AND(CA$1=$G47,CA$1=$H47,CA$1<>$I47,$F47<>0),13+$J47,\n  IF(AND(CA$1=$G47,CA$1=$H47,CA$1<>$I47,$F47=0),1+$J47,\n  IF(AND(CA$1<>$G47,CA$1=$H47,CA$1=$I47),12+$J47,\n  IF(AND(CA$1=$G47,CA$1=$H47,CA$1=$I47,$F47<=0.5),3+$J47,13+$J47)))))))))))","v":0},0,0,0,0,0,0,0,0,0,0,0,0,0,0,0,0,0,0,0,0,0,0,0,0,0,0,0,0,0,0,0,0,0,0,0,0,0,0,0,0,0,0,0,0,0,0,0,0,0,0,0,0,0,0,0,0,0,0,0,{"$f":"IF(EI$1>$I47,0,\n  IF(EI$1<$G47,0,\n  IF(AND(EI$1>$G47,EI$1<$H47),14+$J47,\n  IF(AND(EI$1>$H47,EI$1<$I47),4+$J47,\n  IF(AND(EI$1=$G47,EI$1<>$H47,EI$1<>$I47),11+$J47,\n  IF(AND(EI$1<>$G47,EI$1=$H47,EI$1<>$I47),12+$J47,\n  IF(AND(EI$1<>$G47,EI$1<>$H47,EI$1=$I47),2+$J47,\n  IF(AND(EI$1=$G47,EI$1=$H47,EI$1<>$I47,$F47<>0),13+$J47,\n  IF(AND(EI$1=$G47,EI$1=$H47,EI$1<>$I47,$F47=0),1+$J47,\n  IF(AND(EI$1<>$G47,EI$1=$H47,EI$1=$I47),12+$J47,\n  IF(AND(EI$1=$G47,EI$1=$H47,EI$1=$I47,$F47<=0.5),3+$J47,13+$J47)))))))))))","v":0},0,0,0,0,0,0,0,0,0,0,0,0,0,0,0,0,0,0,0,0,0,0,0,0,0,0,0,0,0,0,0,0,0,0,0,0,0,0,0,0,0,0,0,0,0,0,0,0,0,0,0,0,0,0,0,0,0,0,0,0,0,0,0,0,0,0,0,0,0,0,0,0,0,0,0,0,0,0,0,0,0,0,0,0,0,0,0,0,0,0,0,0,0,0,0,0,0,0,0,0,0,0,0,0,0,0,0,0,0,0,0,0,0,0,0,0,0,0,0,0,0,0,0,0,0,0,0,0,0,0,0,0,0,0,0,0,0,0,0,0,0,0,0,0,0,0,0,0,0,0,0,0,0,0,0,0,0,0,0,0,0,0,0,0,0,0,0,0,0,0,0,0,0,0,0,0,0,0,0,0,0,0,0,0,0,0,0,0,0,0,0,0,0,0,0,0,0,0,0,0,0,0,0,0,0,0,0,0,0,0,0,0,0,0,0,0,0,0,0,0,0,0,0,0,0,0,0,0,0,0,0,0,0,0,0,0,0,0,0,0,0,0,0,0,0,0,0,0,0,0,0,0,0,0,0,0,0,0,0,0,0,0,0,0,0,0,0,0,0,0,0,0,0,0,0,0,0,0,0,0,0,0,0,0,0,0,0,0,0,0,0,0,0,0,0,0,0,0,0,0,0,0,0,0,0,0,0,0,0,0,0,0,0,0,0,0,0,0,0,0,0,0,0,0,0,0,0,0,0,0,0,0,0,0,0,0,0,0,0,0,0,0,0,0,0,0,0,0,0,0,0,0,0,0,0,0,0,0,0,0,0,0,0,0,0,0,0,0,0,0,0,0,null,{"$f":"IF(gIsItPlan,IF(AND(System!Z43,System!AA43),1,0),IF(AND(System!Z43,System!AB43),1,0))","v":0}]
[null,{"$f":"IF($SS48,IF(E48=1,System!B44,\"   \"&System!B44),\"\")","v":""},{"$f":"IF($SS48,IF(gIsItPlan,System!F44,System!I44),\"\")","v":""},{"$f":"IF($SS48,IF(gIsItPlan,System!G44,System!J44),\"\")","v":""},{"$f":"System!C44","v":0},{"$f":"System!L44","v":0},0,0,0,20,null,0,0,0,0,0,0,0,0,0,0,0,0,0,0,0,0,0,0,0,0,0,0,0,0,0,0,0,0,0,0,0,0,0,0,0,{"$f":"IF(AU$1>$I48,0,\n  IF(AU$1<$G48,0,\n  IF(AND(AU$1>$G48,AU$1<$H48),14+$J48,\n  IF(AND(AU$1>$H48,AU$1<$I48),4+$J48,\n  IF(AND(AU$1=$G48,AU$1<>$H48,AU$1<>$I48),11+$J48,\n  IF(AND(AU$1<>$G48,AU$1=$H48,AU$1<>$I48),12+$J48,\n  IF(AND(AU$1<>$G48,AU$1<>$H48,AU$1=$I48),2+$J48,\n  IF(AND(AU$1=$G48,AU$1=$H48,AU$1<>$I48,$F48<>0),13+$J48,\n  IF(AND(AU$1=$G48,AU$1=$H48,AU$1<>$I48,$F48=0),1+$J48,\n  IF(AND(AU$1<>$G48,AU$1=$H48,AU$1=$I48),12+$J48,\n  IF(AND(AU$1=$G48,AU$1=$H48,AU$1=$I48,$F48<=0.5),3+$J48,13+$J48)))))))))))","v":0},0,0,0,0,0,0,0,0,0,0,0,0,0,0,0,0,0,0,0,0,0,0,0,0,0,0,0,0,0,0,0,0,0,0,0,0,0,0,0,0,0,0,0,0,0,0,0,0,0,0,0,0,0,0,0,0,0,0,0,0,0,0,0,0,0,0,0,0,0,0,0,0,0,0,0,0,0,0,0,0,0,0,0,0,0,0,0,0,0,0,0,0,0,0,0,0,0,0,0,0,0,0,0,0,0,0,0,0,0,0,0,0,0,0,0,0,0,0,0,0,0,0,0,0,0,0,0,0,0,0,0,0,0,0,0,0,0,0,0,0,0,0,0,0,0,0,0,0,0,0,0,0,0,0,0,0,0,0,0,0,0,0,0,0,0,0,0,0,0,0,0,0,0,0,0,0,0,0,0,0,0,0,0,0,0,0,0,0,0,0,0,0,0,0,0,0,0,0,0,0,0,0,0,0,0,0,0,0,0,0,0,0,0,0,0,0,0,0,0,0,0,0,0,0,0,0,0,0,0,0,0,0,0,0,0,0,0,0,0,0,0,0,0,0,0,0,0,0,0,0,0,0,0,0,0,0,0,0,0,0,0,0,0,0,0,0,0,0,0,0,0,0,0,0,0,0,0,0,0,0,0,0,0,0,0,0,0,0,0,0,0,0,0,0,0,0,0,0,0,0,0,0,0,0,0,0,0,0,0,0,0,0,0,0,0,0,0,0,0,0,0,0,0,0,0,0,0,0,0,0,0,0,0,0,0,0,0,0,0,0,0,0,0,0,0,0,0,0,0,0,0,0,0,0,0,0,0,0,0,0,0,0,0,0,0,0,0,0,0,0,0,0,0,0,0,0,0,0,0,0,0,0,0,0,0,0,0,0,0,0,0,0,0,0,0,0,0,0,0,0,0,0,0,0,0,0,0,0,0,0,0,0,0,0,0,0,0,0,0,0,0,0,0,0,0,0,0,0,0,0,0,0,0,0,0,0,0,0,0,0,0,0,0,0,0,0,0,0,0,0,0,0,0,0,0,0,0,0,0,0,0,0,0,0,null,{"$f":"IF(gIsItPlan,IF(AND(System!Z44,System!AA44),1,0),IF(AND(System!Z44,System!AB44),1,0))","v":0}]
[null,{"$f":"IF($SS49,IF(E49=1,System!B45,\"   \"&System!B45),\"\")","v":""},{"$f":"IF($SS49,IF(gIsItPlan,System!F45,System!I45),\"\")","v":""},{"$f":"IF($SS49,IF(gIsItPlan,System!G45,System!J45),\"\")","v":""},{"$f":"System!C45","v":0},{"$f":"System!L45","v":0},0,0,0,20,null,0,0,0,0,0,0,0,0,0,0,0,0,0,0,0,0,0,0,0,0,0,0,0,0,0,0,0,0,0,0,0,{"$f":"IF(AQ$1>$I49,0,\n  IF(AQ$1<$G49,0,\n  IF(AND(AQ$1>$G49,AQ$1<$H49),14+$J49,\n  IF(AND(AQ$1>$H49,AQ$1<$I49),4+$J49,\n  IF(AND(AQ$1=$G49,AQ$1<>$H49,AQ$1<>$I49),11+$J49,\n  IF(AND(AQ$1<>$G49,AQ$1=$H49,AQ$1<>$I49),12+$J49,\n  IF(AND(AQ$1<>$G49,AQ$1<>$H49,AQ$1=$I49),2+$J49,\n  IF(AND(AQ$1=$G49,AQ$1=$H49,AQ$1<>$I49,$F49<>0),13+$J49,\n  IF(AND(AQ$1=$G49,AQ$1=$H49,AQ$1<>$I49,$F49=0),1+$J49,\n  IF(AND(AQ$1<>$G49,AQ$1=$H49,AQ$1=$I49),12+$J49,\n  IF(AND(AQ$1=$G49,AQ$1=$H49,AQ$1=$I49,$F49<=0.5),3+$J49,13+$J49)))))))))))","v":0},0,0,0,0,0,0,0,0,0,0,0,0,0,0,0,0,0,0,0,0,0,0,0,0,0,0,0,0,0,0,0,0,0,0,0,0,0,0,0,0,0,0,0,0,0,0,0,0,0,0,0,0,0,0,0,0,0,0,0,0,0,0,0,0,0,0,0,0,0,0,0,0,0,0,0,0,0,0,0,0,0,0,0,0,0,0,0,0,0,0,0,0,0,0,0,0,0,0,0,0,0,0,0,0,0,0,0,0,0,0,0,0,0,0,0,0,0,0,0,0,0,0,0,0,0,0,0,0,0,0,0,0,0,0,0,0,0,0,0,0,0,0,0,0,0,0,0,0,0,0,0,0,0,0,0,0,0,0,0,0,0,0,0,0,0,0,0,0,0,0,0,0,0,0,0,0,0,0,0,0,0,0,0,0,0,0,0,{"$f":"IF(HW$1>$I49,0,\n  IF(HW$1<$G49,0,\n  IF(AND(HW$1>$G49,HW$1<$H49),14+$J49,\n  IF(AND(HW$1>$H49,HW$1<$I49),4+$J49,\n  IF(AND(HW$1=$G49,HW$1<>$H49,HW$1<>$I49),11+$J49,\n  IF(AND(HW$1<>$G49,HW$1=$H49,HW$1<>$I49),12+$J49,\n  IF(AND(HW$1<>$G49,HW$1<>$H49,HW$1=$I49),2+$J49,\n  IF(AND(HW$1=$G49,HW$1=$H49,HW$1<>$I49,$F49<>0),13+$J49,\n  IF(AND(HW$1=$G49,HW$1=$H49,HW$1<>$I49,$F49=0),1+$J49,\n  IF(AND(HW$1<>$G49,HW$1=$H49,HW$1=$I49),12+$J49,\n  IF(AND(HW$1=$G49,HW$1=$H49,HW$1=$I49,$F49<=0.5),3+$J49,13+$J49)))))))))))","v":0},0,0,0,0,0,0,0,0,0,0,0,0,0,0,0,0,0,0,0,0,0,0,0,0,0,0,0,0,0,0,0,0,0,0,0,0,0,0,0,0,0,0,0,0,0,0,0,0,0,0,0,0,0,0,0,0,0,0,0,0,0,0,0,{"$f":"IF(KI$1>$I49,0,\n  IF(KI$1<$G49,0,\n  IF(AND(KI$1>$G49,KI$1<$H49),14+$J49,\n  IF(AND(KI$1>$H49,KI$1<$I49),4+$J49,\n  IF(AND(KI$1=$G49,KI$1<>$H49,KI$1<>$I49),11+$J49,\n  IF(AND(KI$1<>$G49,KI$1=$H49,KI$1<>$I49),12+$J49,\n  IF(AND(KI$1<>$G49,KI$1<>$H49,KI$1=$I49),2+$J49,\n  IF(AND(KI$1=$G49,KI$1=$H49,KI$1<>$I49,$F49<>0),13+$J49,\n  IF(AND(KI$1=$G49,KI$1=$H49,KI$1<>$I49,$F49=0),1+$J49,\n  IF(AND(KI$1<>$G49,KI$1=$H49,KI$1=$I49),12+$J49,\n  IF(AND(KI$1=$G49,KI$1=$H49,KI$1=$I49,$F49<=0.5),3+$J49,13+$J49)))))))))))","v":0},0,0,0,0,0,0,0,0,0,0,0,0,0,0,0,0,0,0,0,0,0,0,0,0,0,0,0,0,0,0,0,0,0,0,0,0,0,0,0,0,0,0,0,0,0,0,0,0,0,0,0,0,0,0,0,0,0,0,0,0,0,0,0,{"$f":"IF(MU$1>$I49,0,\n  IF(MU$1<$G49,0,\n  IF(AND(MU$1>$G49,MU$1<$H49),14+$J49,\n  IF(AND(MU$1>$H49,MU$1<$I49),4+$J49,\n  IF(AND(MU$1=$G49,MU$1<>$H49,MU$1<>$I49),11+$J49,\n  IF(AND(MU$1<>$G49,MU$1=$H49,MU$1<>$I49),12+$J49,\n  IF(AND(MU$1<>$G49,MU$1<>$H49,MU$1=$I49),2+$J49,\n  IF(AND(MU$1=$G49,MU$1=$H49,MU$1<>$I49,$F49<>0),13+$J49,\n  IF(AND(MU$1=$G49,MU$1=$H49,MU$1<>$I49,$F49=0),1+$J49,\n  IF(AND(MU$1<>$G49,MU$1=$H49,MU$1=$I49),12+$J49,\n  IF(AND(MU$1=$G49,MU$1=$H49,MU$1=$I49,$F49<=0.5),3+$J49,13+$J49)))))))))))","v":0},0,0,0,0,0,0,0,0,0,0,0,0,0,0,0,0,0,0,0,0,0,0,0,0,0,0,0,0,0,0,0,0,0,0,0,0,0,0,0,0,0,0,0,0,0,0,0,0,0,0,0,0,0,0,0,0,0,0,0,0,0,0,0,{"$f":"IF(PG$1>$I49,0,\n  IF(PG$1<$G49,0,\n  IF(AND(PG$1>$G49,PG$1<$H49),14+$J49,\n  IF(AND(PG$1>$H49,PG$1<$I49),4+$J49,\n  IF(AND(PG$1=$G49,PG$1<>$H49,PG$1<>$I49),11+$J49,\n  IF(AND(PG$1<>$G49,PG$1=$H49,PG$1<>$I49),12+$J49,\n  IF(AND(PG$1<>$G49,PG$1<>$H49,PG$1=$I49),2+$J49,\n  IF(AND(PG$1=$G49,PG$1=$H49,PG$1<>$I49,$F49<>0),13+$J49,\n  IF(AND(PG$1=$G49,PG$1=$H49,PG$1<>$I49,$F49=0),1+$J49,\n  IF(AND(PG$1<>$G49,PG$1=$H49,PG$1=$I49),12+$J49,\n  IF(AND(PG$1=$G49,PG$1=$H49,PG$1=$I49,$F49<=0.5),3+$J49,13+$J49)))))))))))","v":0},0,0,0,0,0,0,0,0,0,0,0,0,0,0,0,0,0,0,0,0,0,0,0,0,0,0,0,0,0,0,0,0,0,0,0,0,0,0,0,0,0,0,0,0,0,0,0,0,0,0,0,0,0,0,0,0,0,0,0,0,0,0,0,0,0,0,0,0,0,0,0,0,0,0,0,0,0,0,0,0,0,0,0,0,0,0,0,0,null,{"$f":"IF(gIsItPlan,IF(AND(System!Z45,System!AA45),1,0),IF(AND(System!Z45,System!AB45),1,0))","v":0}]
[null,{"$f":"IF($SS50,IF(E50=1,System!B46,\"   \"&System!B46),\"\")","v":""},{"$f":"IF($SS50,IF(gIsItPlan,System!F46,System!I46),\"\")","v":""},{"$f":"IF($SS50,IF(gIsItPlan,System!G46,System!J46),\"\")","v":""},{"$f":"System!C46","v":0},{"$f":"System!L46","v":0},0,0,0,20,null,0,0,0,0,0,0,0,0,0,0,0,0,0,0,0,0,0,0,0,0,0,0,0,0,0,0,0,0,0,0,0,0,0,0,0,0,0,0,0,0,0,0,0,0,0,0,0,0,0,0,0,0,0,0,0,0,0,0,0,0,0,0,0,0,0,0,0,0,0,0,0,0,0,0,0,0,0,0,0,0,0,0,0,0,{"$f":"IF(CR$1>$I50,0,\n  IF(CR$1<$G50,0,\n  IF(AND(CR$1>$G50,CR$1<$H50),14+$J50,\n  IF(AND(CR$1>$H50,CR$1<$I50),4+$J50,\n  IF(AND(CR$1=$G50,CR$1<>$H50,CR$1<>$I50),11+$J50,\n  IF(AND(CR$1<>$G50,CR$1=$H50,CR$1<>$I50),12+$J50,\n  IF(AND(CR$1<>$G50,CR$1<>$H50,CR$1=$I50),2+$J50,\n  IF(AND(CR$1=$G50,CR$1=$H50,CR$1<>$I50,$F50<>0),13+$J50,\n  IF(AND(CR$1=$G50,CR$1=$H50,CR$1<>$I50,$F50=0),1+$J50,\n  IF(AND(CR$1<>$G50,CR$1=$H50,CR$1=$I50),12+$J50,\n  IF(AND(CR$1=$G50,CR$1=$H50,CR$1=$I50,$F50<=0.5),3+$J50,13+$J50)))))))))))","v":0},0,0,0,0,0,0,0,0,0,0,0,0,0,0,0,0,0,0,0,0,0,0,0,0,0,0,0,0,0,0,0,0,0,0,0,0,0,0,0,0,0,0,0,0,0,0,0,0,0,0,0,0,0,0,0,0,0,0,0,0,0,0,0,0,0,0,0,0,0,0,0,0,0,0,0,0,0,0,0,0,0,0,0,0,0,0,0,0,0,0,0,0,0,0,0,0,0,0,0,0,0,0,0,0,0,0,0,0,0,0,0,0,0,0,0,0,0,0,0,0,0,0,0,0,0,0,0,{"$f":"IF(HP$1>$I50,0,\n  IF(HP$1<$G50,0,\n  IF(AND(HP$1>$G50,HP$1<$H50),14+$J50,\n  IF(AND(HP$1>$H50,HP$1<$I50),4+$J50,\n  IF(AND(HP$1=$G50,HP$1<>$H50,HP$1<>$I50),11+$J50,\n  IF(AND(HP$1<>$G50,HP$1=$H50,HP$1<>$I50),12+$J50,\n  IF(AND(HP$1<>$G50,HP$1<>$H50,HP$1=$I50),2+$J50,\n  IF(AND(HP$1=$G50,HP$1=$H50,HP$1<>$I50,$F50<>0),13+$J50,\n  IF(AND(HP$1=$G50,HP$1=$H50,HP$1<>$I50,$F50=0),1+$J50,\n  IF(AND(HP$1<>$G50,HP$1=$H50,HP$1=$I50),12+$J50,\n  IF(AND(HP$1=$G50,HP$1=$H50,HP$1=$I50,$F50<=0.5),3+$J50,13+$J50)))))))))))","v":0},0,0,0,0,0,0,0,0,0,0,0,0,0,0,0,0,0,0,0,0,0,0,0,0,0,0,0,0,0,0,0,0,0,0,0,0,0,0,0,0,0,0,0,0,0,0,0,0,0,0,0,0,0,0,0,0,0,0,0,0,0,0,0,{"$f":"IF(KB$1>$I50,0,\n  IF(KB$1<$G50,0,\n  IF(AND(KB$1>$G50,KB$1<$H50),14+$J50,\n  IF(AND(KB$1>$H50,KB$1<$I50),4+$J50,\n  IF(AND(KB$1=$G50,KB$1<>$H50,KB$1<>$I50),11+$J50,\n  IF(AND(KB$1<>$G50,KB$1=$H50,KB$1<>$I50),12+$J50,\n  IF(AND(KB$1<>$G50,KB$1<>$H50,KB$1=$I50),2+$J50,\n  IF(AND(KB$1=$G50,KB$1=$H50,KB$1<>$I50,$F50<>0),13+$J50,\n  IF(AND(KB$1=$G50,KB$1=$H50,KB$1<>$I50,$F50=0),1+$J50,\n  IF(AND(KB$1<>$G50,KB$1=$H50,KB$1=$I50),12+$J50,\n  IF(AND(KB$1=$G50,KB$1=$H50,KB$1=$I50,$F50<=0.5),3+$J50,13+$J50)))))))))))","v":0},0,0,0,0,0,0,0,0,0,0,0,0,0,0,0,0,0,0,0,0,0,0,0,0,0,0,0,0,0,0,0,0,0,0,0,0,0,0,0,0,0,0,0,0,0,0,0,0,0,0,0,0,0,0,0,0,0,0,0,0,0,0,0,{"$f":"IF(MN$1>$I50,0,\n  IF(MN$1<$G50,0,\n  IF(AND(MN$1>$G50,MN$1<$H50),14+$J50,\n  IF(AND(MN$1>$H50,MN$1<$I50),4+$J50,\n  IF(AND(MN$1=$G50,MN$1<>$H50,MN$1<>$I50),11+$J50,\n  IF(AND(MN$1<>$G50,MN$1=$H50,MN$1<>$I50),12+$J50,\n  IF(AND(MN$1<>$G50,MN$1<>$H50,MN$1=$I50),2+$J50,\n  IF(AND(MN$1=$G50,MN$1=$H50,MN$1<>$I50,$F50<>0),13+$J50,\n  IF(AND(MN$1=$G50,MN$1=$H50,MN$1<>$I50,$F50=0),1+$J50,\n  IF(AND(MN$1<>$G50,MN$1=$H50,MN$1=$I50),12+$J50,\n  IF(AND(MN$1=$G50,MN$1=$H50,MN$1=$I50,$F50<=0.5),3+$J50,13+$J50)))))))))))","v":0},0,0,0,0,0,0,0,0,0,0,0,0,0,0,0,0,0,0,0,0,0,0,0,0,0,0,0,0,0,0,0,0,0,0,0,0,0,0,0,0,0,0,0,0,0,0,0,0,0,0,0,0,0,0,0,0,0,0,0,0,0,0,0,{"$f":"IF(OZ$1>$I50,0,\n  IF(OZ$1<$G50,0,\n  IF(AND(OZ$1>$G50,OZ$1<$H50),14+$J50,\n  IF(AND(OZ$1>$H50,OZ$1<$I50),4+$J50,\n  IF(AND(OZ$1=$G50,OZ$1<>$H50,OZ$1<>$I50),11+$J50,\n  IF(AND(OZ$1<>$G50,OZ$1=$H50,OZ$1<>$I50),12+$J50,\n  IF(AND(OZ$1<>$G50,OZ$1<>$H50,OZ$1=$I50),2+$J50,\n  IF(AND(OZ$1=$G50,OZ$1=$H50,OZ$1<>$I50,$F50<>0),13+$J50,\n  IF(AND(OZ$1=$G50,OZ$1=$H50,OZ$1<>$I50,$F50=0),1+$J50,\n  IF(AND(OZ$1<>$G50,OZ$1=$H50,OZ$1=$I50),12+$J50,\n  IF(AND(OZ$1=$G50,OZ$1=$H50,OZ$1=$I50,$F50<=0.5),3+$J50,13+$J50)))))))))))","v":0},0,0,0,0,0,0,0,0,0,0,0,0,0,0,0,0,0,0,0,0,0,0,0,0,0,0,0,0,0,0,0,0,0,0,0,0,0,0,0,0,0,0,0,0,0,0,0,0,0,0,0,0,0,0,0,0,0,0,0,0,0,0,0,0,0,0,0,0,0,0,0,0,0,0,0,0,0,0,0,0,0,0,0,0,0,0,0,0,0,0,0,0,0,0,0,null,{"$f":"IF(gIsItPlan,IF(AND(System!Z46,System!AA46),1,0),IF(AND(System!Z46,System!AB46),1,0))","v":0}]
[null,{"$f":"IF($SS51,IF(E51=1,System!B47,\"   \"&System!B47),\"\")","v":""},{"$f":"IF($SS51,IF(gIsItPlan,System!F47,System!I47),\"\")","v":""},{"$f":"IF($SS51,IF(gIsItPlan,System!G47,System!J47),\"\")","v":""},{"$f":"System!C47","v":0},{"$f":"System!L47","v":0},0,0,0,20,null,0,0,0,0,0,0,0,0,0,0,0,0,0,0,0,0,0,0,0,0,0,0,0,0,0,0,0,0,0,0,0,0,0,0,0,0,0,0,0,0,0,0,0,0,0,0,0,0,0,0,0,0,0,0,0,0,0,0,0,0,0,0,0,0,0,0,0,0,0,0,0,0,0,0,0,0,0,0,0,0,0,0,0,{"$f":"IF(CQ$1>$I51,0,\n  IF(CQ$1<$G51,0,\n  IF(AND(CQ$1>$G51,CQ$1<$H51),14+$J51,\n  IF(AND(CQ$1>$H51,CQ$1<$I51),4+$J51,\n  IF(AND(CQ$1=$G51,CQ$1<>$H51,CQ$1<>$I51),11+$J51,\n  IF(AND(CQ$1<>$G51,CQ$1=$H51,CQ$1<>$I51),12+$J51,\n  IF(AND(CQ$1<>$G51,CQ$1<>$H51,CQ$1=$I51),2+$J51,\n  IF(AND(CQ$1=$G51,CQ$1=$H51,CQ$1<>$I51,$F51<>0),13+$J51,\n  IF(AND(CQ$1=$G51,CQ$1=$H51,CQ$1<>$I51,$F51=0),1+$J51,\n  IF(AND(CQ$1<>$G51,CQ$1=$H51,CQ$1=$I51),12+$J51,\n  IF(AND(CQ$1=$G51,CQ$1=$H51,CQ$1=$I51,$F51<=0.5),3+$J51,13+$J51)))))))))))","v":0},0,0,0,0,0,0,0,0,0,0,0,0,0,0,0,0,0,0,0,0,0,0,0,0,0,0,0,0,0,0,0,0,0,0,0,0,0,0,0,0,0,0,0,0,0,0,0,0,0,0,0,0,0,0,0,0,0,0,0,0,0,0,0,0,0,0,0,0,0,0,0,0,0,0,0,0,0,0,0,0,0,0,0,0,0,0,0,0,0,0,0,0,0,0,0,0,0,0,0,0,0,0,0,0,0,0,0,0,0,0,0,0,0,0,0,0,0,0,0,0,0,0,0,0,0,0,0,0,0,0,0,0,0,0,0,0,0,0,0,0,0,0,0,0,0,0,0,0,0,0,0,0,0,0,0,0,0,0,0,0,0,0,0,0,0,0,0,0,0,0,0,0,0,0,0,0,0,0,0,0,0,0,0,0,0,0,0,0,0,0,0,0,0,0,0,0,0,0,0,0,0,0,0,0,0,0,0,0,0,0,0,0,0,0,0,0,0,0,0,0,0,0,0,0,0,0,0,0,0,0,0,0,0,0,0,0,0,0,0,0,0,0,0,0,0,0,0,0,0,0,0,0,0,0,0,0,0,0,0,0,0,0,0,0,0,0,0,0,0,0,0,0,0,0,0,0,0,0,0,0,0,0,0,0,0,0,0,0,0,0,0,0,0,0,0,0,0,0,0,0,0,0,0,0,0,0,0,0,0,0,0,0,0,0,0,0,0,0,0,0,0,0,0,0,0,0,0,0,0,0,0,0,0,0,0,0,0,0,0,0,0,0,0,0,0,0,0,0,0,0,0,0,0,0,0,0,0,0,0,0,0,0,0,0,0,0,0,0,0,0,0,0,0,0,0,0,0,0,0,0,0,0,0,0,0,0,0,0,0,0,0,0,0,0,0,0,0,0,0,0,0,0,0,0,0,0,0,0,0,0,0,0,0,0,0,0,null,{"$f":"IF(gIsItPlan,IF(AND(System!Z47,System!AA47),1,0),IF(AND(System!Z47,System!AB47),1,0))","v":0}]
[null,{"$f":"IF($SS52,IF(E52=1,System!B48,\"   \"&System!B48),\"\")","v":""},{"$f":"IF($SS52,IF(gIsItPlan,System!F48,System!I48),\"\")","v":""},{"$f":"IF($SS52,IF(gIsItPlan,System!G48,System!J48),\"\")","v":""},{"$f":"System!C48","v":0},{"$f":"System!L48","v":0},0,0,0,20,null,0,0,0,0,0,0,0,0,0,0,0,0,0,0,0,0,0,0,0,0,0,0,0,0,0,0,0,0,0,0,0,0,0,0,0,0,0,0,0,0,0,0,0,0,0,0,0,0,0,0,0,0,0,0,0,0,0,0,0,0,0,0,0,0,0,0,0,0,0,0,0,0,0,0,0,0,0,0,0,0,0,0,0,0,0,0,0,0,0,0,0,0,0,0,0,0,0,0,0,0,0,0,0,0,0,0,0,0,0,0,0,0,0,0,0,0,0,0,0,0,0,0,0,0,0,0,0,0,0,0,0,0,0,0,0,0,0,0,0,0,0,0,0,0,0,0,0,0,0,0,0,0,0,0,0,0,0,0,0,0,0,0,0,0,0,0,0,0,0,0,0,0,0,0,0,0,0,0,0,0,0,0,0,0,0,0,0,0,0,0,0,0,0,0,0,0,0,0,0,0,0,0,0,0,0,0,0,0,0,0,0,0,0,0,0,0,0,0,0,0,0,0,0,0,0,0,0,0,0,0,0,0,0,0,0,0,0,0,0,0,0,0,0,0,0,0,0,0,0,0,0,0,0,0,0,0,0,0,0,0,0,0,0,0,0,0,0,0,0,0,0,0,0,0,0,0,0,0,0,0,0,0,0,0,0,0,0,0,0,0,0,0,0,0,0,0,0,0,0,0,0,0,0,0,0,0,0,0,0,0,0,0,0,0,0,0,0,0,0,0,0,0,0,0,0,0,0,0,0,0,0,0,0,0,0,0,0,0,0,0,0,0,0,0,0,0,0,0,0,0,0,0,0,0,0,0,0,0,0,0,0,0,0,0,0,0,0,0,0,0,0,0,0,0,0,0,0,0,0,0,0,0,0,0,0,0,0,0,0,0,0,0,0,0,0,0,0,0,0,0,0,0,0,0,0,0,0,0,0,0,0,0,0,0,0,0,0,0,0,0,0,0,0,0,0,0,0,0,0,0,0,0,0,0,0,0,0,0,0,0,0,0,0,0,0,0,0,0,0,0,0,0,0,0,0,0,0,0,0,0,0,0,0,0,0,0,0,0,0,0,0,0,0,0,0,0,0,0,0,0,0,0,0,0,0,0,0,0,0,0,0,0,0,0,0,0,0,0,0,0,null,{"$f":"IF(gIsItPlan,IF(AND(System!Z48,System!AA48),1,0),IF(AND(System!Z48,System!AB48),1,0))","v":0}]
[null,{"$f":"IF($SS53,IF(E53=1,System!B49,\"   \"&System!B49),\"\")","v":""},{"$f":"IF($SS53,IF(gIsItPlan,System!F49,System!I49),\"\")","v":""},{"$f":"IF($SS53,IF(gIsItPlan,System!G49,System!J49),\"\")","v":""},{"$f":"System!C49","v":0},{"$f":"System!L49","v":0},0,0,0,20,null,0,0,0,0,0,0,0,0,0,0,0,0,0,0,0,0,0,0,0,0,0,0,0,0,0,0,0,0,0,0,0,0,0,0,0,0,0,0,0,0,0,0,0,0,0,0,0,0,0,0,0,0,0,0,0,0,0,0,0,0,0,0,0,0,0,0,0,0,0,0,0,0,0,0,0,0,0,0,0,0,0,0,0,0,0,0,0,0,0,0,0,0,0,0,0,0,0,0,0,0,0,0,0,0,0,0,0,0,0,0,0,0,0,0,0,0,0,0,0,0,0,0,0,0,0,0,0,0,0,0,0,0,0,0,0,0,0,0,0,0,0,0,0,0,0,0,0,0,0,0,0,0,0,0,0,0,0,0,0,0,0,0,0,0,0,0,0,0,0,0,0,0,0,0,0,0,0,0,0,0,0,0,0,0,0,0,0,0,0,0,0,0,0,0,0,0,0,0,0,0,0,0,0,0,0,0,0,0,0,0,0,0,0,0,0,0,0,0,0,0,0,0,0,0,0,0,0,0,0,0,0,0,0,0,0,0,0,0,0,0,0,0,0,0,0,0,0,0,0,0,0,0,0,0,0,0,0,0,0,0,0,0,0,0,0,0,0,0,0,0,0,0,0,0,0,0,0,0,0,0,0,0,0,0,0,0,0,0,0,0,0,0,0,0,0,0,0,0,0,0,0,0,0,0,0,0,0,0,0,0,0,0,0,0,0,0,0,0,0,0,0,0,0,0,0,0,0,0,0,0,0,0,0,0,0,0,0,0,0,0,0,0,0,0,0,0,0,0,0,0,0,0,0,0,0,0,0,0,0,0,0,0,0,0,0,0,0,0,0,0,0,0,0,0,0,0,0,0,0,0,0,0,0,0,0,0,0,0,0,0,0,0,0,0,0,0,0,0,0,0,0,0,0,0,0,0,0,0,0,0,0,0,0,0,0,0,0,0,0,0,0,0,0,0,0,0,0,0,0,0,0,0,0,0,0,0,0,0,0,0,0,0,0,0,0,0,0,0,0,0,0,0,0,0,0,0,0,0,0,0,0,0,0,0,0,0,0,0,0,0,0,0,0,0,0,0,0,0,0,0,0,0,0,0,0,0,0,0,0,0,0,0,0,0,0,0,0,0,0,0,null,{"$f":"IF(gIsItPlan,IF(AND(System!Z49,System!AA49),1,0),IF(AND(System!Z49,System!AB49),1,0))","v":0}]
[null,{"$f":"IF($SS54,IF(E54=1,System!B50,\"   \"&System!B50),\"\")","v":""},{"$f":"IF($SS54,IF(gIsItPlan,System!F50,System!I50),\"\")","v":""},{"$f":"IF($SS54,IF(gIsItPlan,System!G50,System!J50),\"\")","v":""},{"$f":"System!C50","v":0},{"$f":"System!L50","v":0},0,0,0,20,null,0,0,0,0,0,0,0,0,0,0,0,0,0,0,0,0,0,0,0,0,0,0,0,0,0,0,0,0,0,0,0,0,0,0,0,0,0,0,0,0,0,0,0,0,0,0,0,0,0,0,0,0,0,0,0,0,0,0,0,0,0,0,0,0,0,0,0,0,0,0,0,0,0,0,0,0,0,0,0,0,0,0,0,0,0,0,0,0,0,0,0,0,0,0,0,0,0,0,0,0,0,0,0,0,0,0,0,0,0,0,0,0,0,0,0,0,0,0,0,0,0,0,0,0,0,0,0,0,0,0,0,0,0,0,0,0,0,0,0,0,0,0,0,0,0,0,0,0,0,0,0,0,0,0,0,0,0,0,0,0,0,0,0,0,0,0,0,0,0,0,0,0,0,0,0,0,0,0,0,0,0,0,0,0,0,0,0,0,0,0,0,0,0,0,0,0,0,0,0,0,0,0,0,0,0,0,0,0,0,0,0,0,0,0,0,0,0,0,0,0,0,0,0,0,0,0,0,0,0,0,0,0,0,0,0,0,0,0,0,0,0,0,0,0,0,0,0,0,0,0,0,0,0,0,0,0,0,0,0,0,0,0,0,0,0,0,0,0,0,0,0,0,0,0,0,0,0,0,0,0,0,0,0,0,0,0,0,0,0,0,0,0,0,0,0,0,0,0,0,0,0,0,0,0,0,0,0,0,0,0,0,0,0,0,0,0,0,0,0,0,0,0,0,0,0,0,0,0,0,0,0,0,0,0,0,0,0,0,0,0,0,0,0,0,0,0,0,0,0,0,0,0,0,0,0,0,0,0,0,0,0,0,0,0,0,0,0,0,0,0,0,0,0,0,0,0,0,0,0,0,0,0,0,0,0,0,0,0,0,0,0,0,0,0,0,0,0,0,0,0,0,0,0,0,0,0,0,0,0,0,0,0,0,0,0,0,0,0,0,0,0,0,0,0,0,0,0,0,0,0,0,0,0,0,0,0,0,0,0,0,0,0,0,0,0,0,0,0,0,0,0,0,0,0,0,0,0,0,0,0,0,0,0,0,0,0,0,0,0,0,0,0,0,0,0,0,0,0,0,0,0,0,0,0,0,0,0,0,0,0,0,0,0,0,0,0,0,0,0,0,null,{"$f":"IF(gIsItPlan,IF(AND(System!Z50,System!AA50),1,0),IF(AND(System!Z50,System!AB50),1,0))","v":0}]
[null,{"$f":"IF($SS55,IF(E55=1,System!B51,\"   \"&System!B51),\"\")","v":""},{"$f":"IF($SS55,IF(gIsItPlan,System!F51,System!I51),\"\")","v":""},{"$f":"IF($SS55,IF(gIsItPlan,System!G51,System!J51),\"\")","v":""},{"$f":"System!C51","v":0},{"$f":"System!L51","v":0},0,0,0,20,null,0,0,0,0,0,0,0,0,0,0,0,0,0,0,0,0,0,0,0,0,0,0,0,0,0,0,0,0,0,0,0,0,0,0,0,0,0,0,0,0,0,0,0,0,0,0,0,0,0,0,0,0,0,0,0,0,0,0,0,0,0,0,0,0,0,0,0,0,0,0,0,0,0,0,0,0,0,0,0,0,0,0,0,0,0,0,0,0,0,0,0,0,0,0,0,0,0,0,0,0,0,0,0,0,0,0,0,0,0,0,0,0,0,0,0,0,0,0,0,0,0,0,0,0,0,0,0,0,0,0,0,0,0,0,0,0,0,0,0,0,0,0,0,0,0,0,0,0,0,0,0,0,0,0,0,0,0,0,0,0,0,0,0,0,0,0,0,0,0,0,0,0,0,0,0,0,0,0,0,0,0,0,0,0,0,0,0,0,0,0,0,0,0,0,0,0,0,0,0,0,0,0,0,0,0,0,0,0,0,0,0,0,0,0,0,0,0,0,0,0,0,0,0,0,0,0,0,0,0,0,0,0,0,0,0,0,0,0,0,0,0,0,0,0,0,0,0,0,0,0,0,0,0,0,0,0,0,0,0,0,0,0,0,0,0,0,0,0,0,0,0,0,0,0,0,0,0,0,0,0,0,0,0,0,0,0,0,0,0,0,0,0,0,0,0,0,0,0,0,0,0,0,0,0,0,0,0,0,0,0,0,0,0,0,0,0,0,0,0,0,0,0,0,0,0,0,0,0,0,0,0,0,0,0,0,0,0,0,0,0,0,0,0,0,0,0,0,0,0,0,0,0,0,0,0,0,0,0,0,0,0,0,0,0,0,0,0,0,0,0,0,0,0,0,0,0,0,0,0,0,0,0,0,0,0,0,0,0,0,0,0,0,0,0,0,0,0,0,0,0,0,0,0,0,0,0,0,0,0,0,0,0,0,0,0,0,0,0,0,0,0,0,0,0,0,0,0,0,0,0,0,0,0,0,0,0,0,0,0,0,0,0,0,0,0,0,0,0,0,0,0,0,0,0,0,0,0,0,0,0,0,0,0,0,0,0,0,0,0,0,0,0,0,0,0,0,0,0,0,0,0,0,0,0,0,0,0,0,0,0,0,0,0,0,0,0,0,0,0,0,null,{"$f":"IF(gIsItPlan,IF(AND(System!Z51,System!AA51),1,0),IF(AND(System!Z51,System!AB51),1,0))","v":0}]
[null,{"$f":"IF($SS56,IF(E56=1,System!B52,\"   \"&System!B52),\"\")","v":""},{"$f":"IF($SS56,IF(gIsItPlan,System!F52,System!I52),\"\")","v":""},{"$f":"IF($SS56,IF(gIsItPlan,System!G52,System!J52),\"\")","v":""},{"$f":"System!C52","v":0},{"$f":"System!L52","v":0},0,0,0,20,null,0,0,0,0,0,0,0,0,0,0,0,0,0,0,0,0,0,0,0,0,0,0,0,0,0,0,0,0,0,0,0,0,0,0,0,0,0,0,0,0,0,0,0,0,0,0,0,0,0,0,0,0,0,0,0,0,0,0,0,0,0,0,0,0,0,0,0,0,0,0,0,0,0,0,0,0,0,0,0,0,0,0,0,0,0,0,0,0,0,0,0,0,0,0,0,0,0,0,0,0,0,0,0,0,0,0,0,0,0,0,0,0,0,0,0,0,0,0,0,0,0,0,0,0,0,0,0,0,0,0,0,0,0,0,0,0,0,0,0,0,0,0,0,0,0,0,0,0,0,0,0,0,0,0,0,0,0,0,0,0,0,0,0,0,0,0,0,0,0,0,0,0,0,0,0,0,0,0,0,0,0,0,0,0,0,0,0,0,0,0,0,0,0,0,0,0,0,0,0,0,0,0,0,0,0,0,0,0,0,0,0,0,0,0,0,0,0,0,0,0,0,0,0,0,0,0,0,0,0,0,0,0,0,0,0,0,0,0,0,0,0,0,0,0,0,0,0,0,0,0,0,0,0,0,0,0,0,0,0,0,0,0,0,0,0,0,0,0,0,0,0,0,0,0,0,0,0,0,0,0,0,0,0,0,0,0,0,0,0,0,0,0,0,0,0,0,0,0,0,0,0,0,0,0,0,0,0,0,0,0,0,0,0,0,0,0,0,0,0,0,0,0,0,0,0,0,0,0,0,0,0,0,0,0,0,0,0,0,0,0,0,0,0,0,0,0,0,0,0,0,0,0,0,0,0,0,0,0,0,0,0,0,0,0,0,0,0,0,0,0,0,0,0,0,0,0,0,0,0,0,0,0,0,0,0,0,0,0,0,0,0,0,0,0,0,0,0,0,0,0,0,0,0,0,0,0,0,0,0,0,0,0,0,0,0,0,0,0,0,0,0,0,0,0,0,0,0,0,0,0,0,0,0,0,0,0,0,0,0,0,0,0,0,0,0,0,0,0,0,0,0,0,0,0,0,0,0,0,0,0,0,0,0,0,0,0,0,0,0,0,0,0,0,0,0,0,0,0,0,0,0,0,0,0,0,0,0,0,0,0,0,0,0,0,0,0,0,0,0,0,null,{"$f":"IF(gIsItPlan,IF(AND(System!Z52,System!AA52),1,0),IF(AND(System!Z52,System!AB52),1,0))","v":0}]
[null,{"$f":"IF($SS57,IF(E57=1,System!B53,\"   \"&System!B53),\"\")","v":""},{"$f":"IF($SS57,IF(gIsItPlan,System!F53,System!I53),\"\")","v":""},{"$f":"IF($SS57,IF(gIsItPlan,System!G53,System!J53),\"\")","v":""},{"$f":"System!C53","v":0},{"$f":"System!L53","v":0},0,0,0,20,null,0,0,0,0,0,0,0,0,0,0,0,0,0,0,0,0,0,0,0,0,0,0,0,0,0,0,0,0,0,0,0,0,0,0,0,0,0,0,0,0,0,0,0,0,0,0,0,0,0,0,0,0,0,0,0,0,0,0,0,0,0,0,0,0,0,0,0,0,0,0,0,0,0,0,0,0,0,0,0,0,0,0,0,0,0,0,0,0,0,0,0,0,0,0,0,0,0,0,0,0,0,0,0,0,0,0,0,0,0,0,0,0,0,0,0,0,0,0,0,0,0,0,0,0,0,0,0,0,0,0,0,0,0,0,0,0,0,0,0,0,0,0,0,0,0,0,0,0,0,0,0,0,0,0,0,0,0,0,0,0,0,0,0,0,0,0,0,0,0,0,0,0,0,0,0,0,0,0,0,0,0,0,0,0,0,0,0,0,0,0,0,0,0,0,0,0,0,0,0,0,0,0,0,0,0,0,0,0,0,0,0,0,0,0,0,0,0,0,0,0,0,0,0,0,0,0,0,0,0,0,0,0,0,0,0,0,0,0,0,0,0,0,0,0,0,0,0,0,0,0,0,0,0,0,0,0,0,0,0,0,0,0,0,0,0,0,0,0,0,0,0,0,0,0,0,0,0,0,0,0,0,0,0,0,0,0,0,0,0,0,0,0,0,0,0,0,0,0,0,0,0,0,0,0,0,0,0,0,0,0,0,0,0,0,0,0,0,0,0,0,0,0,0,0,0,0,0,0,0,0,0,0,0,0,0,0,0,0,0,0,0,0,0,0,0,0,0,0,0,0,0,0,0,0,0,0,0,0,0,0,0,0,0,0,0,0,0,0,0,0,0,0,0,0,0,0,0,0,0,0,0,0,0,0,0,0,0,0,0,0,0,0,0,0,0,0,0,0,0,0,0,0,0,0,0,0,0,0,0,0,0,0,0,0,0,0,0,0,0,0,0,0,0,0,0,0,0,0,0,0,0,0,0,0,0,0,0,0,0,0,0,0,0,0,0,0,0,0,0,0,0,0,0,0,0,0,0,0,0,0,0,0,0,0,0,0,0,0,0,0,0,0,0,0,0,0,0,0,0,0,0,0,0,0,0,0,0,0,0,0,0,0,0,0,0,0,0,0,0,0,null,{"$f":"IF(gIsItPlan,IF(AND(System!Z53,System!AA53),1,0),IF(AND(System!Z53,System!AB53),1,0))","v":0}]
[null,{"$f":"IF($SS58,IF(E58=1,System!B54,\"   \"&System!B54),\"\")","v":""},{"$f":"IF($SS58,IF(gIsItPlan,System!F54,System!I54),\"\")","v":""},{"$f":"IF($SS58,IF(gIsItPlan,System!G54,System!J54),\"\")","v":""},{"$f":"System!C54","v":0},{"$f":"System!L54","v":0},0,0,0,20,null,0,0,0,0,0,0,0,0,0,0,0,0,0,0,0,0,0,0,0,0,0,0,0,0,0,0,0,0,0,0,0,0,0,0,0,0,0,0,0,0,0,0,0,0,0,0,0,0,0,0,0,0,0,0,0,0,0,0,0,0,0,0,0,0,0,0,0,0,0,0,0,0,0,0,0,0,0,0,0,0,0,0,0,0,0,0,0,0,0,0,0,0,0,0,0,0,0,0,0,0,0,0,0,0,0,0,0,0,0,0,0,0,0,0,0,0,0,0,0,0,0,0,0,0,0,0,0,0,0,0,0,0,0,0,0,0,0,0,0,0,0,0,0,0,0,0,0,0,0,0,0,0,0,0,0,0,0,0,0,0,0,0,0,0,0,0,0,0,0,0,0,0,0,0,0,0,0,0,0,0,0,0,0,0,0,0,0,0,0,0,0,0,0,0,0,0,0,0,0,0,0,0,0,0,0,0,0,0,0,0,0,0,0,0,0,0,0,0,0,0,0,0,0,0,0,0,0,0,0,0,0,0,0,0,0,0,0,0,0,0,0,0,0,0,0,0,0,0,0,0,0,0,0,0,0,0,0,0,0,0,0,0,0,0,0,0,0,0,0,0,0,0,0,0,0,0,0,0,0,0,0,0,0,0,0,0,0,0,0,0,0,0,0,0,0,0,0,0,0,0,0,0,0,0,0,0,0,0,0,0,0,0,0,0,0,0,0,0,0,0,0,0,0,0,0,0,0,0,0,0,0,0,0,0,0,0,0,0,0,0,0,0,0,0,0,0,0,0,0,0,0,0,0,0,0,0,0,0,0,0,0,0,0,0,0,0,0,0,0,0,0,0,0,0,0,0,0,0,0,0,0,0,0,0,0,0,0,0,0,0,0,0,0,0,0,0,0,0,0,0,0,0,0,0,0,0,0,0,0,0,0,0,0,0,0,0,0,0,0,0,0,0,0,0,0,0,0,0,0,0,0,0,0,0,0,0,0,0,0,0,0,0,0,0,0,0,0,0,0,0,0,0,0,0,0,0,0,0,0,0,0,0,0,0,0,0,0,0,0,0,0,0,0,0,0,0,0,0,0,0,0,0,0,0,0,0,0,0,0,0,0,0,0,0,0,0,0,0,0,0,null,{"$f":"IF(gIsItPlan,IF(AND(System!Z54,System!AA54),1,0),IF(AND(System!Z54,System!AB54),1,0))","v":0}]
[null,{"$f":"IF($SS59,IF(E59=1,System!B55,\"   \"&System!B55),\"\")","v":""},{"$f":"IF($SS59,IF(gIsItPlan,System!F55,System!I55),\"\")","v":""},{"$f":"IF($SS59,IF(gIsItPlan,System!G55,System!J55),\"\")","v":""},{"$f":"System!C55","v":0},{"$f":"System!L55","v":0},0,0,0,20,null,0,0,0,0,0,0,0,0,0,0,0,0,0,0,0,0,0,0,0,0,0,0,0,0,0,0,0,0,0,0,0,0,0,0,0,0,0,0,0,0,0,0,0,0,0,0,0,0,0,0,0,0,0,0,0,0,0,0,0,0,0,0,0,0,0,0,0,0,0,0,0,0,0,0,0,0,0,0,0,0,0,0,0,0,0,0,0,0,0,0,0,0,0,0,0,0,0,0,0,0,0,0,0,0,0,0,0,0,0,0,0,0,0,0,0,0,0,0,0,0,0,0,0,0,0,0,0,0,0,0,0,0,0,0,0,0,0,0,0,0,0,0,0,0,0,0,0,0,0,0,0,0,0,0,0,0,0,0,0,0,0,0,0,0,0,0,0,0,0,0,0,0,0,0,{"$f":"IF(GD$1>$I59,0,\n  IF(GD$1<$G59,0,\n  IF(AND(GD$1>$G59,GD$1<$H59),14+$J59,\n  IF(AND(GD$1>$H59,GD$1<$I59),4+$J59,\n  IF(AND(GD$1=$G59,GD$1<>$H59,GD$1<>$I59),11+$J59,\n  IF(AND(GD$1<>$G59,GD$1=$H59,GD$1<>$I59),12+$J59,\n  IF(AND(GD$1<>$G59,GD$1<>$H59,GD$1=$I59),2+$J59,\n  IF(AND(GD$1=$G59,GD$1=$H59,GD$1<>$I59,$F59<>0),13+$J59,\n  IF(AND(GD$1=$G59,GD$1=$H59,GD$1<>$I59,$F59=0),1+$J59,\n  IF(AND(GD$1<>$G59,GD$1=$H59,GD$1=$I59),12+$J59,\n  IF(AND(GD$1=$G59,GD$1=$H59,GD$1=$I59,$F59<=0.5),3+$J59,13+$J59)))))))))))","v":0},0,0,0,0,0,0,0,0,0,0,0,0,0,0,0,0,0,0,0,0,0,0,0,0,0,0,0,0,0,0,0,0,0,0,0,0,0,0,0,0,0,0,0,0,0,0,0,0,0,0,0,0,0,0,0,0,0,0,0,0,0,0,0,0,0,0,0,0,0,0,0,0,0,0,0,0,0,0,0,0,0,0,0,0,0,0,0,0,0,0,0,0,0,0,0,0,0,0,0,0,0,0,0,0,0,0,0,0,0,0,0,0,0,0,0,0,0,0,0,0,0,0,0,0,0,0,0,0,0,0,0,0,0,0,0,0,0,0,0,0,0,0,0,0,0,0,0,0,0,0,0,0,0,0,0,0,0,0,0,0,0,0,0,0,0,0,0,0,0,0,0,0,0,0,0,0,0,0,0,0,0,0,0,0,0,0,0,0,0,0,0,0,0,0,0,0,0,0,0,0,0,0,0,0,0,0,0,0,0,0,0,0,0,0,0,0,0,0,0,0,0,0,0,0,0,0,0,0,0,0,0,0,0,0,0,0,0,0,0,0,0,0,0,0,0,0,0,0,0,0,0,0,0,0,0,0,0,0,0,0,0,0,0,0,0,0,0,0,0,0,0,0,0,0,0,0,0,0,0,0,0,0,0,0,0,0,0,{"$f":"IF(RF$1>$I59,0,\n  IF(RF$1<$G59,0,\n  IF(AND(RF$1>$G59,RF$1<$H59),14+$J59,\n  IF(AND(RF$1>$H59,RF$1<$I59),4+$J59,\n  IF(AND(RF$1=$G59,RF$1<>$H59,RF$1<>$I59),11+$J59,\n  IF(AND(RF$1<>$G59,RF$1=$H59,RF$1<>$I59),12+$J59,\n  IF(AND(RF$1<>$G59,RF$1<>$H59,RF$1=$I59),2+$J59,\n  IF(AND(RF$1=$G59,RF$1=$H59,RF$1<>$I59,$F59<>0),13+$J59,\n  IF(AND(RF$1=$G59,RF$1=$H59,RF$1<>$I59,$F59=0),1+$J59,\n  IF(AND(RF$1<>$G59,RF$1=$H59,RF$1=$I59),12+$J59,\n  IF(AND(RF$1=$G59,RF$1=$H59,RF$1=$I59,$F59<=0.5),3+$J59,13+$J59)))))))))))","v":0},0,0,0,0,0,0,0,0,0,0,0,0,0,0,0,0,0,0,0,0,0,0,0,0,0,0,0,0,0,0,0,0,0,0,0,0,0,null,{"$f":"IF(gIsItPlan,IF(AND(System!Z55,System!AA55),1,0),IF(AND(System!Z55,System!AB55),1,0))","v":0}]
[null,{"$f":"IF($SS60,IF(E60=1,System!B56,\"   \"&System!B56),\"\")","v":""},{"$f":"IF($SS60,IF(gIsItPlan,System!F56,System!I56),\"\")","v":""},{"$f":"IF($SS60,IF(gIsItPlan,System!G56,System!J56),\"\")","v":""},{"$f":"System!C56","v":0},{"$f":"System!L56","v":0},0,0,0,20,null,0,0,0,0,0,0,0,0,0,0,0,0,0,0,0,0,0,0,0,0,0,0,0,0,0,0,0,0,0,0,0,0,0,0,0,0,0,0,0,0,0,0,0,0,0,0,0,0,0,0,0,0,0,0,0,0,0,0,0,0,0,0,0,0,0,0,0,0,0,0,0,0,0,0,0,0,0,0,0,0,0,0,0,0,0,0,0,0,0,0,0,0,0,0,0,0,0,0,0,0,0,0,0,0,0,0,0,0,0,0,0,0,0,0,0,0,0,0,0,0,0,0,0,0,0,0,0,0,0,0,0,0,0,0,0,0,0,0,0,0,0,0,0,0,0,0,0,0,0,0,0,0,0,0,0,0,0,0,0,0,0,0,0,0,0,0,0,0,0,0,0,0,{"$f":"IF(GB$1>$I60,0,\n  IF(GB$1<$G60,0,\n  IF(AND(GB$1>$G60,GB$1<$H60),14+$J60,\n  IF(AND(GB$1>$H60,GB$1<$I60),4+$J60,\n  IF(AND(GB$1=$G60,GB$1<>$H60,GB$1<>$I60),11+$J60,\n  IF(AND(GB$1<>$G60,GB$1=$H60,GB$1<>$I60),12+$J60,\n  IF(AND(GB$1<>$G60,GB$1<>$H60,GB$1=$I60),2+$J60,\n  IF(AND(GB$1=$G60,GB$1=$H60,GB$1<>$I60,$F60<>0),13+$J60,\n  IF(AND(GB$1=$G60,GB$1=$H60,GB$1<>$I60,$F60=0),1+$J60,\n  IF(AND(GB$1<>$G60,GB$1=$H60,GB$1=$I60),12+$J60,\n  IF(AND(GB$1=$G60,GB$1=$H60,GB$1=$I60,$F60<=0.5),3+$J60,13+$J60)))))))))))","v":0},0,0,0,0,0,0,0,0,0,0,0,0,0,0,0,0,0,0,0,0,0,0,0,0,0,0,0,0,0,0,0,0,0,0,0,0,0,0,0,0,0,0,0,0,0,0,0,0,0,0,0,0,0,0,0,0,0,0,0,0,0,0,0,0,0,0,0,0,0,0,0,0,0,0,0,0,0,0,0,0,0,0,0,0,0,0,0,0,0,0,0,0,0,0,0,0,0,0,0,0,0,0,0,0,0,0,0,0,0,0,0,0,0,0,0,0,0,0,0,0,0,0,0,0,0,0,0,0,0,0,0,0,0,0,0,0,0,0,0,0,0,0,0,0,0,0,0,0,0,0,0,0,0,0,0,0,0,0,0,0,0,0,0,0,0,0,0,0,0,0,0,0,0,0,0,0,0,0,0,0,0,0,0,0,0,0,0,0,0,0,0,0,0,0,0,0,0,0,0,0,0,0,0,0,0,0,0,0,0,0,0,0,0,0,0,0,0,0,0,0,0,0,0,0,0,0,0,0,0,0,0,0,0,0,0,0,0,0,0,0,0,0,0,0,0,0,0,0,0,0,0,0,0,0,0,0,0,0,0,0,0,0,0,0,0,0,0,0,0,0,0,0,0,0,0,0,0,0,0,0,0,0,0,0,0,0,0,0,{"$f":"IF(RE$1>$I60,0,\n  IF(RE$1<$G60,0,\n  IF(AND(RE$1>$G60,RE$1<$H60),14+$J60,\n  IF(AND(RE$1>$H60,RE$1<$I60),4+$J60,\n  IF(AND(RE$1=$G60,RE$1<>$H60,RE$1<>$I60),11+$J60,\n  IF(AND(RE$1<>$G60,RE$1=$H60,RE$1<>$I60),12+$J60,\n  IF(AND(RE$1<>$G60,RE$1<>$H60,RE$1=$I60),2+$J60,\n  IF(AND(RE$1=$G60,RE$1=$H60,RE$1<>$I60,$F60<>0),13+$J60,\n  IF(AND(RE$1=$G60,RE$1=$H60,RE$1<>$I60,$F60=0),1+$J60,\n  IF(AND(RE$1<>$G60,RE$1=$H60,RE$1=$I60),12+$J60,\n  IF(AND(RE$1=$G60,RE$1=$H60,RE$1=$I60,$F60<=0.5),3+$J60,13+$J60)))))))))))","v":0},0,0,0,0,0,0,0,0,0,0,0,0,0,0,0,0,0,0,0,0,0,0,0,0,0,0,0,0,0,0,0,0,0,0,0,0,0,0,null,{"$f":"IF(gIsItPlan,IF(AND(System!Z56,System!AA56),1,0),IF(AND(System!Z56,System!AB56),1,0))","v":0}]
[null,{"$f":"IF($SS61,IF(E61=1,System!B57,\"   \"&System!B57),\"\")","v":""},{"$f":"IF($SS61,IF(gIsItPlan,System!F57,System!I57),\"\")","v":""},{"$f":"IF($SS61,IF(gIsItPlan,System!G57,System!J57),\"\")","v":""},{"$f":"System!C57","v":0},{"$f":"System!L57","v":0},0,0,0,20,null,0,0,0,0,0,0,0,0,0,0,0,0,0,0,0,{"$f":"IF(AA$1>$I61,0,\n  IF(AA$1<$G61,0,\n  IF(AND(AA$1>$G61,AA$1<$H61),14+$J61,\n  IF(AND(AA$1>$H61,AA$1<$I61),4+$J61,\n  IF(AND(AA$1=$G61,AA$1<>$H61,AA$1<>$I61),11+$J61,\n  IF(AND(AA$1<>$G61,AA$1=$H61,AA$1<>$I61),12+$J61,\n  IF(AND(AA$1<>$G61,AA$1<>$H61,AA$1=$I61),2+$J61,\n  IF(AND(AA$1=$G61,AA$1=$H61,AA$1<>$I61,$F61<>0),13+$J61,\n  IF(AND(AA$1=$G61,AA$1=$H61,AA$1<>$I61,$F61=0),1+$J61,\n  IF(AND(AA$1<>$G61,AA$1=$H61,AA$1=$I61),12+$J61,\n  IF(AND(AA$1=$G61,AA$1=$H61,AA$1=$I61,$F61<=0.5),3+$J61,13+$J61)))))))))))","v":0},0,0,0,0,0,0,0,0,0,0,0,0,0,0,0,0,0,0,0,0,0,0,0,0,0,0,0,0,0,0,0,0,0,0,0,0,0,0,0,0,0,0,0,0,0,0,0,0,0,0,0,0,0,0,0,0,0,0,0,0,0,0,0,0,0,0,0,0,0,0,0,0,0,0,0,0,0,0,0,0,0,0,0,0,0,0,0,0,0,0,0,0,0,0,0,0,0,0,0,0,0,0,0,0,0,0,0,{"$f":"IF(EE$1>$I61,0,\n  IF(EE$1<$G61,0,\n  IF(AND(EE$1>$G61,EE$1<$H61),14+$J61,\n  IF(AND(EE$1>$H61,EE$1<$I61),4+$J61,\n  IF(AND(EE$1=$G61,EE$1<>$H61,EE$1<>$I61),11+$J61,\n  IF(AND(EE$1<>$G61,EE$1=$H61,EE$1<>$I61),12+$J61,\n  IF(AND(EE$1<>$G61,EE$1<>$H61,EE$1=$I61),2+$J61,\n  IF(AND(EE$1=$G61,EE$1=$H61,EE$1<>$I61,$F61<>0),13+$J61,\n  IF(AND(EE$1=$G61,EE$1=$H61,EE$1<>$I61,$F61=0),1+$J61,\n  IF(AND(EE$1<>$G61,EE$1=$H61,EE$1=$I61),12+$J61,\n  IF(AND(EE$1=$G61,EE$1=$H61,EE$1=$I61,$F61<=0.5),3+$J61,13+$J61)))))))))))","v":0},0,0,0,0,0,0,0,0,0,0,0,0,0,0,0,0,0,0,0,0,0,0,0,0,0,0,0,0,0,0,0,0,0,0,{"$f":"IF(FN$1>$I61,0,\n  IF(FN$1<$G61,0,\n  IF(AND(FN$1>$G61,FN$1<$H61),14+$J61,\n  IF(AND(FN$1>$H61,FN$1<$I61),4+$J61,\n  IF(AND(FN$1=$G61,FN$1<>$H61,FN$1<>$I61),11+$J61,\n  IF(AND(FN$1<>$G61,FN$1=$H61,FN$1<>$I61),12+$J61,\n  IF(AND(FN$1<>$G61,FN$1<>$H61,FN$1=$I61),2+$J61,\n  IF(AND(FN$1=$G61,FN$1=$H61,FN$1<>$I61,$F61<>0),13+$J61,\n  IF(AND(FN$1=$G61,FN$1=$H61,FN$1<>$I61,$F61=0),1+$J61,\n  IF(AND(FN$1<>$G61,FN$1=$H61,FN$1=$I61),12+$J61,\n  IF(AND(FN$1=$G61,FN$1=$H61,FN$1=$I61,$F61<=0.5),3+$J61,13+$J61)))))))))))","v":0},0,0,0,0,0,0,0,0,0,0,0,0,0,0,0,0,0,0,0,0,0,0,0,0,0,0,0,0,0,0,0,0,0,0,0,0,0,0,0,0,0,0,0,0,0,0,0,0,0,0,0,0,0,0,0,0,0,0,0,0,0,0,0,0,0,0,0,0,0,0,0,0,0,0,0,0,0,0,0,0,0,0,0,0,0,0,0,0,0,0,0,0,0,0,0,{"$f":"IF(JF$1>$I61,0,\n  IF(JF$1<$G61,0,\n  IF(AND(JF$1>$G61,JF$1<$H61),14+$J61,\n  IF(AND(JF$1>$H61,JF$1<$I61),4+$J61,\n  IF(AND(JF$1=$G61,JF$1<>$H61,JF$1<>$I61),11+$J61,\n  IF(AND(JF$1<>$G61,JF$1=$H61,JF$1<>$I61),12+$J61,\n  IF(AND(JF$1<>$G61,JF$1<>$H61,JF$1=$I61),2+$J61,\n  IF(AND(JF$1=$G61,JF$1=$H61,JF$1<>$I61,$F61<>0),13+$J61,\n  IF(AND(JF$1=$G61,JF$1=$H61,JF$1<>$I61,$F61=0),1+$J61,\n  IF(AND(JF$1<>$G61,JF$1=$H61,JF$1=$I61),12+$J61,\n  IF(AND(JF$1=$G61,JF$1=$H61,JF$1=$I61,$F61<=0.5),3+$J61,13+$J61)))))))))))","v":0},0,0,0,0,0,0,0,0,0,0,0,0,0,0,0,0,0,0,0,0,0,0,0,0,0,0,0,0,0,0,0,0,0,0,0,0,0,0,0,0,0,0,0,0,0,0,0,0,0,0,0,0,0,0,0,0,0,0,0,0,0,0,0,{"$f":"IF(LR$1>$I61,0,\n  IF(LR$1<$G61,0,\n  IF(AND(LR$1>$G61,LR$1<$H61),14+$J61,\n  IF(AND(LR$1>$H61,LR$1<$I61),4+$J61,\n  IF(AND(LR$1=$G61,LR$1<>$H61,LR$1<>$I61),11+$J61,\n  IF(AND(LR$1<>$G61,LR$1=$H61,LR$1<>$I61),12+$J61,\n  IF(AND(LR$1<>$G61,LR$1<>$H61,LR$1=$I61),2+$J61,\n  IF(AND(LR$1=$G61,LR$1=$H61,LR$1<>$I61,$F61<>0),13+$J61,\n  IF(AND(LR$1=$G61,LR$1=$H61,LR$1<>$I61,$F61=0),1+$J61,\n  IF(AND(LR$1<>$G61,LR$1=$H61,LR$1=$I61),12+$J61,\n  IF(AND(LR$1=$G61,LR$1=$H61,LR$1=$I61,$F61<=0.5),3+$J61,13+$J61)))))))))))","v":0},0,0,0,0,0,0,0,0,0,0,0,0,0,0,0,0,0,0,0,0,0,0,0,0,0,0,0,0,0,0,0,0,0,0,0,0,0,0,0,0,0,0,0,0,0,0,0,0,0,0,0,0,0,0,0,0,0,0,0,0,0,0,0,{"$f":"IF(OD$1>$I61,0,\n  IF(OD$1<$G61,0,\n  IF(AND(OD$1>$G61,OD$1<$H61),14+$J61,\n  IF(AND(OD$1>$H61,OD$1<$I61),4+$J61,\n  IF(AND(OD$1=$G61,OD$1<>$H61,OD$1<>$I61),11+$J61,\n  IF(AND(OD$1<>$G61,OD$1=$H61,OD$1<>$I61),12+$J61,\n  IF(AND(OD$1<>$G61,OD$1<>$H61,OD$1=$I61),2+$J61,\n  IF(AND(OD$1=$G61,OD$1=$H61,OD$1<>$I61,$F61<>0),13+$J61,\n  IF(AND(OD$1=$G61,OD$1=$H61,OD$1<>$I61,$F61=0),1+$J61,\n  IF(AND(OD$1<>$G61,OD$1=$H61,OD$1=$I61),12+$J61,\n  IF(AND(OD$1=$G61,OD$1=$H61,OD$1=$I61,$F61<=0.5),3+$J61,13+$J61)))))))))))","v":0},0,0,0,0,0,0,0,0,0,0,0,0,0,0,0,0,0,0,0,0,0,0,0,0,0,0,0,0,0,0,0,0,0,0,0,0,0,0,0,0,0,0,0,0,0,0,0,0,0,0,0,0,0,0,0,0,0,0,0,0,0,0,0,{"$f":"IF(QP$1>$I61,0,\n  IF(QP$1<$G61,0,\n  IF(AND(QP$1>$G61,QP$1<$H61),14+$J61,\n  IF(AND(QP$1>$H61,QP$1<$I61),4+$J61,\n  IF(AND(QP$1=$G61,QP$1<>$H61,QP$1<>$I61),11+$J61,\n  IF(AND(QP$1<>$G61,QP$1=$H61,QP$1<>$I61),12+$J61,\n  IF(AND(QP$1<>$G61,QP$1<>$H61,QP$1=$I61),2+$J61,\n  IF(AND(QP$1=$G61,QP$1=$H61,QP$1<>$I61,$F61<>0),13+$J61,\n  IF(AND(QP$1=$G61,QP$1=$H61,QP$1<>$I61,$F61=0),1+$J61,\n  IF(AND(QP$1<>$G61,QP$1=$H61,QP$1=$I61),12+$J61,\n  IF(AND(QP$1=$G61,QP$1=$H61,QP$1=$I61,$F61<=0.5),3+$J61,13+$J61)))))))))))","v":0},0,0,0,0,0,0,0,0,0,0,0,0,0,0,0,0,0,0,0,0,0,0,0,0,0,0,0,0,0,0,0,0,0,0,0,0,0,0,0,0,0,0,0,0,0,0,0,0,0,0,0,0,0,null,{"$f":"IF(gIsItPlan,IF(AND(System!Z57,System!AA57),1,0),IF(AND(System!Z57,System!AB57),1,0))","v":0}]
[null,{"$f":"IF($SS62,IF(E62=1,System!B58,\"   \"&System!B58),\"\")","v":""},{"$f":"IF($SS62,IF(gIsItPlan,System!F58,System!I58),\"\")","v":""},{"$f":"IF($SS62,IF(gIsItPlan,System!G58,System!J58),\"\")","v":""},{"$f":"System!C58","v":0},{"$f":"System!L58","v":0},0,0,0,20,null,{"$f":"IF(L$1>$I62,0,\n  IF(L$1<$G62,0,\n  IF(AND(L$1>$G62,L$1<$H62),14+$J62,\n  IF(AND(L$1>$H62,L$1<$I62),4+$J62,\n  IF(AND(L$1=$G62,L$1<>$H62,L$1<>$I62),11+$J62,\n  IF(AND(L$1<>$G62,L$1=$H62,L$1<>$I62),12+$J62,\n  IF(AND(L$1<>$G62,L$1<>$H62,L$1=$I62),2+$J62,\n  IF(AND(L$1=$G62,L$1=$H62,L$1<>$I62,$F62<>0),13+$J62,\n  IF(AND(L$1=$G62,L$1=$H62,L$1<>$I62,$F62=0),1+$J62,\n  IF(AND(L$1<>$G62,L$1=$H62,L$1=$I62),12+$J62,\n  IF(AND(L$1=$G62,L$1=$H62,L$1=$I62,$F62<=0.5),3+$J62,13+$J62)))))))))))","v":0},0,0,0,0,0,0,0,0,0,0,0,0,0,0,0,0,0,0,0,0,0,0,0,0,0,0,0,0,0,0,0,0,0,0,0,0,0,0,0,0,0,0,0,0,0,0,0,0,0,0,0,0,0,0,0,0,0,0,0,0,0,0,0,0,0,0,0,0,0,0,0,0,0,0,0,0,0,0,0,0,0,0,0,0,0,0,0,0,0,0,0,0,0,0,0,0,0,0,0,0,0,0,0,0,0,0,0,0,{"$f":"IF(DQ$1>$I62,0,\n  IF(DQ$1<$G62,0,\n  IF(AND(DQ$1>$G62,DQ$1<$H62),14+$J62,\n  IF(AND(DQ$1>$H62,DQ$1<$I62),4+$J62,\n  IF(AND(DQ$1=$G62,DQ$1<>$H62,DQ$1<>$I62),11+$J62,\n  IF(AND(DQ$1<>$G62,DQ$1=$H62,DQ$1<>$I62),12+$J62,\n  IF(AND(DQ$1<>$G62,DQ$1<>$H62,DQ$1=$I62),2+$J62,\n  IF(AND(DQ$1=$G62,DQ$1=$H62,DQ$1<>$I62,$F62<>0),13+$J62,\n  IF(AND(DQ$1=$G62,DQ$1=$H62,DQ$1<>$I62,$F62=0),1+$J62,\n  IF(AND(DQ$1<>$G62,DQ$1=$H62,DQ$1=$I62),12+$J62,\n  IF(AND(DQ$1=$G62,DQ$1=$H62,DQ$1=$I62,$F62<=0.5),3+$J62,13+$J62)))))))))))","v":0},0,0,0,0,0,0,0,0,0,0,0,0,0,0,0,0,0,0,0,0,0,0,0,0,0,0,0,0,0,0,0,0,0,0,0,0,0,0,0,0,0,0,0,0,0,0,0,0,0,0,0,0,0,0,0,0,0,0,0,0,0,0,0,0,0,0,0,0,0,0,0,0,0,0,0,0,0,0,0,0,0,0,0,0,0,0,0,0,0,0,0,0,0,0,0,0,0,0,0,0,0,0,0,0,0,0,0,0,0,0,0,0,0,0,0,0,0,0,0,0,0,0,0,0,0,0,0,0,0,{"$f":"IF(IQ$1>$I62,0,\n  IF(IQ$1<$G62,0,\n  IF(AND(IQ$1>$G62,IQ$1<$H62),14+$J62,\n  IF(AND(IQ$1>$H62,IQ$1<$I62),4+$J62,\n  IF(AND(IQ$1=$G62,IQ$1<>$H62,IQ$1<>$I62),11+$J62,\n  IF(AND(IQ$1<>$G62,IQ$1=$H62,IQ$1<>$I62),12+$J62,\n  IF(AND(IQ$1<>$G62,IQ$1<>$H62,IQ$1=$I62),2+$J62,\n  IF(AND(IQ$1=$G62,IQ$1=$H62,IQ$1<>$I62,$F62<>0),13+$J62,\n  IF(AND(IQ$1=$G62,IQ$1=$H62,IQ$1<>$I62,$F62=0),1+$J62,\n  IF(AND(IQ$1<>$G62,IQ$1=$H62,IQ$1=$I62),12+$J62,\n  IF(AND(IQ$1=$G62,IQ$1=$H62,IQ$1=$I62,$F62<=0.5),3+$J62,13+$J62)))))))))))","v":0},0,0,0,0,0,0,0,0,0,0,0,0,0,0,0,0,0,0,0,0,0,0,0,0,0,0,0,0,0,0,0,0,0,0,0,0,0,0,0,0,0,0,0,0,0,0,0,0,0,0,0,0,0,0,0,0,0,0,0,0,0,0,0,{"$f":"IF(LC$1>$I62,0,\n  IF(LC$1<$G62,0,\n  IF(AND(LC$1>$G62,LC$1<$H62),14+$J62,\n  IF(AND(LC$1>$H62,LC$1<$I62),4+$J62,\n  IF(AND(LC$1=$G62,LC$1<>$H62,LC$1<>$I62),11+$J62,\n  IF(AND(LC$1<>$G62,LC$1=$H62,LC$1<>$I62),12+$J62,\n  IF(AND(LC$1<>$G62,LC$1<>$H62,LC$1=$I62),2+$J62,\n  IF(AND(LC$1=$G62,LC$1=$H62,LC$1<>$I62,$F62<>0),13+$J62,\n  IF(AND(LC$1=$G62,LC$1=$H62,LC$1<>$I62,$F62=0),1+$J62,\n  IF(AND(LC$1<>$G62,LC$1=$H62,LC$1=$I62),12+$J62,\n  IF(AND(LC$1=$G62,LC$1=$H62,LC$1=$I62,$F62<=0.5),3+$J62,13+$J62)))))))))))","v":0},0,0,0,0,0,0,0,0,0,0,0,0,0,0,0,0,0,0,0,0,0,0,0,0,0,0,0,0,0,0,0,0,0,0,0,0,0,0,0,0,0,0,0,0,0,0,0,0,0,0,0,0,0,0,0,0,0,0,0,0,0,0,0,{"$f":"IF(NO$1>$I62,0,\n  IF(NO$1<$G62,0,\n  IF(AND(NO$1>$G62,NO$1<$H62),14+$J62,\n  IF(AND(NO$1>$H62,NO$1<$I62),4+$J62,\n  IF(AND(NO$1=$G62,NO$1<>$H62,NO$1<>$I62),11+$J62,\n  IF(AND(NO$1<>$G62,NO$1=$H62,NO$1<>$I62),12+$J62,\n  IF(AND(NO$1<>$G62,NO$1<>$H62,NO$1=$I62),2+$J62,\n  IF(AND(NO$1=$G62,NO$1=$H62,NO$1<>$I62,$F62<>0),13+$J62,\n  IF(AND(NO$1=$G62,NO$1=$H62,NO$1<>$I62,$F62=0),1+$J62,\n  IF(AND(NO$1<>$G62,NO$1=$H62,NO$1=$I62),12+$J62,\n  IF(AND(NO$1=$G62,NO$1=$H62,NO$1=$I62,$F62<=0.5),3+$J62,13+$J62)))))))))))","v":0},0,0,0,0,0,0,0,0,0,0,0,0,0,0,0,0,0,0,0,0,0,0,0,0,0,0,0,0,0,0,0,0,0,0,0,0,0,0,0,0,0,0,0,0,0,0,0,0,0,0,0,0,0,0,0,0,0,0,0,0,0,0,0,{"$f":"IF(QA$1>$I62,0,\n  IF(QA$1<$G62,0,\n  IF(AND(QA$1>$G62,QA$1<$H62),14+$J62,\n  IF(AND(QA$1>$H62,QA$1<$I62),4+$J62,\n  IF(AND(QA$1=$G62,QA$1<>$H62,QA$1<>$I62),11+$J62,\n  IF(AND(QA$1<>$G62,QA$1=$H62,QA$1<>$I62),12+$J62,\n  IF(AND(QA$1<>$G62,QA$1<>$H62,QA$1=$I62),2+$J62,\n  IF(AND(QA$1=$G62,QA$1=$H62,QA$1<>$I62,$F62<>0),13+$J62,\n  IF(AND(QA$1=$G62,QA$1=$H62,QA$1<>$I62,$F62=0),1+$J62,\n  IF(AND(QA$1<>$G62,QA$1=$H62,QA$1=$I62),12+$J62,\n  IF(AND(QA$1=$G62,QA$1=$H62,QA$1=$I62,$F62<=0.5),3+$J62,13+$J62)))))))))))","v":0},0,0,0,0,0,0,0,0,0,0,0,0,0,0,0,0,0,0,0,0,0,0,0,0,0,0,0,0,0,0,0,0,0,0,0,0,0,0,0,0,0,0,0,0,0,0,0,0,0,{"$f":"IF(RY$1>$I62,0,\n  IF(RY$1<$G62,0,\n  IF(AND(RY$1>$G62,RY$1<$H62),14+$J62,\n  IF(AND(RY$1>$H62,RY$1<$I62),4+$J62,\n  IF(AND(RY$1=$G62,RY$1<>$H62,RY$1<>$I62),11+$J62,\n  IF(AND(RY$1<>$G62,RY$1=$H62,RY$1<>$I62),12+$J62,\n  IF(AND(RY$1<>$G62,RY$1<>$H62,RY$1=$I62),2+$J62,\n  IF(AND(RY$1=$G62,RY$1=$H62,RY$1<>$I62,$F62<>0),13+$J62,\n  IF(AND(RY$1=$G62,RY$1=$H62,RY$1<>$I62,$F62=0),1+$J62,\n  IF(AND(RY$1<>$G62,RY$1=$H62,RY$1=$I62),12+$J62,\n  IF(AND(RY$1=$G62,RY$1=$H62,RY$1=$I62,$F62<=0.5),3+$J62,13+$J62)))))))))))","v":0},0,0,0,0,0,0,0,0,0,0,0,0,0,0,0,0,0,0,null,{"$f":"IF(gIsItPlan,IF(AND(System!Z58,System!AA58),1,0),IF(AND(System!Z58,System!AB58),1,0))","v":0}]
[null,{"$f":"IF($SS63,IF(E63=1,System!B59,\"   \"&System!B59),\"\")","v":""},{"$f":"IF($SS63,IF(gIsItPlan,System!F59,System!I59),\"\")","v":""},{"$f":"IF($SS63,IF(gIsItPlan,System!G59,System!J59),\"\")","v":""},{"$f":"System!C59","v":0},{"$f":"System!L59","v":0},0,0,0,20,null,0,0,0,0,0,0,0,0,0,0,0,0,0,0,0,0,0,0,0,0,0,0,0,0,0,0,0,0,0,0,0,0,0,0,0,0,0,0,0,0,0,0,0,0,0,0,0,0,0,0,0,0,0,0,0,0,0,0,0,0,0,0,0,0,0,0,0,0,0,0,0,0,0,0,0,0,0,0,0,0,0,0,0,0,0,0,0,0,0,0,0,0,0,0,0,0,0,0,0,0,0,0,0,0,0,0,0,0,0,0,0,0,0,0,0,0,0,0,0,0,0,0,0,0,0,0,0,0,0,0,0,0,{"$f":"IF(EN$1>$I63,0,\n  IF(EN$1<$G63,0,\n  IF(AND(EN$1>$G63,EN$1<$H63),14+$J63,\n  IF(AND(EN$1>$H63,EN$1<$I63),4+$J63,\n  IF(AND(EN$1=$G63,EN$1<>$H63,EN$1<>$I63),11+$J63,\n  IF(AND(EN$1<>$G63,EN$1=$H63,EN$1<>$I63),12+$J63,\n  IF(AND(EN$1<>$G63,EN$1<>$H63,EN$1=$I63),2+$J63,\n  IF(AND(EN$1=$G63,EN$1=$H63,EN$1<>$I63,$F63<>0),13+$J63,\n  IF(AND(EN$1=$G63,EN$1=$H63,EN$1<>$I63,$F63=0),1+$J63,\n  IF(AND(EN$1<>$G63,EN$1=$H63,EN$1=$I63),12+$J63,\n  IF(AND(EN$1=$G63,EN$1=$H63,EN$1=$I63,$F63<=0.5),3+$J63,13+$J63)))))))))))","v":0},0,0,0,0,0,0,0,0,0,0,0,0,0,0,0,0,0,0,0,0,0,0,0,0,0,0,0,0,0,0,0,0,0,0,0,0,0,0,0,0,0,0,0,0,0,0,0,0,0,0,0,0,0,0,0,0,0,0,0,0,0,0,0,0,0,0,0,0,0,0,0,0,0,0,0,0,0,0,0,0,0,0,0,0,0,0,0,0,0,0,0,0,0,0,0,0,0,0,0,0,0,0,0,0,0,0,0,0,0,0,0,0,0,0,0,0,0,0,0,0,0,0,0,0,0,0,0,0,0,0,0,0,0,0,0,0,0,0,0,0,0,0,0,0,0,0,0,0,0,0,0,0,0,0,0,0,0,0,0,0,0,0,0,0,0,0,0,0,0,0,0,0,0,0,0,0,0,0,0,0,0,0,0,0,0,0,0,0,0,0,0,0,0,0,0,0,0,0,0,0,0,0,0,0,0,0,0,0,0,0,0,0,0,0,0,0,0,0,0,0,0,0,0,0,0,0,0,0,0,0,0,0,0,0,0,0,0,0,0,0,0,0,0,0,0,0,0,0,0,0,0,0,0,0,0,0,0,0,0,0,0,0,0,0,0,0,0,0,0,0,0,0,0,0,0,0,0,0,0,0,0,0,0,0,0,0,0,0,0,0,0,0,0,0,0,0,0,0,0,0,0,0,0,0,0,0,0,0,0,0,0,0,0,0,0,0,0,0,0,0,0,0,0,0,0,0,0,0,0,0,0,0,0,0,0,0,0,0,0,0,0,0,0,0,0,{"$f":"IF(RV$1>$I63,0,\n  IF(RV$1<$G63,0,\n  IF(AND(RV$1>$G63,RV$1<$H63),14+$J63,\n  IF(AND(RV$1>$H63,RV$1<$I63),4+$J63,\n  IF(AND(RV$1=$G63,RV$1<>$H63,RV$1<>$I63),11+$J63,\n  IF(AND(RV$1<>$G63,RV$1=$H63,RV$1<>$I63),12+$J63,\n  IF(AND(RV$1<>$G63,RV$1<>$H63,RV$1=$I63),2+$J63,\n  IF(AND(RV$1=$G63,RV$1=$H63,RV$1<>$I63,$F63<>0),13+$J63,\n  IF(AND(RV$1=$G63,RV$1=$H63,RV$1<>$I63,$F63=0),1+$J63,\n  IF(AND(RV$1<>$G63,RV$1=$H63,RV$1=$I63),12+$J63,\n  IF(AND(RV$1=$G63,RV$1=$H63,RV$1=$I63,$F63<=0.5),3+$J63,13+$J63)))))))))))","v":0},0,0,0,0,0,0,0,0,0,0,0,0,0,0,0,0,0,0,0,0,0,null,{"$f":"IF(gIsItPlan,IF(AND(System!Z59,System!AA59),1,0),IF(AND(System!Z59,System!AB59),1,0))","v":0}]
[null,{"$f":"IF($SS64,IF(E64=1,System!B60,\"   \"&System!B60),\"\")","v":""},{"$f":"IF($SS64,IF(gIsItPlan,System!F60,System!I60),\"\")","v":""},{"$f":"IF($SS64,IF(gIsItPlan,System!G60,System!J60),\"\")","v":""},{"$f":"System!C60","v":0},{"$f":"System!L60","v":0},0,0,0,20,null,0,0,0,0,0,0,0,0,0,0,0,0,0,0,0,0,0,0,0,0,0,0,0,0,0,0,0,0,0,0,0,0,0,0,0,0,0,0,0,0,0,0,0,0,0,0,{"$f":"IF(BF$1>$I64,0,\n  IF(BF$1<$G64,0,\n  IF(AND(BF$1>$G64,BF$1<$H64),14+$J64,\n  IF(AND(BF$1>$H64,BF$1<$I64),4+$J64,\n  IF(AND(BF$1=$G64,BF$1<>$H64,BF$1<>$I64),11+$J64,\n  IF(AND(BF$1<>$G64,BF$1=$H64,BF$1<>$I64),12+$J64,\n  IF(AND(BF$1<>$G64,BF$1<>$H64,BF$1=$I64),2+$J64,\n  IF(AND(BF$1=$G64,BF$1=$H64,BF$1<>$I64,$F64<>0),13+$J64,\n  IF(AND(BF$1=$G64,BF$1=$H64,BF$1<>$I64,$F64=0),1+$J64,\n  IF(AND(BF$1<>$G64,BF$1=$H64,BF$1=$I64),12+$J64,\n  IF(AND(BF$1=$G64,BF$1=$H64,BF$1=$I64,$F64<=0.5),3+$J64,13+$J64)))))))))))","v":0},0,0,0,0,0,0,0,0,0,0,0,0,0,0,0,0,0,0,0,0,0,0,{"$f":"IF(CC$1>$I64,0,\n  IF(CC$1<$G64,0,\n  IF(AND(CC$1>$G64,CC$1<$H64),14+$J64,\n  IF(AND(CC$1>$H64,CC$1<$I64),4+$J64,\n  IF(AND(CC$1=$G64,CC$1<>$H64,CC$1<>$I64),11+$J64,\n  IF(AND(CC$1<>$G64,CC$1=$H64,CC$1<>$I64),12+$J64,\n  IF(AND(CC$1<>$G64,CC$1<>$H64,CC$1=$I64),2+$J64,\n  IF(AND(CC$1=$G64,CC$1=$H64,CC$1<>$I64,$F64<>0),13+$J64,\n  IF(AND(CC$1=$G64,CC$1=$H64,CC$1<>$I64,$F64=0),1+$J64,\n  IF(AND(CC$1<>$G64,CC$1=$H64,CC$1=$I64),12+$J64,\n  IF(AND(CC$1=$G64,CC$1=$H64,CC$1=$I64,$F64<=0.5),3+$J64,13+$J64)))))))))))","v":0},0,0,0,0,0,0,0,0,0,0,0,0,0,0,0,0,0,0,0,0,0,0,0,0,0,0,0,0,0,0,0,0,0,0,0,0,0,0,0,0,0,0,0,0,0,0,0,0,0,0,0,0,0,0,0,0,0,0,0,0,0,0,0,0,0,0,0,0,0,0,0,0,0,0,0,0,0,0,0,0,0,0,0,0,0,0,0,0,0,0,0,0,0,0,0,0,0,0,0,0,0,0,0,0,0,0,0,0,0,0,0,0,0,0,0,0,0,0,0,0,0,0,0,0,0,0,0,0,0,0,0,0,{"$f":"IF(HF$1>$I64,0,\n  IF(HF$1<$G64,0,\n  IF(AND(HF$1>$G64,HF$1<$H64),14+$J64,\n  IF(AND(HF$1>$H64,HF$1<$I64),4+$J64,\n  IF(AND(HF$1=$G64,HF$1<>$H64,HF$1<>$I64),11+$J64,\n  IF(AND(HF$1<>$G64,HF$1=$H64,HF$1<>$I64),12+$J64,\n  IF(AND(HF$1<>$G64,HF$1<>$H64,HF$1=$I64),2+$J64,\n  IF(AND(HF$1=$G64,HF$1=$H64,HF$1<>$I64,$F64<>0),13+$J64,\n  IF(AND(HF$1=$G64,HF$1=$H64,HF$1<>$I64,$F64=0),1+$J64,\n  IF(AND(HF$1<>$G64,HF$1=$H64,HF$1=$I64),12+$J64,\n  IF(AND(HF$1=$G64,HF$1=$H64,HF$1=$I64,$F64<=0.5),3+$J64,13+$J64)))))))))))","v":0},0,0,0,0,0,0,0,0,0,0,0,0,0,0,0,0,0,0,0,0,0,0,0,0,0,0,0,0,0,0,0,0,{"$f":"IF(IM$1>$I64,0,\n  IF(IM$1<$G64,0,\n  IF(AND(IM$1>$G64,IM$1<$H64),14+$J64,\n  IF(AND(IM$1>$H64,IM$1<$I64),4+$J64,\n  IF(AND(IM$1=$G64,IM$1<>$H64,IM$1<>$I64),11+$J64,\n  IF(AND(IM$1<>$G64,IM$1=$H64,IM$1<>$I64),12+$J64,\n  IF(AND(IM$1<>$G64,IM$1<>$H64,IM$1=$I64),2+$J64,\n  IF(AND(IM$1=$G64,IM$1=$H64,IM$1<>$I64,$F64<>0),13+$J64,\n  IF(AND(IM$1=$G64,IM$1=$H64,IM$1<>$I64,$F64=0),1+$J64,\n  IF(AND(IM$1<>$G64,IM$1=$H64,IM$1=$I64),12+$J64,\n  IF(AND(IM$1=$G64,IM$1=$H64,IM$1=$I64,$F64<=0.5),3+$J64,13+$J64)))))))))))","v":0},0,0,0,0,0,0,0,0,0,0,0,0,0,0,0,0,0,0,0,0,0,0,0,0,0,0,0,0,0,0,0,0,0,0,0,0,0,0,0,0,0,0,0,0,0,0,0,0,0,0,0,0,0,0,0,0,0,0,0,0,0,0,0,{"$f":"IF(KY$1>$I64,0,\n  IF(KY$1<$G64,0,\n  IF(AND(KY$1>$G64,KY$1<$H64),14+$J64,\n  IF(AND(KY$1>$H64,KY$1<$I64),4+$J64,\n  IF(AND(KY$1=$G64,KY$1<>$H64,KY$1<>$I64),11+$J64,\n  IF(AND(KY$1<>$G64,KY$1=$H64,KY$1<>$I64),12+$J64,\n  IF(AND(KY$1<>$G64,KY$1<>$H64,KY$1=$I64),2+$J64,\n  IF(AND(KY$1=$G64,KY$1=$H64,KY$1<>$I64,$F64<>0),13+$J64,\n  IF(AND(KY$1=$G64,KY$1=$H64,KY$1<>$I64,$F64=0),1+$J64,\n  IF(AND(KY$1<>$G64,KY$1=$H64,KY$1=$I64),12+$J64,\n  IF(AND(KY$1=$G64,KY$1=$H64,KY$1=$I64,$F64<=0.5),3+$J64,13+$J64)))))))))))","v":0},0,0,0,0,0,0,0,0,0,0,0,0,0,0,0,0,0,0,0,0,0,0,0,0,0,0,0,0,0,0,0,0,0,0,0,0,0,0,0,0,0,0,0,0,0,0,0,0,0,0,0,0,0,0,0,0,0,0,0,0,0,0,0,{"$f":"IF(NK$1>$I64,0,\n  IF(NK$1<$G64,0,\n  IF(AND(NK$1>$G64,NK$1<$H64),14+$J64,\n  IF(AND(NK$1>$H64,NK$1<$I64),4+$J64,\n  IF(AND(NK$1=$G64,NK$1<>$H64,NK$1<>$I64),11+$J64,\n  IF(AND(NK$1<>$G64,NK$1=$H64,NK$1<>$I64),12+$J64,\n  IF(AND(NK$1<>$G64,NK$1<>$H64,NK$1=$I64),2+$J64,\n  IF(AND(NK$1=$G64,NK$1=$H64,NK$1<>$I64,$F64<>0),13+$J64,\n  IF(AND(NK$1=$G64,NK$1=$H64,NK$1<>$I64,$F64=0),1+$J64,\n  IF(AND(NK$1<>$G64,NK$1=$H64,NK$1=$I64),12+$J64,\n  IF(AND(NK$1=$G64,NK$1=$H64,NK$1=$I64,$F64<=0.5),3+$J64,13+$J64)))))))))))","v":0},0,0,0,0,0,0,0,0,0,0,0,0,0,0,0,0,0,0,0,0,0,0,0,0,0,0,0,0,0,0,0,0,0,0,0,0,0,0,0,0,0,0,0,0,0,0,0,0,0,0,0,0,0,0,0,0,0,0,0,0,0,0,0,{"$f":"IF(PW$1>$I64,0,\n  IF(PW$1<$G64,0,\n  IF(AND(PW$1>$G64,PW$1<$H64),14+$J64,\n  IF(AND(PW$1>$H64,PW$1<$I64),4+$J64,\n  IF(AND(PW$1=$G64,PW$1<>$H64,PW$1<>$I64),11+$J64,\n  IF(AND(PW$1<>$G64,PW$1=$H64,PW$1<>$I64),12+$J64,\n  IF(AND(PW$1<>$G64,PW$1<>$H64,PW$1=$I64),2+$J64,\n  IF(AND(PW$1=$G64,PW$1=$H64,PW$1<>$I64,$F64<>0),13+$J64,\n  IF(AND(PW$1=$G64,PW$1=$H64,PW$1<>$I64,$F64=0),1+$J64,\n  IF(AND(PW$1<>$G64,PW$1=$H64,PW$1=$I64),12+$J64,\n  IF(AND(PW$1=$G64,PW$1=$H64,PW$1=$I64,$F64<=0.5),3+$J64,13+$J64)))))))))))","v":0},0,0,0,0,0,0,0,0,0,0,0,0,0,0,0,0,0,0,0,0,0,0,0,0,0,0,0,0,0,0,0,0,0,0,0,0,0,0,0,0,0,0,0,0,0,0,0,0,0,0,0,0,0,0,0,0,0,0,0,0,0,0,0,0,0,0,0,0,0,0,0,0,null,{"$f":"IF(gIsItPlan,IF(AND(System!Z60,System!AA60),1,0),IF(AND(System!Z60,System!AB60),1,0))","v":0}]
[null,{"$f":"IF($SS65,IF(E65=1,System!B61,\"   \"&System!B61),\"\")","v":""},{"$f":"IF($SS65,IF(gIsItPlan,System!F61,System!I61),\"\")","v":""},{"$f":"IF($SS65,IF(gIsItPlan,System!G61,System!J61),\"\")","v":""},{"$f":"System!C61","v":0},{"$f":"System!L61","v":0},0,0,0,20,null,0,0,0,0,0,0,0,0,0,0,0,0,0,0,0,0,0,0,0,0,0,0,0,0,0,0,0,0,0,0,0,{"$f":"IF(AQ$1>$I65,0,\n  IF(AQ$1<$G65,0,\n  IF(AND(AQ$1>$G65,AQ$1<$H65),14+$J65,\n  IF(AND(AQ$1>$H65,AQ$1<$I65),4+$J65,\n  IF(AND(AQ$1=$G65,AQ$1<>$H65,AQ$1<>$I65),11+$J65,\n  IF(AND(AQ$1<>$G65,AQ$1=$H65,AQ$1<>$I65),12+$J65,\n  IF(AND(AQ$1<>$G65,AQ$1<>$H65,AQ$1=$I65),2+$J65,\n  IF(AND(AQ$1=$G65,AQ$1=$H65,AQ$1<>$I65,$F65<>0),13+$J65,\n  IF(AND(AQ$1=$G65,AQ$1=$H65,AQ$1<>$I65,$F65=0),1+$J65,\n  IF(AND(AQ$1<>$G65,AQ$1=$H65,AQ$1=$I65),12+$J65,\n  IF(AND(AQ$1=$G65,AQ$1=$H65,AQ$1=$I65,$F65<=0.5),3+$J65,13+$J65)))))))))))","v":0},0,0,0,0,0,0,0,0,0,0,0,0,0,0,0,0,0,0,0,0,0,0,0,0,0,0,0,0,0,0,0,{"$f":"IF(BW$1>$I65,0,\n  IF(BW$1<$G65,0,\n  IF(AND(BW$1>$G65,BW$1<$H65),14+$J65,\n  IF(AND(BW$1>$H65,BW$1<$I65),4+$J65,\n  IF(AND(BW$1=$G65,BW$1<>$H65,BW$1<>$I65),11+$J65,\n  IF(AND(BW$1<>$G65,BW$1=$H65,BW$1<>$I65),12+$J65,\n  IF(AND(BW$1<>$G65,BW$1<>$H65,BW$1=$I65),2+$J65,\n  IF(AND(BW$1=$G65,BW$1=$H65,BW$1<>$I65,$F65<>0),13+$J65,\n  IF(AND(BW$1=$G65,BW$1=$H65,BW$1<>$I65,$F65=0),1+$J65,\n  IF(AND(BW$1<>$G65,BW$1=$H65,BW$1=$I65),12+$J65,\n  IF(AND(BW$1=$G65,BW$1=$H65,BW$1=$I65,$F65<=0.5),3+$J65,13+$J65)))))))))))","v":0},0,0,0,0,0,0,0,0,0,0,0,0,0,0,0,0,0,0,0,0,0,0,0,0,0,0,0,0,0,0,0,0,0,0,0,0,0,0,0,0,0,0,0,0,0,0,0,0,0,0,0,0,0,0,0,0,0,0,0,0,0,0,0,0,0,0,0,0,0,0,0,0,0,0,0,0,0,0,0,0,0,0,0,0,0,0,0,0,0,0,0,0,0,0,0,0,0,0,0,0,0,0,0,0,0,0,0,0,0,0,0,0,0,0,0,0,0,0,0,0,0,0,0,0,0,0,0,{"$f":"IF(GU$1>$I65,0,\n  IF(GU$1<$G65,0,\n  IF(AND(GU$1>$G65,GU$1<$H65),14+$J65,\n  IF(AND(GU$1>$H65,GU$1<$I65),4+$J65,\n  IF(AND(GU$1=$G65,GU$1<>$H65,GU$1<>$I65),11+$J65,\n  IF(AND(GU$1<>$G65,GU$1=$H65,GU$1<>$I65),12+$J65,\n  IF(AND(GU$1<>$G65,GU$1<>$H65,GU$1=$I65),2+$J65,\n  IF(AND(GU$1=$G65,GU$1=$H65,GU$1<>$I65,$F65<>0),13+$J65,\n  IF(AND(GU$1=$G65,GU$1=$H65,GU$1<>$I65,$F65=0),1+$J65,\n  IF(AND(GU$1<>$G65,GU$1=$H65,GU$1=$I65),12+$J65,\n  IF(AND(GU$1=$G65,GU$1=$H65,GU$1=$I65,$F65<=0.5),3+$J65,13+$J65)))))))))))","v":0},0,0,0,0,0,0,0,0,0,0,0,0,0,0,0,0,0,0,0,0,0,0,0,0,0,0,0,0,0,0,0,0,0,0,0,0,0,0,0,0,0,0,0,0,0,0,0,0,0,0,0,0,0,0,0,0,0,0,0,0,0,0,0,0,0,0,0,0,0,0,{"$f":"IF(JN$1>$I65,0,\n  IF(JN$1<$G65,0,\n  IF(AND(JN$1>$G65,JN$1<$H65),14+$J65,\n  IF(AND(JN$1>$H65,JN$1<$I65),4+$J65,\n  IF(AND(JN$1=$G65,JN$1<>$H65,JN$1<>$I65),11+$J65,\n  IF(AND(JN$1<>$G65,JN$1=$H65,JN$1<>$I65),12+$J65,\n  IF(AND(JN$1<>$G65,JN$1<>$H65,JN$1=$I65),2+$J65,\n  IF(AND(JN$1=$G65,JN$1=$H65,JN$1<>$I65,$F65<>0),13+$J65,\n  IF(AND(JN$1=$G65,JN$1=$H65,JN$1<>$I65,$F65=0),1+$J65,\n  IF(AND(JN$1<>$G65,JN$1=$H65,JN$1=$I65),12+$J65,\n  IF(AND(JN$1=$G65,JN$1=$H65,JN$1=$I65,$F65<=0.5),3+$J65,13+$J65)))))))))))","v":0},0,0,0,0,0,0,0,0,0,0,0,0,0,0,0,0,0,0,0,0,0,0,0,0,0,0,0,0,0,0,0,0,0,0,0,0,0,0,0,0,0,0,0,0,0,0,0,0,0,0,0,0,0,0,0,0,0,0,0,0,0,0,0,{"$f":"IF(LZ$1>$I65,0,\n  IF(LZ$1<$G65,0,\n  IF(AND(LZ$1>$G65,LZ$1<$H65),14+$J65,\n  IF(AND(LZ$1>$H65,LZ$1<$I65),4+$J65,\n  IF(AND(LZ$1=$G65,LZ$1<>$H65,LZ$1<>$I65),11+$J65,\n  IF(AND(LZ$1<>$G65,LZ$1=$H65,LZ$1<>$I65),12+$J65,\n  IF(AND(LZ$1<>$G65,LZ$1<>$H65,LZ$1=$I65),2+$J65,\n  IF(AND(LZ$1=$G65,LZ$1=$H65,LZ$1<>$I65,$F65<>0),13+$J65,\n  IF(AND(LZ$1=$G65,LZ$1=$H65,LZ$1<>$I65,$F65=0),1+$J65,\n  IF(AND(LZ$1<>$G65,LZ$1=$H65,LZ$1=$I65),12+$J65,\n  IF(AND(LZ$1=$G65,LZ$1=$H65,LZ$1=$I65,$F65<=0.5),3+$J65,13+$J65)))))))))))","v":0},0,0,0,0,0,0,0,0,0,0,0,0,0,0,0,0,0,0,0,0,0,0,0,0,0,0,0,0,0,0,0,0,0,0,0,0,0,0,0,0,0,0,0,0,0,0,0,0,0,0,0,0,0,0,0,0,0,0,0,0,0,0,0,{"$f":"IF(OL$1>$I65,0,\n  IF(OL$1<$G65,0,\n  IF(AND(OL$1>$G65,OL$1<$H65),14+$J65,\n  IF(AND(OL$1>$H65,OL$1<$I65),4+$J65,\n  IF(AND(OL$1=$G65,OL$1<>$H65,OL$1<>$I65),11+$J65,\n  IF(AND(OL$1<>$G65,OL$1=$H65,OL$1<>$I65),12+$J65,\n  IF(AND(OL$1<>$G65,OL$1<>$H65,OL$1=$I65),2+$J65,\n  IF(AND(OL$1=$G65,OL$1=$H65,OL$1<>$I65,$F65<>0),13+$J65,\n  IF(AND(OL$1=$G65,OL$1=$H65,OL$1<>$I65,$F65=0),1+$J65,\n  IF(AND(OL$1<>$G65,OL$1=$H65,OL$1=$I65),12+$J65,\n  IF(AND(OL$1=$G65,OL$1=$H65,OL$1=$I65,$F65<=0.5),3+$J65,13+$J65)))))))))))","v":0},0,0,0,0,0,0,0,0,0,0,0,0,0,0,0,0,0,0,0,0,0,0,0,0,0,0,0,0,0,0,0,0,0,0,0,0,0,0,0,0,0,0,0,0,0,0,0,0,0,0,0,0,0,0,0,0,0,0,0,0,0,0,0,0,0,0,0,0,0,0,0,0,0,0,0,0,0,0,0,0,0,0,0,0,0,0,0,0,0,0,0,0,0,0,0,0,0,0,0,0,0,0,0,0,0,0,0,0,0,null,{"$f":"IF(gIsItPlan,IF(AND(System!Z61,System!AA61),1,0),IF(AND(System!Z61,System!AB61),1,0))","v":0}]
[null,{"$f":"IF($SS66,IF(E66=1,System!B62,\"   \"&System!B62),\"\")","v":""},{"$f":"IF($SS66,IF(gIsItPlan,System!F62,System!I62),\"\")","v":""},{"$f":"IF($SS66,IF(gIsItPlan,System!G62,System!J62),\"\")","v":""},{"$f":"System!C62","v":0},{"$f":"System!L62","v":0},0,0,0,20,null,0,0,0,0,0,0,0,0,0,0,0,0,0,0,0,0,0,0,0,0,0,0,0,0,0,0,0,0,0,0,0,0,0,0,0,0,0,0,0,0,0,0,0,0,0,0,0,0,0,0,0,0,0,0,0,0,0,0,0,0,0,0,0,0,0,0,0,0,0,0,0,0,0,0,0,0,0,0,0,0,0,0,0,0,0,0,0,0,0,0,0,0,0,0,0,0,0,0,0,0,0,0,0,0,0,0,0,0,0,0,0,0,0,0,0,0,0,0,0,0,0,0,0,0,0,0,0,0,0,0,0,0,0,0,0,0,0,0,0,0,0,0,0,0,0,0,0,0,0,0,0,0,0,0,0,0,0,0,0,0,0,0,0,0,0,0,0,0,0,0,0,0,0,0,0,0,0,0,0,0,0,0,0,0,0,0,0,0,0,0,0,0,0,0,0,0,0,0,0,0,0,0,0,0,0,0,0,0,0,0,0,0,0,0,0,0,0,0,0,0,0,0,0,0,0,0,0,0,0,0,0,0,0,0,0,0,0,0,0,0,0,0,0,0,0,0,0,0,0,0,0,0,0,0,0,0,0,0,0,0,0,0,0,0,0,0,0,0,0,0,0,0,0,0,0,0,0,0,0,{"$f":"IF(KE$1>$I66,0,\n  IF(KE$1<$G66,0,\n  IF(AND(KE$1>$G66,KE$1<$H66),14+$J66,\n  IF(AND(KE$1>$H66,KE$1<$I66),4+$J66,\n  IF(AND(KE$1=$G66,KE$1<>$H66,KE$1<>$I66),11+$J66,\n  IF(AND(KE$1<>$G66,KE$1=$H66,KE$1<>$I66),12+$J66,\n  IF(AND(KE$1<>$G66,KE$1<>$H66,KE$1=$I66),2+$J66,\n  IF(AND(KE$1=$G66,KE$1=$H66,KE$1<>$I66,$F66<>0),13+$J66,\n  IF(AND(KE$1=$G66,KE$1=$H66,KE$1<>$I66,$F66=0),1+$J66,\n  IF(AND(KE$1<>$G66,KE$1=$H66,KE$1=$I66),12+$J66,\n  IF(AND(KE$1=$G66,KE$1=$H66,KE$1=$I66,$F66<=0.5),3+$J66,13+$J66)))))))))))","v":0},0,0,0,0,0,0,0,0,0,0,0,0,0,0,0,0,0,0,0,0,0,0,0,0,0,0,0,0,0,0,0,0,0,0,0,0,0,0,0,0,0,0,0,0,0,0,0,0,0,0,0,0,0,0,0,0,0,0,0,0,0,0,0,{"$f":"IF(MQ$1>$I66,0,\n  IF(MQ$1<$G66,0,\n  IF(AND(MQ$1>$G66,MQ$1<$H66),14+$J66,\n  IF(AND(MQ$1>$H66,MQ$1<$I66),4+$J66,\n  IF(AND(MQ$1=$G66,MQ$1<>$H66,MQ$1<>$I66),11+$J66,\n  IF(AND(MQ$1<>$G66,MQ$1=$H66,MQ$1<>$I66),12+$J66,\n  IF(AND(MQ$1<>$G66,MQ$1<>$H66,MQ$1=$I66),2+$J66,\n  IF(AND(MQ$1=$G66,MQ$1=$H66,MQ$1<>$I66,$F66<>0),13+$J66,\n  IF(AND(MQ$1=$G66,MQ$1=$H66,MQ$1<>$I66,$F66=0),1+$J66,\n  IF(AND(MQ$1<>$G66,MQ$1=$H66,MQ$1=$I66),12+$J66,\n  IF(AND(MQ$1=$G66,MQ$1=$H66,MQ$1=$I66,$F66<=0.5),3+$J66,13+$J66)))))))))))","v":0},0,0,0,0,0,0,0,0,0,0,0,0,0,0,0,0,0,0,0,0,0,0,0,0,0,0,0,0,0,0,0,0,0,0,0,0,0,0,0,0,0,0,0,0,0,0,0,0,0,0,0,0,0,0,0,0,0,0,0,0,0,0,0,{"$f":"IF(PC$1>$I66,0,\n  IF(PC$1<$G66,0,\n  IF(AND(PC$1>$G66,PC$1<$H66),14+$J66,\n  IF(AND(PC$1>$H66,PC$1<$I66),4+$J66,\n  IF(AND(PC$1=$G66,PC$1<>$H66,PC$1<>$I66),11+$J66,\n  IF(AND(PC$1<>$G66,PC$1=$H66,PC$1<>$I66),12+$J66,\n  IF(AND(PC$1<>$G66,PC$1<>$H66,PC$1=$I66),2+$J66,\n  IF(AND(PC$1=$G66,PC$1=$H66,PC$1<>$I66,$F66<>0),13+$J66,\n  IF(AND(PC$1=$G66,PC$1=$H66,PC$1<>$I66,$F66=0),1+$J66,\n  IF(AND(PC$1<>$G66,PC$1=$H66,PC$1=$I66),12+$J66,\n  IF(AND(PC$1=$G66,PC$1=$H66,PC$1=$I66,$F66<=0.5),3+$J66,13+$J66)))))))))))","v":0},0,0,0,0,0,0,0,0,0,0,0,0,0,0,0,0,0,0,0,0,0,0,0,0,0,0,0,0,0,0,0,0,0,0,0,0,0,0,0,0,0,0,0,0,0,0,0,0,0,0,0,0,0,0,0,0,0,0,0,0,0,0,0,0,0,0,0,0,0,0,0,0,0,0,0,0,0,0,0,0,0,0,0,0,0,0,0,0,0,0,0,0,null,{"$f":"IF(gIsItPlan,IF(AND(System!Z62,System!AA62),1,0),IF(AND(System!Z62,System!AB62),1,0))","v":0}]
[null,{"$f":"IF($SS67,IF(E67=1,System!B63,\"   \"&System!B63),\"\")","v":""},{"$f":"IF($SS67,IF(gIsItPlan,System!F63,System!I63),\"\")","v":""},{"$f":"IF($SS67,IF(gIsItPlan,System!G63,System!J63),\"\")","v":""},{"$f":"System!C63","v":0},{"$f":"System!L63","v":0},0,0,0,20,null,0,0,0,0,0,0,0,0,0,0,0,0,0,0,0,0,0,0,0,0,0,0,0,0,0,0,0,0,0,0,0,0,0,0,0,0,0,0,0,0,0,0,0,0,0,0,0,0,0,0,0,0,0,0,0,0,0,0,0,0,0,0,0,0,0,0,0,0,0,0,0,0,0,0,0,0,0,0,0,0,0,0,0,0,0,0,0,0,0,0,{"$f":"IF(CX$1>$I67,0,\n  IF(CX$1<$G67,0,\n  IF(AND(CX$1>$G67,CX$1<$H67),14+$J67,\n  IF(AND(CX$1>$H67,CX$1<$I67),4+$J67,\n  IF(AND(CX$1=$G67,CX$1<>$H67,CX$1<>$I67),11+$J67,\n  IF(AND(CX$1<>$G67,CX$1=$H67,CX$1<>$I67),12+$J67,\n  IF(AND(CX$1<>$G67,CX$1<>$H67,CX$1=$I67),2+$J67,\n  IF(AND(CX$1=$G67,CX$1=$H67,CX$1<>$I67,$F67<>0),13+$J67,\n  IF(AND(CX$1=$G67,CX$1=$H67,CX$1<>$I67,$F67=0),1+$J67,\n  IF(AND(CX$1<>$G67,CX$1=$H67,CX$1=$I67),12+$J67,\n  IF(AND(CX$1=$G67,CX$1=$H67,CX$1=$I67,$F67<=0.5),3+$J67,13+$J67)))))))))))","v":0},0,0,0,0,0,0,0,0,0,0,0,0,0,0,0,0,0,0,0,0,0,0,0,0,0,0,0,0,0,0,0,0,0,0,0,0,0,0,0,0,0,0,0,0,0,0,0,0,0,0,0,0,0,0,0,0,0,0,0,0,0,0,0,0,0,0,0,0,0,0,0,0,0,0,0,0,0,0,0,0,0,0,0,0,0,0,0,0,0,0,0,0,0,0,0,0,0,0,0,0,0,0,0,0,0,0,0,0,0,0,0,0,0,0,0,0,0,0,0,0,0,0,0,0,0,0,0,0,{"$f":"IF(HW$1>$I67,0,\n  IF(HW$1<$G67,0,\n  IF(AND(HW$1>$G67,HW$1<$H67),14+$J67,\n  IF(AND(HW$1>$H67,HW$1<$I67),4+$J67,\n  IF(AND(HW$1=$G67,HW$1<>$H67,HW$1<>$I67),11+$J67,\n  IF(AND(HW$1<>$G67,HW$1=$H67,HW$1<>$I67),12+$J67,\n  IF(AND(HW$1<>$G67,HW$1<>$H67,HW$1=$I67),2+$J67,\n  IF(AND(HW$1=$G67,HW$1=$H67,HW$1<>$I67,$F67<>0),13+$J67,\n  IF(AND(HW$1=$G67,HW$1=$H67,HW$1<>$I67,$F67=0),1+$J67,\n  IF(AND(HW$1<>$G67,HW$1=$H67,HW$1=$I67),12+$J67,\n  IF(AND(HW$1=$G67,HW$1=$H67,HW$1=$I67,$F67<=0.5),3+$J67,13+$J67)))))))))))","v":0},0,0,0,0,0,0,0,0,0,0,0,0,0,0,0,0,0,0,0,0,0,0,0,0,0,0,0,0,0,0,0,0,0,0,0,0,0,0,0,0,0,0,0,0,0,0,0,0,0,0,0,0,0,0,0,0,0,0,{"$f":"IF(KD$1>$I67,0,\n  IF(KD$1<$G67,0,\n  IF(AND(KD$1>$G67,KD$1<$H67),14+$J67,\n  IF(AND(KD$1>$H67,KD$1<$I67),4+$J67,\n  IF(AND(KD$1=$G67,KD$1<>$H67,KD$1<>$I67),11+$J67,\n  IF(AND(KD$1<>$G67,KD$1=$H67,KD$1<>$I67),12+$J67,\n  IF(AND(KD$1<>$G67,KD$1<>$H67,KD$1=$I67),2+$J67,\n  IF(AND(KD$1=$G67,KD$1=$H67,KD$1<>$I67,$F67<>0),13+$J67,\n  IF(AND(KD$1=$G67,KD$1=$H67,KD$1<>$I67,$F67=0),1+$J67,\n  IF(AND(KD$1<>$G67,KD$1=$H67,KD$1=$I67),12+$J67,\n  IF(AND(KD$1=$G67,KD$1=$H67,KD$1=$I67,$F67<=0.5),3+$J67,13+$J67)))))))))))","v":0},0,0,0,0,0,0,0,0,0,0,0,0,0,0,0,0,0,0,0,0,0,0,0,0,0,0,0,0,0,0,0,0,0,0,0,0,0,0,0,0,0,0,0,0,0,0,0,0,0,0,0,0,0,0,0,0,0,0,0,0,0,0,0,{"$f":"IF(MP$1>$I67,0,\n  IF(MP$1<$G67,0,\n  IF(AND(MP$1>$G67,MP$1<$H67),14+$J67,\n  IF(AND(MP$1>$H67,MP$1<$I67),4+$J67,\n  IF(AND(MP$1=$G67,MP$1<>$H67,MP$1<>$I67),11+$J67,\n  IF(AND(MP$1<>$G67,MP$1=$H67,MP$1<>$I67),12+$J67,\n  IF(AND(MP$1<>$G67,MP$1<>$H67,MP$1=$I67),2+$J67,\n  IF(AND(MP$1=$G67,MP$1=$H67,MP$1<>$I67,$F67<>0),13+$J67,\n  IF(AND(MP$1=$G67,MP$1=$H67,MP$1<>$I67,$F67=0),1+$J67,\n  IF(AND(MP$1<>$G67,MP$1=$H67,MP$1=$I67),12+$J67,\n  IF(AND(MP$1=$G67,MP$1=$H67,MP$1=$I67,$F67<=0.5),3+$J67,13+$J67)))))))))))","v":0},0,0,0,0,0,0,0,0,0,0,0,0,0,0,0,0,0,0,0,0,0,0,0,0,0,0,0,0,0,0,0,0,0,0,0,0,0,0,0,0,0,0,0,0,0,0,0,0,0,0,0,0,0,0,0,0,0,0,0,0,0,0,0,{"$f":"IF(PB$1>$I67,0,\n  IF(PB$1<$G67,0,\n  IF(AND(PB$1>$G67,PB$1<$H67),14+$J67,\n  IF(AND(PB$1>$H67,PB$1<$I67),4+$J67,\n  IF(AND(PB$1=$G67,PB$1<>$H67,PB$1<>$I67),11+$J67,\n  IF(AND(PB$1<>$G67,PB$1=$H67,PB$1<>$I67),12+$J67,\n  IF(AND(PB$1<>$G67,PB$1<>$H67,PB$1=$I67),2+$J67,\n  IF(AND(PB$1=$G67,PB$1=$H67,PB$1<>$I67,$F67<>0),13+$J67,\n  IF(AND(PB$1=$G67,PB$1=$H67,PB$1<>$I67,$F67=0),1+$J67,\n  IF(AND(PB$1<>$G67,PB$1=$H67,PB$1=$I67),12+$J67,\n  IF(AND(PB$1=$G67,PB$1=$H67,PB$1=$I67,$F67<=0.5),3+$J67,13+$J67)))))))))))","v":0},0,0,0,0,0,0,0,0,0,0,0,0,0,0,0,0,0,0,0,0,0,0,0,0,0,0,0,0,0,0,0,0,0,0,0,0,0,0,0,0,0,0,0,0,0,0,0,0,0,0,0,0,0,0,0,0,0,0,0,0,0,0,0,0,0,0,0,0,0,0,0,0,0,0,0,0,0,0,0,0,0,0,0,0,0,0,0,0,0,0,0,0,0,null,{"$f":"IF(gIsItPlan,IF(AND(System!Z63,System!AA63),1,0),IF(AND(System!Z63,System!AB63),1,0))","v":0}]
[null,{"$f":"IF($SS68,IF(E68=1,System!B64,\"   \"&System!B64),\"\")","v":""},{"$f":"IF($SS68,IF(gIsItPlan,System!F64,System!I64),\"\")","v":""},{"$f":"IF($SS68,IF(gIsItPlan,System!G64,System!J64),\"\")","v":""},{"$f":"System!C64","v":0},{"$f":"System!L64","v":0},0,0,0,20,null,0,0,0,0,0,0,0,0,0,0,0,0,0,0,0,0,0,0,0,0,0,0,0,0,0,0,0,0,0,0,0,0,0,0,0,0,0,0,0,0,0,0,0,0,0,0,0,0,0,0,0,0,0,0,0,0,0,0,0,0,0,0,0,0,0,0,0,0,0,0,0,0,0,0,0,0,0,0,0,0,0,0,0,0,0,{"$f":"IF(CS$1>$I68,0,\n  IF(CS$1<$G68,0,\n  IF(AND(CS$1>$G68,CS$1<$H68),14+$J68,\n  IF(AND(CS$1>$H68,CS$1<$I68),4+$J68,\n  IF(AND(CS$1=$G68,CS$1<>$H68,CS$1<>$I68),11+$J68,\n  IF(AND(CS$1<>$G68,CS$1=$H68,CS$1<>$I68),12+$J68,\n  IF(AND(CS$1<>$G68,CS$1<>$H68,CS$1=$I68),2+$J68,\n  IF(AND(CS$1=$G68,CS$1=$H68,CS$1<>$I68,$F68<>0),13+$J68,\n  IF(AND(CS$1=$G68,CS$1=$H68,CS$1<>$I68,$F68=0),1+$J68,\n  IF(AND(CS$1<>$G68,CS$1=$H68,CS$1=$I68),12+$J68,\n  IF(AND(CS$1=$G68,CS$1=$H68,CS$1=$I68,$F68<=0.5),3+$J68,13+$J68)))))))))))","v":0},0,0,0,0,0,0,0,0,0,0,0,0,0,0,0,0,0,0,0,0,0,0,0,0,0,0,0,0,0,0,0,0,0,0,0,0,0,0,0,0,0,0,0,0,0,0,0,0,0,0,0,0,0,0,0,0,0,0,0,0,0,0,0,0,0,0,0,0,0,0,0,0,0,0,0,0,0,0,0,0,0,0,0,0,0,0,0,0,0,0,0,0,0,0,0,0,0,0,0,0,0,0,0,0,0,0,0,0,0,0,0,0,0,0,0,0,0,0,0,0,0,0,0,0,0,0,0,0,0,0,0,0,{"$f":"IF(HV$1>$I68,0,\n  IF(HV$1<$G68,0,\n  IF(AND(HV$1>$G68,HV$1<$H68),14+$J68,\n  IF(AND(HV$1>$H68,HV$1<$I68),4+$J68,\n  IF(AND(HV$1=$G68,HV$1<>$H68,HV$1<>$I68),11+$J68,\n  IF(AND(HV$1<>$G68,HV$1=$H68,HV$1<>$I68),12+$J68,\n  IF(AND(HV$1<>$G68,HV$1<>$H68,HV$1=$I68),2+$J68,\n  IF(AND(HV$1=$G68,HV$1=$H68,HV$1<>$I68,$F68<>0),13+$J68,\n  IF(AND(HV$1=$G68,HV$1=$H68,HV$1<>$I68,$F68=0),1+$J68,\n  IF(AND(HV$1<>$G68,HV$1=$H68,HV$1=$I68),12+$J68,\n  IF(AND(HV$1=$G68,HV$1=$H68,HV$1=$I68,$F68<=0.5),3+$J68,13+$J68)))))))))))","v":0},0,0,0,0,0,0,0,0,0,0,0,0,0,0,0,0,0,0,0,0,0,0,0,0,0,0,0,0,0,0,0,0,0,0,0,0,0,0,0,0,0,0,0,0,0,0,0,0,0,0,0,0,0,0,0,0,0,0,0,0,0,0,0,0,0,0,0,0,0,0,0,0,0,0,0,0,0,0,0,0,0,0,0,0,0,0,0,0,0,0,0,0,0,0,0,0,0,0,0,0,0,0,0,0,0,0,0,0,0,0,0,0,0,0,0,0,0,0,0,0,0,0,0,0,0,0,0,0,0,0,0,0,0,0,0,0,0,0,0,0,0,0,0,0,0,0,0,0,0,0,0,0,0,0,0,0,0,0,0,0,0,0,0,0,0,0,0,0,0,0,0,0,0,0,0,0,0,0,0,0,0,0,0,0,0,0,0,0,0,0,0,0,0,0,0,0,0,0,0,0,0,0,0,0,0,0,0,0,0,0,0,0,0,0,0,0,0,0,0,0,0,0,0,0,0,0,0,0,0,0,0,0,0,0,0,0,0,0,0,0,0,0,0,0,0,0,0,0,0,0,0,0,0,0,0,0,0,0,0,0,0,0,0,0,0,0,0,0,0,0,0,0,0,0,0,0,0,0,0,0,0,null,{"$f":"IF(gIsItPlan,IF(AND(System!Z64,System!AA64),1,0),IF(AND(System!Z64,System!AB64),1,0))","v":0}]
[null,{"$f":"IF($SS69,IF(E69=1,System!B65,\"   \"&System!B65),\"\")","v":""},{"$f":"IF($SS69,IF(gIsItPlan,System!F65,System!I65),\"\")","v":""},{"$f":"IF($SS69,IF(gIsItPlan,System!G65,System!J65),\"\")","v":""},{"$f":"System!C65","v":0},{"$f":"System!L65","v":0},0,0,0,20,null,0,0,0,0,0,0,0,0,0,0,0,0,0,0,0,0,0,0,0,0,0,0,0,0,0,0,0,0,0,0,0,0,0,0,0,0,0,0,0,0,0,0,0,0,0,0,0,0,0,0,0,0,0,0,0,0,0,0,0,0,0,0,0,0,0,0,0,0,0,0,0,0,0,0,0,0,0,0,0,0,0,0,0,0,0,0,0,0,0,0,0,0,0,0,0,0,0,0,0,0,0,0,0,0,0,0,0,0,0,0,0,0,0,0,0,0,0,0,0,0,0,0,0,0,0,0,0,0,0,0,0,0,0,0,0,0,0,0,0,0,0,0,0,0,0,0,0,0,0,0,0,0,0,{"$f":"IF(FI$1>$I69,0,\n  IF(FI$1<$G69,0,\n  IF(AND(FI$1>$G69,FI$1<$H69),14+$J69,\n  IF(AND(FI$1>$H69,FI$1<$I69),4+$J69,\n  IF(AND(FI$1=$G69,FI$1<>$H69,FI$1<>$I69),11+$J69,\n  IF(AND(FI$1<>$G69,FI$1=$H69,FI$1<>$I69),12+$J69,\n  IF(AND(FI$1<>$G69,FI$1<>$H69,FI$1=$I69),2+$J69,\n  IF(AND(FI$1=$G69,FI$1=$H69,FI$1<>$I69,$F69<>0),13+$J69,\n  IF(AND(FI$1=$G69,FI$1=$H69,FI$1<>$I69,$F69=0),1+$J69,\n  IF(AND(FI$1<>$G69,FI$1=$H69,FI$1=$I69),12+$J69,\n  IF(AND(FI$1=$G69,FI$1=$H69,FI$1=$I69,$F69<=0.5),3+$J69,13+$J69)))))))))))","v":0},0,0,0,0,0,0,0,0,0,0,0,0,0,0,0,0,0,0,0,0,0,0,0,0,0,0,0,0,0,0,0,0,0,0,0,0,0,0,0,0,0,0,0,0,0,0,0,0,0,0,0,0,0,0,0,0,0,0,0,0,0,0,0,0,0,0,0,0,0,0,0,0,0,0,0,0,0,0,0,0,0,0,0,0,0,0,0,0,0,0,0,0,0,0,0,0,0,0,0,0,0,0,0,0,0,0,0,0,0,0,0,0,0,0,0,0,0,0,0,0,0,0,0,0,0,0,0,0,0,0,0,0,0,0,0,0,0,0,0,0,0,0,0,0,0,0,0,0,0,0,0,0,0,0,0,0,0,0,0,0,0,0,0,0,0,0,0,0,0,0,0,0,0,0,0,0,0,0,0,0,0,0,0,0,0,0,0,0,0,0,0,0,0,0,0,0,0,0,0,0,0,0,0,0,0,0,0,0,0,0,0,0,0,0,0,0,0,0,0,0,0,0,0,0,0,0,0,0,0,0,0,0,0,0,0,0,0,0,0,0,0,0,0,0,0,0,0,0,0,0,0,0,0,0,0,0,0,0,0,0,0,0,0,0,0,0,0,0,0,0,0,0,0,0,0,0,0,0,0,0,0,0,0,0,0,0,0,0,0,0,0,0,0,0,0,0,0,0,0,0,0,0,0,0,0,0,0,0,0,0,0,0,0,0,0,0,0,0,0,0,0,0,0,0,0,0,0,0,0,0,0,0,0,0,0,0,0,0,0,0,0,0,0,0,0,0,null,{"$f":"IF(gIsItPlan,IF(AND(System!Z65,System!AA65),1,0),IF(AND(System!Z65,System!AB65),1,0))","v":0}]
[null,{"$f":"IF($SS70,IF(E70=1,System!B66,\"   \"&System!B66),\"\")","v":""},{"$f":"IF($SS70,IF(gIsItPlan,System!F66,System!I66),\"\")","v":""},{"$f":"IF($SS70,IF(gIsItPlan,System!G66,System!J66),\"\")","v":""},{"$f":"System!C66","v":0},{"$f":"System!L66","v":0},{"$f":"IF($SS70,gFstCol+MATCH($C70,gGantStartDates,1)-1-IF(gDpC<1,gCpD-1,0),0)","v":0},{"$f":"IF($SS70,$G70+ROUND(($I70-$G70)*$F70-gDelta,0),0)","v":0},{"$f":"IF($SS70,gFstCol+MATCH($D70,gGantStartDates,1)-1,0)","v":0},20,null,0,0,0,0,0,0,0,0,0,0,0,0,0,0,0,0,0,0,0,0,0,0,0,0,0,0,0,0,0,0,0,0,0,0,0,0,0,0,0,0,0,0,0,0,0,0,0,0,0,0,0,0,0,0,0,0,0,0,0,0,0,0,0,0,0,0,0,0,0,0,0,0,0,0,0,0,0,0,0,0,0,0,0,0,0,0,0,0,0,0,0,0,0,0,0,0,0,0,0,0,0,0,0,0,0,0,0,0,0,0,0,0,0,0,0,0,0,0,0,0,0,0,0,0,0,0,0,0,0,0,0,0,0,0,0,0,0,0,0,0,0,0,0,0,0,0,0,0,{"$f":"IF(FD$1>$I70,0,\n  IF(FD$1<$G70,0,\n  IF(AND(FD$1>$G70,FD$1<$H70),14+$J70,\n  IF(AND(FD$1>$H70,FD$1<$I70),4+$J70,\n  IF(AND(FD$1=$G70,FD$1<>$H70,FD$1<>$I70),11+$J70,\n  IF(AND(FD$1<>$G70,FD$1=$H70,FD$1<>$I70),12+$J70,\n  IF(AND(FD$1<>$G70,FD$1<>$H70,FD$1=$I70),2+$J70,\n  IF(AND(FD$1=$G70,FD$1=$H70,FD$1<>$I70,$F70<>0),13+$J70,\n  IF(AND(FD$1=$G70,FD$1=$H70,FD$1<>$I70,$F70=0),1+$J70,\n  IF(AND(FD$1<>$G70,FD$1=$H70,FD$1=$I70),12+$J70,\n  IF(AND(FD$1=$G70,FD$1=$H70,FD$1=$I70,$F70<=0.5),3+$J70,13+$J70)))))))))))","v":0},0,0,0,0,0,0,0,0,0,0,0,0,0,0,0,0,0,0,0,0,0,0,0,0,0,0,0,0,0,0,0,0,0,0,0,0,0,0,0,0,0,0,0,0,0,0,0,0,0,0,0,0,0,0,0,0,0,0,0,0,0,0,0,0,0,0,0,0,0,0,0,0,0,0,0,0,0,0,0,0,0,0,0,0,0,0,0,0,0,0,0,0,0,0,0,0,0,0,0,0,0,0,0,0,0,0,0,0,0,0,0,0,0,0,0,0,0,0,0,0,0,0,0,0,0,0,0,0,0,0,0,0,0,0,0,0,0,0,0,0,0,0,0,0,0,0,0,0,0,0,0,0,0,0,0,0,0,0,0,0,0,0,0,0,0,0,0,0,0,0,0,0,0,0,0,0,0,0,0,0,0,0,0,0,0,0,0,0,0,0,0,0,0,0,0,0,0,0,0,0,0,0,0,0,0,0,0,0,0,0,0,0,0,0,0,0,0,0,0,0,0,0,0,0,0,0,0,0,0,0,0,0,0,0,0,0,0,0,0,0,0,0,0,0,0,0,0,0,0,0,0,0,0,0,0,0,0,0,0,0,0,0,0,0,0,0,0,0,0,0,0,0,0,0,0,0,0,0,0,0,0,0,0,0,0,0,0,0,0,0,0,0,0,0,0,0,0,0,0,0,0,0,0,0,0,0,0,0,0,0,0,0,0,0,0,0,0,0,0,0,0,0,0,0,0,0,0,0,0,0,0,0,0,0,0,0,0,0,0,0,0,0,0,0,0,0,0,0,0,0,0,null,{"$f":"IF(gIsItPlan,IF(AND(System!Z66,System!AA66),1,0),IF(AND(System!Z66,System!AB66),1,0))","v":0}]
[null,{"$f":"IF($SS71,IF(E71=1,System!B67,\"   \"&System!B67),\"\")","v":""},{"$f":"IF($SS71,IF(gIsItPlan,System!F67,System!I67),\"\")","v":""},{"$f":"IF($SS71,IF(gIsItPlan,System!G67,System!J67),\"\")","v":""},{"$f":"System!C67","v":0},{"$f":"System!L67","v":0},0,0,0,{"$f":"IF($E71=1,0,20)","v":20},null,0,0,0,0,0,0,0,0,0,0,0,0,0,0,0,0,0,0,0,0,0,0,0,0,0,0,0,0,0,0,0,0,0,0,0,0,0,0,0,0,0,0,0,0,0,0,0,0,0,0,0,0,0,0,0,0,0,0,0,0,0,0,0,0,0,0,0,0,0,0,0,0,0,0,0,0,0,0,0,0,0,0,0,0,0,0,0,0,0,0,0,0,0,0,0,0,0,0,0,0,0,0,0,0,0,0,0,0,0,0,0,0,0,0,0,0,0,0,0,0,0,0,0,0,0,0,0,0,0,0,0,0,0,0,0,0,0,0,0,0,0,0,0,0,0,0,0,0,0,0,0,0,0,0,0,0,0,0,0,0,0,0,0,0,0,0,0,0,0,0,0,0,0,0,0,0,0,0,0,0,0,0,0,0,0,0,0,0,0,0,0,0,0,0,0,0,0,0,0,0,0,0,0,0,0,0,0,0,0,0,0,0,0,0,0,0,0,0,0,0,0,0,0,0,0,0,0,0,0,0,0,0,0,0,0,0,0,0,0,0,0,0,0,0,0,0,0,0,0,0,0,0,0,0,0,0,0,0,0,0,0,0,0,0,0,0,0,0,0,0,0,0,0,0,0,0,0,0,0,0,0,0,0,0,0,0,0,0,0,0,0,0,0,0,0,0,0,0,0,0,0,0,0,0,0,0,0,0,0,0,0,0,0,0,0,0,0,0,0,0,0,0,0,0,0,0,0,0,0,0,0,0,0,0,0,0,0,0,0,0,0,0,0,0,0,0,0,0,0,0,0,0,0,0,0,0,0,0,0,0,0,0,0,0,0,0,0,0,0,0,0,0,0,0,0,0,0,0,0,0,0,0,0,0,0,0,0,0,0,0,0,0,0,0,0,0,0,0,0,0,0,0,0,0,0,0,0,0,0,0,0,0,0,0,0,0,0,0,0,0,0,0,0,0,0,0,0,0,0,0,0,0,0,0,0,0,0,0,0,0,0,0,0,0,0,0,0,0,0,0,0,0,0,0,0,0,0,0,0,0,0,0,0,0,0,0,0,0,0,0,0,0,0,0,0,0,0,0,0,0,0,0,0,0,0,0,0,0,0,0,0,0,0,0,0,0,0,0,0,0,null,{"$f":"IF(gIsItPlan,IF(AND(System!Z67,System!AA67),1,0),IF(AND(System!Z67,System!AB67),1,0))","v":0}]
[null,{"$f":"IF($SS72,IF(E72=1,System!B68,\"   \"&System!B68),\"\")","v":""},{"$f":"IF($SS72,IF(gIsItPlan,System!F68,System!I68),\"\")","v":""},{"$f":"IF($SS72,IF(gIsItPlan,System!G68,System!J68),\"\")","v":""},{"$f":"System!C68","v":0},{"$f":"System!L68","v":0},0,0,0,20,null,0,0,0,0,0,0,0,0,0,0,0,0,0,0,0,0,0,0,0,0,0,0,0,0,0,0,0,0,0,0,0,0,0,0,0,0,0,0,0,0,0,0,0,0,0,0,0,0,0,0,0,0,0,0,0,0,0,0,0,0,0,0,0,0,0,0,0,0,0,0,0,0,0,0,0,0,0,0,0,0,0,0,0,0,0,0,0,0,0,0,0,0,0,0,0,0,0,0,0,0,0,0,0,0,0,0,0,0,0,0,0,0,0,0,0,0,0,0,0,0,0,0,0,0,0,0,0,0,0,0,0,0,0,0,0,0,0,0,0,0,0,0,0,0,0,0,0,0,0,0,0,0,0,0,0,0,0,0,0,0,0,0,0,0,0,0,0,0,0,0,0,0,0,0,0,0,0,0,0,0,0,0,0,0,0,0,0,0,0,0,0,0,0,0,0,0,0,0,0,0,0,0,0,0,0,0,0,0,0,0,0,0,0,0,0,0,0,0,0,0,0,0,0,0,0,0,0,0,0,0,0,0,0,0,0,0,0,0,0,0,0,0,0,0,0,0,0,0,0,0,0,0,0,0,0,0,0,0,0,0,0,0,0,0,0,0,0,0,0,0,0,0,0,0,0,0,0,0,0,0,0,0,0,0,0,0,0,0,0,0,0,0,0,0,0,0,0,0,0,0,0,0,0,0,0,0,0,0,0,0,0,0,0,0,0,0,0,0,0,0,0,0,0,0,0,0,0,0,0,0,0,0,0,0,0,0,0,0,0,0,0,0,0,0,0,0,0,0,0,0,0,0,0,0,0,0,0,0,0,0,0,0,0,0,0,0,0,0,0,0,0,0,0,0,0,0,0,0,0,0,0,0,0,0,0,0,0,0,0,0,0,0,0,0,0,0,0,0,0,0,0,0,0,0,0,0,0,0,0,0,0,0,0,0,0,0,0,0,0,0,0,0,0,0,0,0,0,0,0,0,0,0,0,0,0,0,0,0,0,0,0,0,0,0,0,0,0,0,0,0,0,0,0,0,0,0,0,0,0,0,0,0,0,0,0,0,0,0,0,0,0,0,0,0,0,0,0,0,0,0,0,0,0,0,0,0,0,0,0,0,0,0,0,0,0,0,0,0,0,0,null,{"$f":"IF(gIsItPlan,IF(AND(System!Z68,System!AA68),1,0),IF(AND(System!Z68,System!AB68),1,0))","v":0}]
[null,{"$f":"IF($SS73,IF(E73=1,System!B69,\"   \"&System!B69),\"\")","v":""},{"$f":"IF($SS73,IF(gIsItPlan,System!F69,System!I69),\"\")","v":""},{"$f":"IF($SS73,IF(gIsItPlan,System!G69,System!J69),\"\")","v":""},{"$f":"System!C69","v":0},{"$f":"System!L69","v":0},0,0,0,20,null,0,0,0,0,0,0,0,0,0,0,0,0,0,0,0,0,0,0,0,0,0,0,0,0,0,0,0,0,0,0,0,0,0,0,0,0,0,0,0,0,0,0,0,0,0,0,0,0,0,0,0,0,0,0,0,0,0,0,0,0,0,0,0,0,0,0,0,0,0,0,0,0,0,0,0,0,0,0,0,0,0,0,0,0,0,0,0,0,0,0,0,0,0,0,0,0,0,0,0,0,0,0,0,0,0,0,0,0,0,0,0,0,0,0,0,0,0,0,0,0,0,0,0,0,0,0,0,0,0,0,0,0,0,0,0,0,0,0,0,0,0,0,0,0,0,0,0,0,0,0,0,0,0,0,0,0,0,0,0,0,0,0,0,0,0,0,0,0,0,0,0,0,0,0,0,0,0,0,0,0,0,0,0,0,0,0,0,0,0,0,0,0,0,0,0,0,0,0,0,0,0,0,0,0,0,0,0,0,0,0,0,0,0,0,0,0,0,0,0,0,0,0,0,0,0,0,0,0,0,0,0,0,0,0,0,0,0,0,0,0,0,0,0,0,0,0,0,0,0,0,0,0,0,0,0,0,0,0,0,0,0,0,0,0,0,0,0,0,0,0,0,0,0,0,0,0,0,0,0,0,0,0,0,0,0,0,0,0,0,0,0,0,0,0,0,0,0,0,0,0,0,0,0,0,0,0,0,0,0,0,0,0,0,0,0,0,0,0,0,0,0,0,0,0,0,0,0,0,0,0,0,0,0,0,0,0,0,0,0,0,0,0,0,0,0,0,0,0,0,0,0,0,0,0,0,0,0,0,0,0,0,0,0,0,0,0,0,0,0,0,0,0,0,0,0,0,0,0,0,0,0,0,0,0,0,0,0,0,0,0,0,0,0,0,0,0,0,0,0,0,0,0,0,0,0,0,0,0,0,0,0,0,0,0,0,0,0,0,0,0,0,0,0,0,0,0,0,0,0,0,0,0,0,0,0,0,0,0,0,0,0,0,0,0,0,0,0,0,0,0,0,0,0,0,0,0,0,0,0,0,0,0,0,0,0,0,0,0,0,0,0,0,0,0,0,0,0,0,0,0,0,0,0,0,0,0,0,0,0,0,0,0,0,0,0,0,0,0,0,0,null,{"$f":"IF(gIsItPlan,IF(AND(System!Z69,System!AA69),1,0),IF(AND(System!Z69,System!AB69),1,0))","v":0}]
[null,{"$f":"IF($SS74,IF(E74=1,System!B70,\"   \"&System!B70),\"\")","v":""},{"$f":"IF($SS74,IF(gIsItPlan,System!F70,System!I70),\"\")","v":""},{"$f":"IF($SS74,IF(gIsItPlan,System!G70,System!J70),\"\")","v":""},{"$f":"System!C70","v":0},{"$f":"System!L70","v":0},0,0,0,20,null,0,0,0,0,0,0,0,0,0,0,0,0,0,0,0,0,0,0,0,0,0,0,0,0,0,0,0,0,0,0,0,0,0,0,0,0,0,0,0,0,0,0,0,0,0,0,0,0,0,0,0,0,0,0,0,0,0,0,0,0,0,0,0,0,0,0,0,0,0,0,0,0,0,0,0,0,0,0,0,0,0,0,0,0,0,0,0,0,0,0,0,0,0,0,0,0,0,0,0,0,0,0,0,0,0,0,0,0,0,0,0,0,0,0,0,0,0,0,0,0,0,0,0,0,0,0,0,0,0,0,0,0,0,0,0,0,0,0,0,0,0,0,0,0,0,0,0,0,0,0,0,0,0,0,0,0,0,0,0,0,0,0,0,0,0,0,0,0,0,0,0,0,0,0,0,0,0,0,0,0,0,0,0,0,0,0,0,0,0,0,0,0,0,0,0,0,0,0,0,0,0,0,0,0,0,0,0,0,0,0,0,0,0,0,0,0,0,0,0,0,0,0,0,0,0,0,0,0,0,0,0,0,0,0,0,0,0,0,0,0,0,0,0,0,0,0,0,0,0,0,0,0,0,0,0,0,0,0,0,0,0,0,0,0,0,0,0,0,0,0,0,0,0,0,0,0,0,0,0,0,0,0,0,0,0,0,0,0,0,0,0,0,0,0,0,0,0,0,0,0,0,0,0,0,0,0,0,0,0,0,0,0,0,0,0,0,0,0,0,0,0,0,0,0,0,0,0,0,0,0,0,0,0,0,0,0,0,0,0,0,0,0,0,0,0,0,0,0,0,0,0,0,0,0,0,0,0,0,0,0,0,0,0,0,0,0,0,0,0,0,0,0,0,0,0,0,0,0,0,0,0,0,0,0,0,0,0,0,0,0,0,0,0,0,0,0,0,0,0,0,0,0,0,0,0,0,0,0,0,0,0,0,0,0,0,0,0,0,0,0,0,0,0,0,0,0,0,0,0,0,0,0,0,0,0,0,0,0,0,0,0,0,0,0,0,0,0,0,0,0,0,0,0,0,0,0,0,0,0,0,0,0,0,0,0,0,0,0,0,0,0,0,0,0,0,0,0,0,0,0,0,0,0,0,0,0,0,0,0,0,0,0,0,0,0,0,0,0,0,0,null,{"$f":"IF(gIsItPlan,IF(AND(System!Z70,System!AA70),1,0),IF(AND(System!Z70,System!AB70),1,0))","v":0}]
[null,{"$f":"IF($SS75,IF(E75=1,System!B71,\"   \"&System!B71),\"\")","v":""},{"$f":"IF($SS75,IF(gIsItPlan,System!F71,System!I71),\"\")","v":""},{"$f":"IF($SS75,IF(gIsItPlan,System!G71,System!J71),\"\")","v":""},{"$f":"System!C71","v":0},{"$f":"System!L71","v":0},0,0,0,20,null,0,0,0,0,0,0,0,0,0,0,0,0,0,0,0,0,0,0,0,0,0,0,0,0,0,0,0,0,0,0,0,0,0,0,0,0,0,0,0,0,0,0,0,0,0,0,0,0,0,0,0,0,0,0,0,0,0,0,0,0,0,0,0,0,0,0,0,0,0,0,0,0,0,0,0,0,0,0,0,0,0,0,0,0,0,0,0,0,0,0,0,0,0,0,0,0,0,0,0,0,0,0,0,0,0,0,0,0,0,0,0,0,0,0,0,0,0,0,0,0,0,0,0,0,0,0,0,0,0,0,0,0,0,0,0,0,0,0,0,0,0,0,0,0,0,0,0,0,0,0,0,0,0,0,0,0,0,0,0,0,0,0,0,0,0,0,0,0,0,0,0,0,0,0,0,0,0,0,0,0,0,0,0,0,0,0,0,0,0,0,0,0,0,0,0,0,0,0,0,0,0,0,0,0,0,0,0,0,0,0,0,0,0,0,0,0,0,0,0,0,0,0,0,0,0,0,0,0,0,0,0,0,0,0,0,0,0,0,0,0,0,0,0,0,0,0,0,0,0,0,0,0,0,0,0,0,0,0,0,0,0,0,0,0,0,0,0,0,0,0,0,0,0,0,0,0,0,0,0,0,0,0,0,0,0,0,0,0,0,0,0,0,0,0,0,0,0,0,0,0,0,0,0,0,0,0,0,0,0,0,0,0,0,0,0,0,0,0,0,0,0,0,0,0,0,0,0,0,0,0,0,0,0,0,0,0,0,0,0,0,0,0,0,0,0,0,0,0,0,0,0,0,0,0,0,0,0,0,0,0,0,0,0,0,0,0,0,0,0,0,0,0,0,0,0,0,0,0,0,0,0,0,0,0,0,0,0,0,0,0,0,0,0,0,0,0,0,0,0,0,0,0,0,0,0,0,0,0,0,0,0,0,0,0,0,0,0,0,0,0,0,0,0,0,0,0,0,0,0,0,0,0,0,0,0,0,0,0,0,0,0,0,0,0,0,0,0,0,0,0,0,0,0,0,0,0,0,0,0,0,0,0,0,0,0,0,0,0,0,0,0,0,0,0,0,0,{"$f":"IF(RT$1>$I75,0,\n  IF(RT$1<$G75,0,\n  IF(AND(RT$1>$G75,RT$1<$H75),14+$J75,\n  IF(AND(RT$1>$H75,RT$1<$I75),4+$J75,\n  IF(AND(RT$1=$G75,RT$1<>$H75,RT$1<>$I75),11+$J75,\n  IF(AND(RT$1<>$G75,RT$1=$H75,RT$1<>$I75),12+$J75,\n  IF(AND(RT$1<>$G75,RT$1<>$H75,RT$1=$I75),2+$J75,\n  IF(AND(RT$1=$G75,RT$1=$H75,RT$1<>$I75,$F75<>0),13+$J75,\n  IF(AND(RT$1=$G75,RT$1=$H75,RT$1<>$I75,$F75=0),1+$J75,\n  IF(AND(RT$1<>$G75,RT$1=$H75,RT$1=$I75),12+$J75,\n  IF(AND(RT$1=$G75,RT$1=$H75,RT$1=$I75,$F75<=0.5),3+$J75,13+$J75)))))))))))","v":0},0,0,0,0,0,0,0,0,0,0,0,0,0,0,0,0,0,0,0,0,0,0,0,null,{"$f":"IF(gIsItPlan,IF(AND(System!Z71,System!AA71),1,0),IF(AND(System!Z71,System!AB71),1,0))","v":0}]
[null,{"$f":"IF($SS76,IF(E76=1,System!B72,\"   \"&System!B72),\"\")","v":""},{"$f":"IF($SS76,IF(gIsItPlan,System!F72,System!I72),\"\")","v":""},{"$f":"IF($SS76,IF(gIsItPlan,System!G72,System!J72),\"\")","v":""},{"$f":"System!C72","v":0},{"$f":"System!L72","v":0},0,0,0,20,null,0,0,0,0,0,0,0,0,0,0,0,0,0,0,0,0,0,0,0,0,0,0,0,0,0,0,0,0,0,0,0,0,0,0,0,0,0,0,0,0,0,0,0,0,0,0,0,0,0,0,0,0,0,0,0,0,0,0,0,0,0,0,0,0,0,0,0,0,0,0,0,0,0,0,0,0,0,0,0,0,0,0,0,0,0,0,0,0,0,0,0,0,0,0,0,0,0,0,0,0,0,0,0,0,0,0,0,0,0,0,0,0,0,0,0,0,0,0,0,0,0,0,0,0,0,0,0,0,0,0,0,0,0,0,0,0,0,0,0,0,0,0,0,0,0,0,0,0,0,0,0,0,0,0,0,0,0,0,0,0,0,0,0,0,0,0,0,0,0,0,0,0,0,0,0,0,0,0,0,0,0,0,0,0,0,0,0,0,0,0,0,0,0,0,0,0,0,0,0,0,0,0,0,0,0,0,0,0,0,0,0,0,0,0,0,0,0,0,0,0,0,0,0,0,0,0,0,0,0,0,0,0,0,0,0,0,0,0,0,0,0,0,0,0,0,0,0,0,0,0,0,0,0,0,0,0,0,0,0,0,0,0,0,0,0,0,0,0,0,0,0,0,0,0,0,0,0,0,0,0,0,0,0,0,0,0,0,0,0,0,0,0,0,0,0,0,0,0,0,0,0,0,0,0,0,0,0,0,0,0,0,0,0,0,0,0,0,0,0,0,0,0,0,0,0,0,0,0,0,0,0,0,0,0,0,0,0,0,0,0,0,0,0,0,0,0,0,0,0,0,0,0,0,0,0,0,0,0,0,0,0,0,0,0,0,0,0,0,0,0,0,0,0,0,0,0,0,0,0,0,0,0,0,0,0,0,0,0,0,0,0,0,0,0,0,0,0,0,0,0,0,0,0,0,0,0,0,0,0,0,0,0,0,0,0,0,0,0,0,0,0,0,0,0,0,0,0,0,0,0,0,0,0,0,0,0,0,0,0,0,0,0,0,0,0,0,0,0,0,0,0,0,0,0,0,0,0,0,0,0,0,{"$f":"IF(RE$1>$I76,0,\n  IF(RE$1<$G76,0,\n  IF(AND(RE$1>$G76,RE$1<$H76),14+$J76,\n  IF(AND(RE$1>$H76,RE$1<$I76),4+$J76,\n  IF(AND(RE$1=$G76,RE$1<>$H76,RE$1<>$I76),11+$J76,\n  IF(AND(RE$1<>$G76,RE$1=$H76,RE$1<>$I76),12+$J76,\n  IF(AND(RE$1<>$G76,RE$1<>$H76,RE$1=$I76),2+$J76,\n  IF(AND(RE$1=$G76,RE$1=$H76,RE$1<>$I76,$F76<>0),13+$J76,\n  IF(AND(RE$1=$G76,RE$1=$H76,RE$1<>$I76,$F76=0),1+$J76,\n  IF(AND(RE$1<>$G76,RE$1=$H76,RE$1=$I76),12+$J76,\n  IF(AND(RE$1=$G76,RE$1=$H76,RE$1=$I76,$F76<=0.5),3+$J76,13+$J76)))))))))))","v":0},0,0,0,0,0,0,0,0,0,0,0,0,0,0,0,0,0,0,0,0,0,0,0,0,0,0,0,0,0,0,0,0,0,0,0,0,0,0,null,{"$f":"IF(gIsItPlan,IF(AND(System!Z72,System!AA72),1,0),IF(AND(System!Z72,System!AB72),1,0))","v":0}]
[null,{"$f":"IF($SS77,IF(E77=1,System!B73,\"   \"&System!B73),\"\")","v":""},{"$f":"IF($SS77,IF(gIsItPlan,System!F73,System!I73),\"\")","v":""},{"$f":"IF($SS77,IF(gIsItPlan,System!G73,System!J73),\"\")","v":""},{"$f":"System!C73","v":0},{"$f":"System!L73","v":0},0,0,0,20,null,0,0,0,0,0,0,0,0,0,0,0,0,0,0,0,{"$f":"IF(AA$1>$I77,0,\n  IF(AA$1<$G77,0,\n  IF(AND(AA$1>$G77,AA$1<$H77),14+$J77,\n  IF(AND(AA$1>$H77,AA$1<$I77),4+$J77,\n  IF(AND(AA$1=$G77,AA$1<>$H77,AA$1<>$I77),11+$J77,\n  IF(AND(AA$1<>$G77,AA$1=$H77,AA$1<>$I77),12+$J77,\n  IF(AND(AA$1<>$G77,AA$1<>$H77,AA$1=$I77),2+$J77,\n  IF(AND(AA$1=$G77,AA$1=$H77,AA$1<>$I77,$F77<>0),13+$J77,\n  IF(AND(AA$1=$G77,AA$1=$H77,AA$1<>$I77,$F77=0),1+$J77,\n  IF(AND(AA$1<>$G77,AA$1=$H77,AA$1=$I77),12+$J77,\n  IF(AND(AA$1=$G77,AA$1=$H77,AA$1=$I77,$F77<=0.5),3+$J77,13+$J77)))))))))))","v":0},0,0,0,0,0,0,0,0,0,0,0,0,0,0,0,0,0,0,0,0,0,0,0,0,0,0,0,0,0,0,0,0,0,0,0,0,0,0,0,0,0,0,0,0,0,0,0,0,0,0,0,0,0,0,0,0,0,0,0,0,0,0,0,0,0,0,0,0,0,0,0,0,0,0,0,0,0,0,0,0,0,0,0,0,0,0,0,0,0,0,0,0,0,0,0,0,0,0,0,0,0,0,0,0,0,0,0,0,{"$f":"IF(EF$1>$I77,0,\n  IF(EF$1<$G77,0,\n  IF(AND(EF$1>$G77,EF$1<$H77),14+$J77,\n  IF(AND(EF$1>$H77,EF$1<$I77),4+$J77,\n  IF(AND(EF$1=$G77,EF$1<>$H77,EF$1<>$I77),11+$J77,\n  IF(AND(EF$1<>$G77,EF$1=$H77,EF$1<>$I77),12+$J77,\n  IF(AND(EF$1<>$G77,EF$1<>$H77,EF$1=$I77),2+$J77,\n  IF(AND(EF$1=$G77,EF$1=$H77,EF$1<>$I77,$F77<>0),13+$J77,\n  IF(AND(EF$1=$G77,EF$1=$H77,EF$1<>$I77,$F77=0),1+$J77,\n  IF(AND(EF$1<>$G77,EF$1=$H77,EF$1=$I77),12+$J77,\n  IF(AND(EF$1=$G77,EF$1=$H77,EF$1=$I77,$F77<=0.5),3+$J77,13+$J77)))))))))))","v":0},0,0,0,0,0,0,0,0,0,0,0,0,0,0,0,0,0,0,0,0,0,0,0,0,0,0,0,0,0,0,0,0,0,0,0,0,0,0,0,0,0,0,0,0,0,0,0,0,0,0,0,0,0,0,0,0,0,0,0,0,0,0,0,0,0,0,0,0,0,0,0,0,0,0,0,0,0,0,0,0,0,0,0,0,0,0,0,0,0,0,0,0,0,0,0,0,0,0,0,0,0,0,0,0,0,0,0,0,0,0,0,0,0,0,0,0,0,0,0,0,0,0,0,0,0,0,0,0,0,0,0,0,0,0,0,0,0,0,0,0,0,0,0,0,0,0,0,0,0,0,0,0,0,0,0,0,0,0,0,0,0,0,0,0,0,0,0,0,0,0,0,0,0,0,0,0,0,0,0,0,0,0,0,0,0,0,0,0,0,0,0,0,0,0,0,0,0,0,0,0,0,0,0,0,0,0,0,0,0,0,0,0,0,0,0,0,0,0,0,0,0,0,0,0,0,0,0,0,0,0,0,0,0,0,0,0,0,0,0,0,0,0,0,0,0,0,0,0,0,0,0,0,0,0,0,0,0,0,0,0,0,0,0,0,0,0,0,0,0,0,0,0,0,0,0,0,0,0,0,0,0,0,0,0,0,0,0,0,0,0,0,0,0,0,0,0,0,0,0,0,0,0,0,0,0,0,0,0,0,0,0,0,0,0,0,0,0,0,0,0,0,0,0,0,0,0,0,0,0,0,0,0,0,0,0,0,0,0,0,0,0,0,0,0,0,0,0,0,0,0,0,0,0,0,0,0,0,0,0,0,0,0,0,0,0,0,0,0,0,0,0,0,0,0,0,null,{"$f":"IF(gIsItPlan,IF(AND(System!Z73,System!AA73),1,0),IF(AND(System!Z73,System!AB73),1,0))","v":0}]
[null,{"$f":"IF($SS78,IF(E78=1,System!B74,\"   \"&System!B74),\"\")","v":""},{"$f":"IF($SS78,IF(gIsItPlan,System!F74,System!I74),\"\")","v":""},{"$f":"IF($SS78,IF(gIsItPlan,System!G74,System!J74),\"\")","v":""},{"$f":"System!C74","v":0},{"$f":"System!L74","v":0},0,0,0,20,null,{"$f":"IF(L$1>$I78,0,\n  IF(L$1<$G78,0,\n  IF(AND(L$1>$G78,L$1<$H78),14+$J78,\n  IF(AND(L$1>$H78,L$1<$I78),4+$J78,\n  IF(AND(L$1=$G78,L$1<>$H78,L$1<>$I78),11+$J78,\n  IF(AND(L$1<>$G78,L$1=$H78,L$1<>$I78),12+$J78,\n  IF(AND(L$1<>$G78,L$1<>$H78,L$1=$I78),2+$J78,\n  IF(AND(L$1=$G78,L$1=$H78,L$1<>$I78,$F78<>0),13+$J78,\n  IF(AND(L$1=$G78,L$1=$H78,L$1<>$I78,$F78=0),1+$J78,\n  IF(AND(L$1<>$G78,L$1=$H78,L$1=$I78),12+$J78,\n  IF(AND(L$1=$G78,L$1=$H78,L$1=$I78,$F78<=0.5),3+$J78,13+$J78)))))))))))","v":0},0,0,0,0,0,0,0,0,0,0,0,0,0,0,0,0,0,0,0,0,0,0,0,0,0,0,0,0,0,0,0,0,0,0,0,0,0,0,0,0,0,0,0,0,0,0,0,0,0,0,0,0,0,0,0,0,0,0,0,0,0,0,0,0,0,0,0,0,0,0,0,0,0,0,0,0,0,0,0,0,0,0,0,0,0,0,0,0,0,0,0,0,0,0,0,0,0,0,0,0,0,0,0,0,0,0,0,0,{"$f":"IF(DQ$1>$I78,0,\n  IF(DQ$1<$G78,0,\n  IF(AND(DQ$1>$G78,DQ$1<$H78),14+$J78,\n  IF(AND(DQ$1>$H78,DQ$1<$I78),4+$J78,\n  IF(AND(DQ$1=$G78,DQ$1<>$H78,DQ$1<>$I78),11+$J78,\n  IF(AND(DQ$1<>$G78,DQ$1=$H78,DQ$1<>$I78),12+$J78,\n  IF(AND(DQ$1<>$G78,DQ$1<>$H78,DQ$1=$I78),2+$J78,\n  IF(AND(DQ$1=$G78,DQ$1=$H78,DQ$1<>$I78,$F78<>0),13+$J78,\n  IF(AND(DQ$1=$G78,DQ$1=$H78,DQ$1<>$I78,$F78=0),1+$J78,\n  IF(AND(DQ$1<>$G78,DQ$1=$H78,DQ$1=$I78),12+$J78,\n  IF(AND(DQ$1=$G78,DQ$1=$H78,DQ$1=$I78,$F78<=0.5),3+$J78,13+$J78)))))))))))","v":0},0,0,0,0,0,0,0,0,0,0,0,0,0,0,0,0,0,0,0,0,0,0,0,0,0,0,0,0,0,0,0,0,0,0,0,0,0,0,0,0,0,0,0,0,0,0,0,0,0,0,0,0,0,0,0,0,0,0,0,0,0,0,0,0,0,{"$f":"IF(GE$1>$I78,0,\n  IF(GE$1<$G78,0,\n  IF(AND(GE$1>$G78,GE$1<$H78),14+$J78,\n  IF(AND(GE$1>$H78,GE$1<$I78),4+$J78,\n  IF(AND(GE$1=$G78,GE$1<>$H78,GE$1<>$I78),11+$J78,\n  IF(AND(GE$1<>$G78,GE$1=$H78,GE$1<>$I78),12+$J78,\n  IF(AND(GE$1<>$G78,GE$1<>$H78,GE$1=$I78),2+$J78,\n  IF(AND(GE$1=$G78,GE$1=$H78,GE$1<>$I78,$F78<>0),13+$J78,\n  IF(AND(GE$1=$G78,GE$1=$H78,GE$1<>$I78,$F78=0),1+$J78,\n  IF(AND(GE$1<>$G78,GE$1=$H78,GE$1=$I78),12+$J78,\n  IF(AND(GE$1=$G78,GE$1=$H78,GE$1=$I78,$F78<=0.5),3+$J78,13+$J78)))))))))))","v":0},0,0,0,0,0,0,0,0,0,0,0,0,0,0,0,0,0,0,0,0,0,0,0,0,0,0,0,0,0,0,0,0,0,0,0,0,0,0,0,0,0,0,0,0,0,0,0,0,0,0,0,0,0,0,0,0,0,0,0,0,0,0,0,0,0,0,0,0,0,0,0,0,0,0,0,0,0,0,0,0,0,0,0,0,0,0,0,0,0,0,0,0,0,0,0,0,0,0,0,0,0,0,0,0,0,0,0,0,0,0,0,0,0,0,0,0,0,0,0,0,0,0,0,0,0,0,0,0,0,0,0,0,0,0,0,0,0,0,0,0,0,0,0,0,0,0,0,0,0,0,0,0,0,0,0,0,0,0,0,0,0,0,0,0,0,0,0,0,0,0,0,0,0,0,0,0,0,0,0,0,0,0,0,0,0,0,0,0,0,0,0,0,0,0,0,0,0,0,0,0,0,0,0,0,0,0,0,0,0,0,0,0,0,0,0,0,0,0,0,0,0,0,0,0,0,0,0,0,0,0,0,0,0,0,0,0,0,0,0,0,0,0,0,0,0,0,0,0,0,0,0,0,0,0,0,0,0,0,0,0,0,0,0,0,0,0,0,0,0,0,0,0,0,0,0,0,0,0,{"$f":"IF(QX$1>$I78,0,\n  IF(QX$1<$G78,0,\n  IF(AND(QX$1>$G78,QX$1<$H78),14+$J78,\n  IF(AND(QX$1>$H78,QX$1<$I78),4+$J78,\n  IF(AND(QX$1=$G78,QX$1<>$H78,QX$1<>$I78),11+$J78,\n  IF(AND(QX$1<>$G78,QX$1=$H78,QX$1<>$I78),12+$J78,\n  IF(AND(QX$1<>$G78,QX$1<>$H78,QX$1=$I78),2+$J78,\n  IF(AND(QX$1=$G78,QX$1=$H78,QX$1<>$I78,$F78<>0),13+$J78,\n  IF(AND(QX$1=$G78,QX$1=$H78,QX$1<>$I78,$F78=0),1+$J78,\n  IF(AND(QX$1<>$G78,QX$1=$H78,QX$1=$I78),12+$J78,\n  IF(AND(QX$1=$G78,QX$1=$H78,QX$1=$I78,$F78<=0.5),3+$J78,13+$J78)))))))))))","v":0},0,0,0,0,0,0,0,0,0,0,0,0,0,0,0,0,0,0,0,0,0,0,0,0,0,0,0,0,0,0,0,0,0,0,0,0,0,0,0,0,0,0,0,0,0,null,{"$f":"IF(gIsItPlan,IF(AND(System!Z74,System!AA74),1,0),IF(AND(System!Z74,System!AB74),1,0))","v":0}]
[null,{"$f":"IF($SS79,IF(E79=1,System!B75,\"   \"&System!B75),\"\")","v":""},{"$f":"IF($SS79,IF(gIsItPlan,System!F75,System!I75),\"\")","v":""},{"$f":"IF($SS79,IF(gIsItPlan,System!G75,System!J75),\"\")","v":""},{"$f":"System!C75","v":0},{"$f":"System!L75","v":0},0,0,0,20,null,0,0,0,0,0,0,0,0,0,0,0,0,0,0,0,0,0,0,0,0,0,0,0,0,0,0,0,0,0,0,0,0,0,0,0,0,0,0,0,0,0,0,0,0,0,0,0,0,0,0,0,0,0,0,0,0,0,0,0,0,0,0,{"$f":"IF(BV$1>$I79,0,\n  IF(BV$1<$G79,0,\n  IF(AND(BV$1>$G79,BV$1<$H79),14+$J79,\n  IF(AND(BV$1>$H79,BV$1<$I79),4+$J79,\n  IF(AND(BV$1=$G79,BV$1<>$H79,BV$1<>$I79),11+$J79,\n  IF(AND(BV$1<>$G79,BV$1=$H79,BV$1<>$I79),12+$J79,\n  IF(AND(BV$1<>$G79,BV$1<>$H79,BV$1=$I79),2+$J79,\n  IF(AND(BV$1=$G79,BV$1=$H79,BV$1<>$I79,$F79<>0),13+$J79,\n  IF(AND(BV$1=$G79,BV$1=$H79,BV$1<>$I79,$F79=0),1+$J79,\n  IF(AND(BV$1<>$G79,BV$1=$H79,BV$1=$I79),12+$J79,\n  IF(AND(BV$1=$G79,BV$1=$H79,BV$1=$I79,$F79<=0.5),3+$J79,13+$J79)))))))))))","v":0},0,0,0,0,0,0,0,0,0,0,0,0,0,0,0,0,0,0,0,0,0,0,0,0,0,0,0,0,0,0,0,0,0,0,0,0,0,0,0,0,0,0,0,0,0,{"$f":"IF(DP$1>$I79,0,\n  IF(DP$1<$G79,0,\n  IF(AND(DP$1>$G79,DP$1<$H79),14+$J79,\n  IF(AND(DP$1>$H79,DP$1<$I79),4+$J79,\n  IF(AND(DP$1=$G79,DP$1<>$H79,DP$1<>$I79),11+$J79,\n  IF(AND(DP$1<>$G79,DP$1=$H79,DP$1<>$I79),12+$J79,\n  IF(AND(DP$1<>$G79,DP$1<>$H79,DP$1=$I79),2+$J79,\n  IF(AND(DP$1=$G79,DP$1=$H79,DP$1<>$I79,$F79<>0),13+$J79,\n  IF(AND(DP$1=$G79,DP$1=$H79,DP$1<>$I79,$F79=0),1+$J79,\n  IF(AND(DP$1<>$G79,DP$1=$H79,DP$1=$I79),12+$J79,\n  IF(AND(DP$1=$G79,DP$1=$H79,DP$1=$I79,$F79<=0.5),3+$J79,13+$J79)))))))))))","v":0},0,0,0,0,0,0,0,0,0,0,0,0,0,0,0,0,0,0,0,0,0,0,0,0,0,0,0,0,0,0,0,0,0,0,0,0,0,0,0,0,0,0,0,0,0,0,0,0,0,0,0,0,0,0,0,0,0,0,0,0,0,0,0,0,0,{"$f":"IF(GD$1>$I79,0,\n  IF(GD$1<$G79,0,\n  IF(AND(GD$1>$G79,GD$1<$H79),14+$J79,\n  IF(AND(GD$1>$H79,GD$1<$I79),4+$J79,\n  IF(AND(GD$1=$G79,GD$1<>$H79,GD$1<>$I79),11+$J79,\n  IF(AND(GD$1<>$G79,GD$1=$H79,GD$1<>$I79),12+$J79,\n  IF(AND(GD$1<>$G79,GD$1<>$H79,GD$1=$I79),2+$J79,\n  IF(AND(GD$1=$G79,GD$1=$H79,GD$1<>$I79,$F79<>0),13+$J79,\n  IF(AND(GD$1=$G79,GD$1=$H79,GD$1<>$I79,$F79=0),1+$J79,\n  IF(AND(GD$1<>$G79,GD$1=$H79,GD$1=$I79),12+$J79,\n  IF(AND(GD$1=$G79,GD$1=$H79,GD$1=$I79,$F79<=0.5),3+$J79,13+$J79)))))))))))","v":0},0,0,0,0,0,0,0,0,0,0,0,0,0,0,0,0,0,0,0,0,0,0,0,0,0,0,0,0,0,0,0,0,0,0,0,0,0,0,0,0,0,0,0,0,0,0,0,0,0,0,0,0,0,0,0,0,0,0,0,0,0,0,0,0,0,0,0,0,0,0,0,0,0,0,0,{"$f":"IF(JB$1>$I79,0,\n  IF(JB$1<$G79,0,\n  IF(AND(JB$1>$G79,JB$1<$H79),14+$J79,\n  IF(AND(JB$1>$H79,JB$1<$I79),4+$J79,\n  IF(AND(JB$1=$G79,JB$1<>$H79,JB$1<>$I79),11+$J79,\n  IF(AND(JB$1<>$G79,JB$1=$H79,JB$1<>$I79),12+$J79,\n  IF(AND(JB$1<>$G79,JB$1<>$H79,JB$1=$I79),2+$J79,\n  IF(AND(JB$1=$G79,JB$1=$H79,JB$1<>$I79,$F79<>0),13+$J79,\n  IF(AND(JB$1=$G79,JB$1=$H79,JB$1<>$I79,$F79=0),1+$J79,\n  IF(AND(JB$1<>$G79,JB$1=$H79,JB$1=$I79),12+$J79,\n  IF(AND(JB$1=$G79,JB$1=$H79,JB$1=$I79,$F79<=0.5),3+$J79,13+$J79)))))))))))","v":0},0,0,0,0,0,0,0,0,0,0,0,0,0,0,0,0,0,0,0,0,0,0,0,0,0,0,0,0,0,0,0,0,0,0,0,0,0,0,0,0,0,0,0,0,0,0,0,0,0,0,0,0,0,0,0,0,0,0,0,0,0,0,0,{"$f":"IF(LN$1>$I79,0,\n  IF(LN$1<$G79,0,\n  IF(AND(LN$1>$G79,LN$1<$H79),14+$J79,\n  IF(AND(LN$1>$H79,LN$1<$I79),4+$J79,\n  IF(AND(LN$1=$G79,LN$1<>$H79,LN$1<>$I79),11+$J79,\n  IF(AND(LN$1<>$G79,LN$1=$H79,LN$1<>$I79),12+$J79,\n  IF(AND(LN$1<>$G79,LN$1<>$H79,LN$1=$I79),2+$J79,\n  IF(AND(LN$1=$G79,LN$1=$H79,LN$1<>$I79,$F79<>0),13+$J79,\n  IF(AND(LN$1=$G79,LN$1=$H79,LN$1<>$I79,$F79=0),1+$J79,\n  IF(AND(LN$1<>$G79,LN$1=$H79,LN$1=$I79),12+$J79,\n  IF(AND(LN$1=$G79,LN$1=$H79,LN$1=$I79,$F79<=0.5),3+$J79,13+$J79)))))))))))","v":0},0,0,0,0,0,0,0,0,0,0,0,0,0,0,0,0,0,0,0,0,0,0,0,0,0,0,0,0,0,0,0,0,0,0,0,0,0,0,0,0,0,0,0,0,0,0,0,0,0,0,0,0,0,0,0,0,0,0,0,0,0,0,0,{"$f":"IF(NZ$1>$I79,0,\n  IF(NZ$1<$G79,0,\n  IF(AND(NZ$1>$G79,NZ$1<$H79),14+$J79,\n  IF(AND(NZ$1>$H79,NZ$1<$I79),4+$J79,\n  IF(AND(NZ$1=$G79,NZ$1<>$H79,NZ$1<>$I79),11+$J79,\n  IF(AND(NZ$1<>$G79,NZ$1=$H79,NZ$1<>$I79),12+$J79,\n  IF(AND(NZ$1<>$G79,NZ$1<>$H79,NZ$1=$I79),2+$J79,\n  IF(AND(NZ$1=$G79,NZ$1=$H79,NZ$1<>$I79,$F79<>0),13+$J79,\n  IF(AND(NZ$1=$G79,NZ$1=$H79,NZ$1<>$I79,$F79=0),1+$J79,\n  IF(AND(NZ$1<>$G79,NZ$1=$H79,NZ$1=$I79),12+$J79,\n  IF(AND(NZ$1=$G79,NZ$1=$H79,NZ$1=$I79,$F79<=0.5),3+$J79,13+$J79)))))))))))","v":0},0,0,0,0,0,0,0,0,0,0,0,0,0,0,0,0,0,0,0,0,0,0,0,0,0,0,0,0,0,0,0,0,0,0,0,0,0,0,0,0,0,0,0,0,0,0,0,0,0,0,0,0,0,0,0,0,0,0,0,0,0,0,0,{"$f":"IF(QL$1>$I79,0,\n  IF(QL$1<$G79,0,\n  IF(AND(QL$1>$G79,QL$1<$H79),14+$J79,\n  IF(AND(QL$1>$H79,QL$1<$I79),4+$J79,\n  IF(AND(QL$1=$G79,QL$1<>$H79,QL$1<>$I79),11+$J79,\n  IF(AND(QL$1<>$G79,QL$1=$H79,QL$1<>$I79),12+$J79,\n  IF(AND(QL$1<>$G79,QL$1<>$H79,QL$1=$I79),2+$J79,\n  IF(AND(QL$1=$G79,QL$1=$H79,QL$1<>$I79,$F79<>0),13+$J79,\n  IF(AND(QL$1=$G79,QL$1=$H79,QL$1<>$I79,$F79=0),1+$J79,\n  IF(AND(QL$1<>$G79,QL$1=$H79,QL$1=$I79),12+$J79,\n  IF(AND(QL$1=$G79,QL$1=$H79,QL$1=$I79,$F79<=0.5),3+$J79,13+$J79)))))))))))","v":0},0,0,0,0,0,0,0,0,0,0,0,0,0,0,0,0,0,0,0,0,0,0,0,0,0,0,0,0,0,0,0,0,0,0,0,0,0,0,0,0,0,0,0,0,0,0,0,0,0,0,0,0,0,0,0,0,0,null,{"$f":"IF(gIsItPlan,IF(AND(System!Z75,System!AA75),1,0),IF(AND(System!Z75,System!AB75),1,0))","v":0}]
[null,{"$f":"IF($SS80,IF(E80=1,System!B76,\"   \"&System!B76),\"\")","v":""},{"$f":"IF($SS80,IF(gIsItPlan,System!F76,System!I76),\"\")","v":""},{"$f":"IF($SS80,IF(gIsItPlan,System!G76,System!J76),\"\")","v":""},{"$f":"System!C76","v":0},{"$f":"System!L76","v":0},0,0,0,20,null,0,0,0,0,0,0,0,0,0,0,0,0,0,0,0,0,0,0,0,0,0,0,0,0,0,0,0,0,0,0,0,0,0,0,0,0,0,0,0,0,0,0,0,0,0,0,{"$f":"IF(BF$1>$I80,0,\n  IF(BF$1<$G80,0,\n  IF(AND(BF$1>$G80,BF$1<$H80),14+$J80,\n  IF(AND(BF$1>$H80,BF$1<$I80),4+$J80,\n  IF(AND(BF$1=$G80,BF$1<>$H80,BF$1<>$I80),11+$J80,\n  IF(AND(BF$1<>$G80,BF$1=$H80,BF$1<>$I80),12+$J80,\n  IF(AND(BF$1<>$G80,BF$1<>$H80,BF$1=$I80),2+$J80,\n  IF(AND(BF$1=$G80,BF$1=$H80,BF$1<>$I80,$F80<>0),13+$J80,\n  IF(AND(BF$1=$G80,BF$1=$H80,BF$1<>$I80,$F80=0),1+$J80,\n  IF(AND(BF$1<>$G80,BF$1=$H80,BF$1=$I80),12+$J80,\n  IF(AND(BF$1=$G80,BF$1=$H80,BF$1=$I80,$F80<=0.5),3+$J80,13+$J80)))))))))))","v":0},0,0,0,0,0,0,0,0,0,0,0,0,0,0,0,0,0,0,0,0,0,0,0,0,0,0,0,0,0,0,0,0,0,0,0,0,0,0,0,0,0,0,0,0,0,0,0,0,0,0,0,0,0,0,0,0,0,0,0,{"$f":"IF(DN$1>$I80,0,\n  IF(DN$1<$G80,0,\n  IF(AND(DN$1>$G80,DN$1<$H80),14+$J80,\n  IF(AND(DN$1>$H80,DN$1<$I80),4+$J80,\n  IF(AND(DN$1=$G80,DN$1<>$H80,DN$1<>$I80),11+$J80,\n  IF(AND(DN$1<>$G80,DN$1=$H80,DN$1<>$I80),12+$J80,\n  IF(AND(DN$1<>$G80,DN$1<>$H80,DN$1=$I80),2+$J80,\n  IF(AND(DN$1=$G80,DN$1=$H80,DN$1<>$I80,$F80<>0),13+$J80,\n  IF(AND(DN$1=$G80,DN$1=$H80,DN$1<>$I80,$F80=0),1+$J80,\n  IF(AND(DN$1<>$G80,DN$1=$H80,DN$1=$I80),12+$J80,\n  IF(AND(DN$1=$G80,DN$1=$H80,DN$1=$I80,$F80<=0.5),3+$J80,13+$J80)))))))))))","v":0},0,0,0,0,0,0,0,0,0,0,0,0,0,0,0,0,0,0,0,0,0,0,0,0,0,0,0,0,0,0,0,0,0,0,0,0,0,0,0,0,0,0,0,0,0,0,0,0,0,0,0,0,0,0,0,0,0,0,0,0,0,0,0,0,0,0,0,0,0,0,0,0,0,0,0,0,0,0,0,0,0,0,0,0,0,0,0,0,0,0,0,0,0,0,0,0,0,0,0,{"$f":"IF(HJ$1>$I80,0,\n  IF(HJ$1<$G80,0,\n  IF(AND(HJ$1>$G80,HJ$1<$H80),14+$J80,\n  IF(AND(HJ$1>$H80,HJ$1<$I80),4+$J80,\n  IF(AND(HJ$1=$G80,HJ$1<>$H80,HJ$1<>$I80),11+$J80,\n  IF(AND(HJ$1<>$G80,HJ$1=$H80,HJ$1<>$I80),12+$J80,\n  IF(AND(HJ$1<>$G80,HJ$1<>$H80,HJ$1=$I80),2+$J80,\n  IF(AND(HJ$1=$G80,HJ$1=$H80,HJ$1<>$I80,$F80<>0),13+$J80,\n  IF(AND(HJ$1=$G80,HJ$1=$H80,HJ$1<>$I80,$F80=0),1+$J80,\n  IF(AND(HJ$1<>$G80,HJ$1=$H80,HJ$1=$I80),12+$J80,\n  IF(AND(HJ$1=$G80,HJ$1=$H80,HJ$1=$I80,$F80<=0.5),3+$J80,13+$J80)))))))))))","v":0},0,0,0,0,0,0,0,0,0,0,0,0,0,0,0,0,0,0,0,0,0,0,0,0,0,0,0,0,{"$f":"IF(IM$1>$I80,0,\n  IF(IM$1<$G80,0,\n  IF(AND(IM$1>$G80,IM$1<$H80),14+$J80,\n  IF(AND(IM$1>$H80,IM$1<$I80),4+$J80,\n  IF(AND(IM$1=$G80,IM$1<>$H80,IM$1<>$I80),11+$J80,\n  IF(AND(IM$1<>$G80,IM$1=$H80,IM$1<>$I80),12+$J80,\n  IF(AND(IM$1<>$G80,IM$1<>$H80,IM$1=$I80),2+$J80,\n  IF(AND(IM$1=$G80,IM$1=$H80,IM$1<>$I80,$F80<>0),13+$J80,\n  IF(AND(IM$1=$G80,IM$1=$H80,IM$1<>$I80,$F80=0),1+$J80,\n  IF(AND(IM$1<>$G80,IM$1=$H80,IM$1=$I80),12+$J80,\n  IF(AND(IM$1=$G80,IM$1=$H80,IM$1=$I80,$F80<=0.5),3+$J80,13+$J80)))))))))))","v":0},0,0,0,0,0,0,0,0,0,0,0,0,0,0,0,0,0,0,0,0,0,0,0,0,0,0,0,0,0,0,0,0,0,0,0,0,0,0,0,0,0,0,0,0,0,0,0,0,0,0,0,0,0,0,0,0,0,0,0,0,0,0,0,{"$f":"IF(KY$1>$I80,0,\n  IF(KY$1<$G80,0,\n  IF(AND(KY$1>$G80,KY$1<$H80),14+$J80,\n  IF(AND(KY$1>$H80,KY$1<$I80),4+$J80,\n  IF(AND(KY$1=$G80,KY$1<>$H80,KY$1<>$I80),11+$J80,\n  IF(AND(KY$1<>$G80,KY$1=$H80,KY$1<>$I80),12+$J80,\n  IF(AND(KY$1<>$G80,KY$1<>$H80,KY$1=$I80),2+$J80,\n  IF(AND(KY$1=$G80,KY$1=$H80,KY$1<>$I80,$F80<>0),13+$J80,\n  IF(AND(KY$1=$G80,KY$1=$H80,KY$1<>$I80,$F80=0),1+$J80,\n  IF(AND(KY$1<>$G80,KY$1=$H80,KY$1=$I80),12+$J80,\n  IF(AND(KY$1=$G80,KY$1=$H80,KY$1=$I80,$F80<=0.5),3+$J80,13+$J80)))))))))))","v":0},0,0,0,0,0,0,0,0,0,0,0,0,0,0,0,0,0,0,0,0,0,0,0,0,0,0,0,0,0,0,0,0,0,0,0,0,0,0,0,0,0,0,0,0,0,0,0,0,0,0,0,0,0,0,0,0,0,0,0,0,0,0,0,{"$f":"IF(NK$1>$I80,0,\n  IF(NK$1<$G80,0,\n  IF(AND(NK$1>$G80,NK$1<$H80),14+$J80,\n  IF(AND(NK$1>$H80,NK$1<$I80),4+$J80,\n  IF(AND(NK$1=$G80,NK$1<>$H80,NK$1<>$I80),11+$J80,\n  IF(AND(NK$1<>$G80,NK$1=$H80,NK$1<>$I80),12+$J80,\n  IF(AND(NK$1<>$G80,NK$1<>$H80,NK$1=$I80),2+$J80,\n  IF(AND(NK$1=$G80,NK$1=$H80,NK$1<>$I80,$F80<>0),13+$J80,\n  IF(AND(NK$1=$G80,NK$1=$H80,NK$1<>$I80,$F80=0),1+$J80,\n  IF(AND(NK$1<>$G80,NK$1=$H80,NK$1=$I80),12+$J80,\n  IF(AND(NK$1=$G80,NK$1=$H80,NK$1=$I80,$F80<=0.5),3+$J80,13+$J80)))))))))))","v":0},0,0,0,0,0,0,0,0,0,0,0,0,0,0,0,0,0,0,0,0,0,0,0,0,0,0,0,0,0,0,0,0,0,0,0,0,0,0,0,0,0,0,0,0,0,0,0,0,0,0,0,0,0,0,0,0,0,0,0,0,0,0,0,{"$f":"IF(PW$1>$I80,0,\n  IF(PW$1<$G80,0,\n  IF(AND(PW$1>$G80,PW$1<$H80),14+$J80,\n  IF(AND(PW$1>$H80,PW$1<$I80),4+$J80,\n  IF(AND(PW$1=$G80,PW$1<>$H80,PW$1<>$I80),11+$J80,\n  IF(AND(PW$1<>$G80,PW$1=$H80,PW$1<>$I80),12+$J80,\n  IF(AND(PW$1<>$G80,PW$1<>$H80,PW$1=$I80),2+$J80,\n  IF(AND(PW$1=$G80,PW$1=$H80,PW$1<>$I80,$F80<>0),13+$J80,\n  IF(AND(PW$1=$G80,PW$1=$H80,PW$1<>$I80,$F80=0),1+$J80,\n  IF(AND(PW$1<>$G80,PW$1=$H80,PW$1=$I80),12+$J80,\n  IF(AND(PW$1=$G80,PW$1=$H80,PW$1=$I80,$F80<=0.5),3+$J80,13+$J80)))))))))))","v":0},0,0,0,0,0,0,0,0,0,0,0,0,0,0,0,0,0,0,0,0,0,0,0,0,0,0,0,0,0,0,0,0,0,0,0,0,0,0,0,0,0,0,0,0,0,0,0,0,0,0,0,0,0,0,0,0,0,0,0,0,0,0,0,0,0,0,0,0,0,0,0,0,null,{"$f":"IF(gIsItPlan,IF(AND(System!Z76,System!AA76),1,0),IF(AND(System!Z76,System!AB76),1,0))","v":0}]
[null,{"$f":"IF($SS81,IF(E81=1,System!B77,\"   \"&System!B77),\"\")","v":""},{"$f":"IF($SS81,IF(gIsItPlan,System!F77,System!I77),\"\")","v":""},{"$f":"IF($SS81,IF(gIsItPlan,System!G77,System!J77),\"\")","v":""},{"$f":"System!C77","v":0},{"$f":"System!L77","v":0},0,0,0,20,null,0,0,0,0,0,0,0,0,0,0,0,0,0,0,0,0,0,0,0,0,0,0,0,0,0,0,0,0,0,0,0,{"$f":"IF(AQ$1>$I81,0,\n  IF(AQ$1<$G81,0,\n  IF(AND(AQ$1>$G81,AQ$1<$H81),14+$J81,\n  IF(AND(AQ$1>$H81,AQ$1<$I81),4+$J81,\n  IF(AND(AQ$1=$G81,AQ$1<>$H81,AQ$1<>$I81),11+$J81,\n  IF(AND(AQ$1<>$G81,AQ$1=$H81,AQ$1<>$I81),12+$J81,\n  IF(AND(AQ$1<>$G81,AQ$1<>$H81,AQ$1=$I81),2+$J81,\n  IF(AND(AQ$1=$G81,AQ$1=$H81,AQ$1<>$I81,$F81<>0),13+$J81,\n  IF(AND(AQ$1=$G81,AQ$1=$H81,AQ$1<>$I81,$F81=0),1+$J81,\n  IF(AND(AQ$1<>$G81,AQ$1=$H81,AQ$1=$I81),12+$J81,\n  IF(AND(AQ$1=$G81,AQ$1=$H81,AQ$1=$I81,$F81<=0.5),3+$J81,13+$J81)))))))))))","v":0},0,0,0,0,0,0,0,0,0,0,0,0,0,0,0,0,0,0,0,0,0,0,0,0,0,0,0,0,0,0,0,0,0,0,0,0,{"$f":"IF(CB$1>$I81,0,\n  IF(CB$1<$G81,0,\n  IF(AND(CB$1>$G81,CB$1<$H81),14+$J81,\n  IF(AND(CB$1>$H81,CB$1<$I81),4+$J81,\n  IF(AND(CB$1=$G81,CB$1<>$H81,CB$1<>$I81),11+$J81,\n  IF(AND(CB$1<>$G81,CB$1=$H81,CB$1<>$I81),12+$J81,\n  IF(AND(CB$1<>$G81,CB$1<>$H81,CB$1=$I81),2+$J81,\n  IF(AND(CB$1=$G81,CB$1=$H81,CB$1<>$I81,$F81<>0),13+$J81,\n  IF(AND(CB$1=$G81,CB$1=$H81,CB$1<>$I81,$F81=0),1+$J81,\n  IF(AND(CB$1<>$G81,CB$1=$H81,CB$1=$I81),12+$J81,\n  IF(AND(CB$1=$G81,CB$1=$H81,CB$1=$I81,$F81<=0.5),3+$J81,13+$J81)))))))))))","v":0},0,0,0,0,0,0,0,0,0,0,0,0,0,0,0,0,0,0,0,0,0,0,0,0,0,0,0,0,0,0,0,0,0,0,0,0,0,0,0,0,0,0,0,0,0,0,0,0,0,0,0,0,0,0,0,0,0,0,0,0,0,0,0,0,0,0,0,0,0,0,0,0,0,0,0,0,0,0,0,0,0,0,0,0,0,0,0,0,0,0,0,0,0,0,0,0,0,0,0,0,0,0,0,0,0,0,0,0,0,0,0,0,0,0,0,0,0,0,0,0,0,0,{"$f":"IF(GU$1>$I81,0,\n  IF(GU$1<$G81,0,\n  IF(AND(GU$1>$G81,GU$1<$H81),14+$J81,\n  IF(AND(GU$1>$H81,GU$1<$I81),4+$J81,\n  IF(AND(GU$1=$G81,GU$1<>$H81,GU$1<>$I81),11+$J81,\n  IF(AND(GU$1<>$G81,GU$1=$H81,GU$1<>$I81),12+$J81,\n  IF(AND(GU$1<>$G81,GU$1<>$H81,GU$1=$I81),2+$J81,\n  IF(AND(GU$1=$G81,GU$1=$H81,GU$1<>$I81,$F81<>0),13+$J81,\n  IF(AND(GU$1=$G81,GU$1=$H81,GU$1<>$I81,$F81=0),1+$J81,\n  IF(AND(GU$1<>$G81,GU$1=$H81,GU$1=$I81),12+$J81,\n  IF(AND(GU$1=$G81,GU$1=$H81,GU$1=$I81,$F81<=0.5),3+$J81,13+$J81)))))))))))","v":0},0,0,0,0,0,0,0,0,0,0,0,0,0,0,0,0,0,0,0,0,0,0,0,0,0,0,0,0,0,0,0,0,0,0,0,0,0,0,0,0,0,0,0,0,0,0,0,0,0,0,0,0,0,0,0,0,0,0,0,0,0,0,0,0,0,0,0,0,0,0,0,0,0,0,0,0,0,0,0,0,0,0,0,0,0,0,0,0,0,0,0,0,0,0,0,0,0,0,0,0,0,0,0,0,0,0,0,0,0,0,0,0,0,0,0,0,0,0,0,0,0,0,0,0,0,0,0,0,0,0,0,0,0,0,0,0,0,0,0,0,0,0,0,0,0,0,0,0,0,0,0,0,0,0,0,0,0,0,0,0,0,0,0,0,0,0,0,0,0,0,0,0,0,0,0,0,0,0,0,0,0,0,0,0,0,0,0,0,0,0,0,0,0,0,0,0,0,0,0,0,0,0,0,0,0,0,0,0,0,0,0,0,0,0,0,0,0,0,0,0,0,0,0,0,0,0,0,0,0,0,0,0,0,0,0,0,0,0,0,0,0,0,0,0,0,0,0,0,0,0,0,0,0,0,0,0,0,0,0,0,0,0,0,0,0,0,0,0,0,0,0,0,0,0,0,0,0,0,0,0,0,0,0,0,0,0,0,0,0,0,0,0,0,0,0,0,0,0,0,0,0,0,0,0,0,0,0,0,null,{"$f":"IF(gIsItPlan,IF(AND(System!Z77,System!AA77),1,0),IF(AND(System!Z77,System!AB77),1,0))","v":0}]
[null,{"$f":"IF($SS82,IF(E82=1,System!B78,\"   \"&System!B78),\"\")","v":""},{"$f":"IF($SS82,IF(gIsItPlan,System!F78,System!I78),\"\")","v":""},{"$f":"IF($SS82,IF(gIsItPlan,System!G78,System!J78),\"\")","v":""},{"$f":"System!C78","v":0},{"$f":"System!L78","v":0},0,0,0,20,null,0,0,0,0,0,0,0,0,0,0,0,0,0,0,0,0,0,0,0,0,0,0,0,0,0,0,0,0,0,0,0,0,0,0,0,0,0,0,0,0,0,0,0,0,0,0,0,0,0,0,0,0,0,0,0,0,0,0,0,0,0,0,0,0,0,0,0,0,0,0,0,0,0,0,0,0,0,0,0,0,0,0,0,0,0,0,0,0,0,0,0,0,0,0,0,0,0,0,0,0,0,0,0,0,0,0,0,0,0,0,0,0,0,0,0,0,0,0,0,0,0,0,0,0,0,0,0,0,0,0,0,0,0,0,0,0,0,0,{"$f":"IF(ET$1>$I82,0,\n  IF(ET$1<$G82,0,\n  IF(AND(ET$1>$G82,ET$1<$H82),14+$J82,\n  IF(AND(ET$1>$H82,ET$1<$I82),4+$J82,\n  IF(AND(ET$1=$G82,ET$1<>$H82,ET$1<>$I82),11+$J82,\n  IF(AND(ET$1<>$G82,ET$1=$H82,ET$1<>$I82),12+$J82,\n  IF(AND(ET$1<>$G82,ET$1<>$H82,ET$1=$I82),2+$J82,\n  IF(AND(ET$1=$G82,ET$1=$H82,ET$1<>$I82,$F82<>0),13+$J82,\n  IF(AND(ET$1=$G82,ET$1=$H82,ET$1<>$I82,$F82=0),1+$J82,\n  IF(AND(ET$1<>$G82,ET$1=$H82,ET$1=$I82),12+$J82,\n  IF(AND(ET$1=$G82,ET$1=$H82,ET$1=$I82,$F82<=0.5),3+$J82,13+$J82)))))))))))","v":0},0,0,0,0,0,0,0,0,0,0,0,0,0,0,0,0,0,0,0,0,0,0,0,0,0,0,0,0,0,0,0,0,0,0,0,0,0,0,0,0,0,0,0,0,0,0,0,0,0,0,0,0,0,0,0,0,0,0,0,0,0,0,0,0,0,0,0,0,0,0,0,0,0,0,0,0,0,0,0,0,0,0,0,0,0,0,0,0,0,0,0,0,0,0,0,0,0,0,0,0,0,0,0,0,0,0,0,0,0,0,0,0,0,0,0,0,0,0,0,0,0,0,0,0,0,0,0,0,{"$f":"IF(JS$1>$I82,0,\n  IF(JS$1<$G82,0,\n  IF(AND(JS$1>$G82,JS$1<$H82),14+$J82,\n  IF(AND(JS$1>$H82,JS$1<$I82),4+$J82,\n  IF(AND(JS$1=$G82,JS$1<>$H82,JS$1<>$I82),11+$J82,\n  IF(AND(JS$1<>$G82,JS$1=$H82,JS$1<>$I82),12+$J82,\n  IF(AND(JS$1<>$G82,JS$1<>$H82,JS$1=$I82),2+$J82,\n  IF(AND(JS$1=$G82,JS$1=$H82,JS$1<>$I82,$F82<>0),13+$J82,\n  IF(AND(JS$1=$G82,JS$1=$H82,JS$1<>$I82,$F82=0),1+$J82,\n  IF(AND(JS$1<>$G82,JS$1=$H82,JS$1=$I82),12+$J82,\n  IF(AND(JS$1=$G82,JS$1=$H82,JS$1=$I82,$F82<=0.5),3+$J82,13+$J82)))))))))))","v":0},0,0,0,0,0,0,0,0,0,0,0,0,0,0,0,0,0,0,0,0,0,0,0,0,0,0,0,0,0,0,0,0,0,0,0,0,0,0,0,0,0,0,0,0,0,0,0,0,0,0,0,0,0,0,0,0,0,0,0,0,0,0,0,{"$f":"IF(ME$1>$I82,0,\n  IF(ME$1<$G82,0,\n  IF(AND(ME$1>$G82,ME$1<$H82),14+$J82,\n  IF(AND(ME$1>$H82,ME$1<$I82),4+$J82,\n  IF(AND(ME$1=$G82,ME$1<>$H82,ME$1<>$I82),11+$J82,\n  IF(AND(ME$1<>$G82,ME$1=$H82,ME$1<>$I82),12+$J82,\n  IF(AND(ME$1<>$G82,ME$1<>$H82,ME$1=$I82),2+$J82,\n  IF(AND(ME$1=$G82,ME$1=$H82,ME$1<>$I82,$F82<>0),13+$J82,\n  IF(AND(ME$1=$G82,ME$1=$H82,ME$1<>$I82,$F82=0),1+$J82,\n  IF(AND(ME$1<>$G82,ME$1=$H82,ME$1=$I82),12+$J82,\n  IF(AND(ME$1=$G82,ME$1=$H82,ME$1=$I82,$F82<=0.5),3+$J82,13+$J82)))))))))))","v":0},0,0,0,0,0,0,0,0,0,0,0,0,0,0,0,0,0,0,0,0,0,0,0,0,0,0,0,0,0,0,0,0,0,0,0,0,0,0,0,0,0,0,0,0,0,0,0,0,0,0,0,0,0,0,0,0,0,0,0,0,0,0,0,{"$f":"IF(OQ$1>$I82,0,\n  IF(OQ$1<$G82,0,\n  IF(AND(OQ$1>$G82,OQ$1<$H82),14+$J82,\n  IF(AND(OQ$1>$H82,OQ$1<$I82),4+$J82,\n  IF(AND(OQ$1=$G82,OQ$1<>$H82,OQ$1<>$I82),11+$J82,\n  IF(AND(OQ$1<>$G82,OQ$1=$H82,OQ$1<>$I82),12+$J82,\n  IF(AND(OQ$1<>$G82,OQ$1<>$H82,OQ$1=$I82),2+$J82,\n  IF(AND(OQ$1=$G82,OQ$1=$H82,OQ$1<>$I82,$F82<>0),13+$J82,\n  IF(AND(OQ$1=$G82,OQ$1=$H82,OQ$1<>$I82,$F82=0),1+$J82,\n  IF(AND(OQ$1<>$G82,OQ$1=$H82,OQ$1=$I82),12+$J82,\n  IF(AND(OQ$1=$G82,OQ$1=$H82,OQ$1=$I82,$F82<=0.5),3+$J82,13+$J82)))))))))))","v":0},0,0,0,0,0,0,0,0,0,0,0,0,0,0,0,0,0,0,0,0,0,0,0,0,0,0,0,0,0,0,0,0,0,0,0,0,0,0,0,0,0,0,0,0,0,0,0,0,0,0,0,0,0,0,0,0,0,0,0,0,0,0,0,0,0,0,0,0,0,0,0,0,0,0,0,0,0,0,0,0,0,0,0,0,0,0,0,0,0,0,0,0,0,0,0,0,0,0,0,0,0,0,0,0,null,{"$f":"IF(gIsItPlan,IF(AND(System!Z78,System!AA78),1,0),IF(AND(System!Z78,System!AB78),1,0))","v":0}]
[null,{"$f":"IF($SS83,IF(E83=1,System!B79,\"   \"&System!B79),\"\")","v":""},{"$f":"IF($SS83,IF(gIsItPlan,System!F79,System!I79),\"\")","v":""},{"$f":"IF($SS83,IF(gIsItPlan,System!G79,System!J79),\"\")","v":""},{"$f":"System!C79","v":0},{"$f":"System!L79","v":0},0,0,0,20,null,0,0,0,0,0,0,0,0,0,0,0,0,0,0,0,0,0,0,0,0,0,0,0,0,0,0,0,0,0,0,0,0,0,0,0,0,0,0,0,0,0,0,0,0,0,0,0,0,0,0,0,0,0,0,0,0,0,0,0,0,0,0,0,0,0,0,0,0,0,0,0,0,0,0,0,0,0,0,0,0,0,0,0,0,0,0,0,0,0,0,0,0,0,0,0,0,0,0,0,0,{"$f":"IF(DH$1>$I83,0,\n  IF(DH$1<$G83,0,\n  IF(AND(DH$1>$G83,DH$1<$H83),14+$J83,\n  IF(AND(DH$1>$H83,DH$1<$I83),4+$J83,\n  IF(AND(DH$1=$G83,DH$1<>$H83,DH$1<>$I83),11+$J83,\n  IF(AND(DH$1<>$G83,DH$1=$H83,DH$1<>$I83),12+$J83,\n  IF(AND(DH$1<>$G83,DH$1<>$H83,DH$1=$I83),2+$J83,\n  IF(AND(DH$1=$G83,DH$1=$H83,DH$1<>$I83,$F83<>0),13+$J83,\n  IF(AND(DH$1=$G83,DH$1=$H83,DH$1<>$I83,$F83=0),1+$J83,\n  IF(AND(DH$1<>$G83,DH$1=$H83,DH$1=$I83),12+$J83,\n  IF(AND(DH$1=$G83,DH$1=$H83,DH$1=$I83,$F83<=0.5),3+$J83,13+$J83)))))))))))","v":0},0,0,0,0,0,0,0,0,0,0,0,0,0,0,0,0,0,0,0,0,0,0,0,0,0,0,0,0,0,0,0,0,0,0,0,0,0,0,0,0,0,0,0,0,0,0,0,0,0,0,0,0,0,0,0,0,0,0,0,0,0,0,0,0,0,0,0,0,0,0,0,0,0,0,0,0,0,0,0,0,0,0,0,0,0,0,0,0,0,0,0,0,0,0,0,0,0,0,0,0,0,0,0,0,0,0,0,0,0,0,0,0,0,0,0,0,0,0,0,0,0,0,0,0,0,0,0,0,0,0,0,0,0,0,0,0,0,0,0,0,0,0,0,0,0,0,0,0,0,0,0,0,0,0,0,0,0,0,0,0,0,0,0,0,0,{"$f":"IF(JR$1>$I83,0,\n  IF(JR$1<$G83,0,\n  IF(AND(JR$1>$G83,JR$1<$H83),14+$J83,\n  IF(AND(JR$1>$H83,JR$1<$I83),4+$J83,\n  IF(AND(JR$1=$G83,JR$1<>$H83,JR$1<>$I83),11+$J83,\n  IF(AND(JR$1<>$G83,JR$1=$H83,JR$1<>$I83),12+$J83,\n  IF(AND(JR$1<>$G83,JR$1<>$H83,JR$1=$I83),2+$J83,\n  IF(AND(JR$1=$G83,JR$1=$H83,JR$1<>$I83,$F83<>0),13+$J83,\n  IF(AND(JR$1=$G83,JR$1=$H83,JR$1<>$I83,$F83=0),1+$J83,\n  IF(AND(JR$1<>$G83,JR$1=$H83,JR$1=$I83),12+$J83,\n  IF(AND(JR$1=$G83,JR$1=$H83,JR$1=$I83,$F83<=0.5),3+$J83,13+$J83)))))))))))","v":0},0,0,0,0,0,0,0,0,0,0,0,0,0,0,0,0,0,0,0,0,{"$f":"IF(KM$1>$I83,0,\n  IF(KM$1<$G83,0,\n  IF(AND(KM$1>$G83,KM$1<$H83),14+$J83,\n  IF(AND(KM$1>$H83,KM$1<$I83),4+$J83,\n  IF(AND(KM$1=$G83,KM$1<>$H83,KM$1<>$I83),11+$J83,\n  IF(AND(KM$1<>$G83,KM$1=$H83,KM$1<>$I83),12+$J83,\n  IF(AND(KM$1<>$G83,KM$1<>$H83,KM$1=$I83),2+$J83,\n  IF(AND(KM$1=$G83,KM$1=$H83,KM$1<>$I83,$F83<>0),13+$J83,\n  IF(AND(KM$1=$G83,KM$1=$H83,KM$1<>$I83,$F83=0),1+$J83,\n  IF(AND(KM$1<>$G83,KM$1=$H83,KM$1=$I83),12+$J83,\n  IF(AND(KM$1=$G83,KM$1=$H83,KM$1=$I83,$F83<=0.5),3+$J83,13+$J83)))))))))))","v":0},0,0,0,0,0,0,0,0,0,0,0,0,0,0,0,0,0,0,0,0,0,0,0,0,0,0,0,0,0,0,0,0,0,0,0,0,0,0,0,0,0,0,{"$f":"IF(MD$1>$I83,0,\n  IF(MD$1<$G83,0,\n  IF(AND(MD$1>$G83,MD$1<$H83),14+$J83,\n  IF(AND(MD$1>$H83,MD$1<$I83),4+$J83,\n  IF(AND(MD$1=$G83,MD$1<>$H83,MD$1<>$I83),11+$J83,\n  IF(AND(MD$1<>$G83,MD$1=$H83,MD$1<>$I83),12+$J83,\n  IF(AND(MD$1<>$G83,MD$1<>$H83,MD$1=$I83),2+$J83,\n  IF(AND(MD$1=$G83,MD$1=$H83,MD$1<>$I83,$F83<>0),13+$J83,\n  IF(AND(MD$1=$G83,MD$1=$H83,MD$1<>$I83,$F83=0),1+$J83,\n  IF(AND(MD$1<>$G83,MD$1=$H83,MD$1=$I83),12+$J83,\n  IF(AND(MD$1=$G83,MD$1=$H83,MD$1=$I83,$F83<=0.5),3+$J83,13+$J83)))))))))))","v":0},0,0,0,0,0,0,0,0,0,0,0,0,0,0,0,0,0,0,0,0,{"$f":"IF(MY$1>$I83,0,\n  IF(MY$1<$G83,0,\n  IF(AND(MY$1>$G83,MY$1<$H83),14+$J83,\n  IF(AND(MY$1>$H83,MY$1<$I83),4+$J83,\n  IF(AND(MY$1=$G83,MY$1<>$H83,MY$1<>$I83),11+$J83,\n  IF(AND(MY$1<>$G83,MY$1=$H83,MY$1<>$I83),12+$J83,\n  IF(AND(MY$1<>$G83,MY$1<>$H83,MY$1=$I83),2+$J83,\n  IF(AND(MY$1=$G83,MY$1=$H83,MY$1<>$I83,$F83<>0),13+$J83,\n  IF(AND(MY$1=$G83,MY$1=$H83,MY$1<>$I83,$F83=0),1+$J83,\n  IF(AND(MY$1<>$G83,MY$1=$H83,MY$1=$I83),12+$J83,\n  IF(AND(MY$1=$G83,MY$1=$H83,MY$1=$I83,$F83<=0.5),3+$J83,13+$J83)))))))))))","v":0},0,0,0,0,0,0,0,0,0,0,0,0,0,0,0,0,0,0,0,0,0,0,0,0,0,0,0,0,0,0,0,0,0,0,0,0,0,0,0,0,0,0,{"$f":"IF(OP$1>$I83,0,\n  IF(OP$1<$G83,0,\n  IF(AND(OP$1>$G83,OP$1<$H83),14+$J83,\n  IF(AND(OP$1>$H83,OP$1<$I83),4+$J83,\n  IF(AND(OP$1=$G83,OP$1<>$H83,OP$1<>$I83),11+$J83,\n  IF(AND(OP$1<>$G83,OP$1=$H83,OP$1<>$I83),12+$J83,\n  IF(AND(OP$1<>$G83,OP$1<>$H83,OP$1=$I83),2+$J83,\n  IF(AND(OP$1=$G83,OP$1=$H83,OP$1<>$I83,$F83<>0),13+$J83,\n  IF(AND(OP$1=$G83,OP$1=$H83,OP$1<>$I83,$F83=0),1+$J83,\n  IF(AND(OP$1<>$G83,OP$1=$H83,OP$1=$I83),12+$J83,\n  IF(AND(OP$1=$G83,OP$1=$H83,OP$1=$I83,$F83<=0.5),3+$J83,13+$J83)))))))))))","v":0},0,0,0,0,0,0,0,0,0,0,0,0,0,0,0,0,0,0,0,0,{"$f":"IF(PK$1>$I83,0,\n  IF(PK$1<$G83,0,\n  IF(AND(PK$1>$G83,PK$1<$H83),14+$J83,\n  IF(AND(PK$1>$H83,PK$1<$I83),4+$J83,\n  IF(AND(PK$1=$G83,PK$1<>$H83,PK$1<>$I83),11+$J83,\n  IF(AND(PK$1<>$G83,PK$1=$H83,PK$1<>$I83),12+$J83,\n  IF(AND(PK$1<>$G83,PK$1<>$H83,PK$1=$I83),2+$J83,\n  IF(AND(PK$1=$G83,PK$1=$H83,PK$1<>$I83,$F83<>0),13+$J83,\n  IF(AND(PK$1=$G83,PK$1=$H83,PK$1<>$I83,$F83=0),1+$J83,\n  IF(AND(PK$1<>$G83,PK$1=$H83,PK$1=$I83),12+$J83,\n  IF(AND(PK$1=$G83,PK$1=$H83,PK$1=$I83,$F83<=0.5),3+$J83,13+$J83)))))))))))","v":0},0,0,0,0,0,0,0,0,0,0,0,0,0,0,0,0,0,0,0,0,0,0,0,0,0,0,0,0,0,0,0,0,0,0,0,0,0,0,0,0,0,0,0,0,0,0,0,0,0,0,0,0,0,0,0,0,0,0,0,0,0,0,0,0,0,0,0,0,0,0,0,0,0,0,0,0,0,0,0,0,0,0,0,0,null,{"$f":"IF(gIsItPlan,IF(AND(System!Z79,System!AA79),1,0),IF(AND(System!Z79,System!AB79),1,0))","v":0}]
[null,{"$f":"IF($SS84,IF(E84=1,System!B80,\"   \"&System!B80),\"\")","v":""},{"$f":"IF($SS84,IF(gIsItPlan,System!F80,System!I80),\"\")","v":""},{"$f":"IF($SS84,IF(gIsItPlan,System!G80,System!J80),\"\")","v":""},{"$f":"System!C80","v":0},{"$f":"System!L80","v":0},0,0,0,20,null,0,0,0,0,0,0,0,0,0,0,0,0,0,0,0,0,0,0,0,0,0,0,0,0,0,0,0,0,0,0,0,0,0,0,0,0,0,0,0,0,0,0,0,0,0,0,0,0,0,0,0,0,0,0,0,0,0,0,0,0,0,0,0,0,0,0,0,0,0,0,0,0,0,0,0,0,0,0,0,0,0,0,0,0,0,{"$f":"IF(CS$1>$I84,0,\n  IF(CS$1<$G84,0,\n  IF(AND(CS$1>$G84,CS$1<$H84),14+$J84,\n  IF(AND(CS$1>$H84,CS$1<$I84),4+$J84,\n  IF(AND(CS$1=$G84,CS$1<>$H84,CS$1<>$I84),11+$J84,\n  IF(AND(CS$1<>$G84,CS$1=$H84,CS$1<>$I84),12+$J84,\n  IF(AND(CS$1<>$G84,CS$1<>$H84,CS$1=$I84),2+$J84,\n  IF(AND(CS$1=$G84,CS$1=$H84,CS$1<>$I84,$F84<>0),13+$J84,\n  IF(AND(CS$1=$G84,CS$1=$H84,CS$1<>$I84,$F84=0),1+$J84,\n  IF(AND(CS$1<>$G84,CS$1=$H84,CS$1=$I84),12+$J84,\n  IF(AND(CS$1=$G84,CS$1=$H84,CS$1=$I84,$F84<=0.5),3+$J84,13+$J84)))))))))))","v":0},0,0,0,0,0,0,0,0,0,0,0,0,0,0,0,0,0,0,0,0,0,0,0,0,0,0,0,0,0,0,0,0,0,0,0,0,0,0,0,0,0,0,0,0,0,0,0,0,0,0,0,0,0,0,0,0,0,0,0,0,0,0,0,0,0,0,0,0,0,0,0,0,0,0,0,0,0,0,0,0,0,0,0,0,0,0,0,0,0,0,0,0,0,0,0,0,0,0,0,0,0,0,0,0,0,0,0,0,0,0,0,0,0,0,0,0,0,0,0,0,0,0,0,0,0,0,0,0,0,0,0,0,0,0,0,0,0,0,0,0,0,0,0,0,0,0,0,0,0,0,0,0,0,0,0,0,0,0,0,0,0,0,0,0,0,0,0,0,0,0,0,0,0,0,0,0,0,0,0,0,0,0,0,0,0,0,0,0,0,0,0,0,0,0,0,0,0,{"$f":"IF(KI$1>$I84,0,\n  IF(KI$1<$G84,0,\n  IF(AND(KI$1>$G84,KI$1<$H84),14+$J84,\n  IF(AND(KI$1>$H84,KI$1<$I84),4+$J84,\n  IF(AND(KI$1=$G84,KI$1<>$H84,KI$1<>$I84),11+$J84,\n  IF(AND(KI$1<>$G84,KI$1=$H84,KI$1<>$I84),12+$J84,\n  IF(AND(KI$1<>$G84,KI$1<>$H84,KI$1=$I84),2+$J84,\n  IF(AND(KI$1=$G84,KI$1=$H84,KI$1<>$I84,$F84<>0),13+$J84,\n  IF(AND(KI$1=$G84,KI$1=$H84,KI$1<>$I84,$F84=0),1+$J84,\n  IF(AND(KI$1<>$G84,KI$1=$H84,KI$1=$I84),12+$J84,\n  IF(AND(KI$1=$G84,KI$1=$H84,KI$1=$I84,$F84<=0.5),3+$J84,13+$J84)))))))))))","v":0},0,0,0,0,0,0,0,0,0,0,0,0,0,0,0,0,0,0,0,0,0,0,0,0,0,0,0,0,0,0,0,0,0,0,0,0,0,0,0,0,0,0,0,0,0,0,0,0,0,0,0,0,0,0,0,0,0,0,0,0,0,0,0,{"$f":"IF(MU$1>$I84,0,\n  IF(MU$1<$G84,0,\n  IF(AND(MU$1>$G84,MU$1<$H84),14+$J84,\n  IF(AND(MU$1>$H84,MU$1<$I84),4+$J84,\n  IF(AND(MU$1=$G84,MU$1<>$H84,MU$1<>$I84),11+$J84,\n  IF(AND(MU$1<>$G84,MU$1=$H84,MU$1<>$I84),12+$J84,\n  IF(AND(MU$1<>$G84,MU$1<>$H84,MU$1=$I84),2+$J84,\n  IF(AND(MU$1=$G84,MU$1=$H84,MU$1<>$I84,$F84<>0),13+$J84,\n  IF(AND(MU$1=$G84,MU$1=$H84,MU$1<>$I84,$F84=0),1+$J84,\n  IF(AND(MU$1<>$G84,MU$1=$H84,MU$1=$I84),12+$J84,\n  IF(AND(MU$1=$G84,MU$1=$H84,MU$1=$I84,$F84<=0.5),3+$J84,13+$J84)))))))))))","v":0},0,0,0,0,0,0,0,0,0,0,0,0,0,0,0,0,0,0,0,0,0,0,0,0,0,0,0,0,0,0,0,0,0,0,0,0,0,0,0,0,0,0,0,0,0,0,0,0,0,0,0,0,0,0,0,0,0,0,0,0,0,0,0,{"$f":"IF(PG$1>$I84,0,\n  IF(PG$1<$G84,0,\n  IF(AND(PG$1>$G84,PG$1<$H84),14+$J84,\n  IF(AND(PG$1>$H84,PG$1<$I84),4+$J84,\n  IF(AND(PG$1=$G84,PG$1<>$H84,PG$1<>$I84),11+$J84,\n  IF(AND(PG$1<>$G84,PG$1=$H84,PG$1<>$I84),12+$J84,\n  IF(AND(PG$1<>$G84,PG$1<>$H84,PG$1=$I84),2+$J84,\n  IF(AND(PG$1=$G84,PG$1=$H84,PG$1<>$I84,$F84<>0),13+$J84,\n  IF(AND(PG$1=$G84,PG$1=$H84,PG$1<>$I84,$F84=0),1+$J84,\n  IF(AND(PG$1<>$G84,PG$1=$H84,PG$1=$I84),12+$J84,\n  IF(AND(PG$1=$G84,PG$1=$H84,PG$1=$I84,$F84<=0.5),3+$J84,13+$J84)))))))))))","v":0},0,0,0,0,0,0,0,0,0,0,0,0,0,0,0,0,0,0,0,0,0,0,0,0,0,0,0,0,0,0,0,0,0,0,0,0,0,0,0,0,0,0,0,0,0,0,0,0,0,0,0,0,0,0,0,0,0,0,0,0,0,0,0,0,0,0,0,0,0,0,0,0,0,0,0,0,0,0,0,0,0,0,0,0,0,0,0,0,null,{"$f":"IF(gIsItPlan,IF(AND(System!Z80,System!AA80),1,0),IF(AND(System!Z80,System!AB80),1,0))","v":0}]
[null,{"$f":"IF($SS85,IF(E85=1,System!B81,\"   \"&System!B81),\"\")","v":""},{"$f":"IF($SS85,IF(gIsItPlan,System!F81,System!I81),\"\")","v":""},{"$f":"IF($SS85,IF(gIsItPlan,System!G81,System!J81),\"\")","v":""},{"$f":"System!C81","v":0},{"$f":"System!L81","v":0},0,0,0,20,null,0,0,0,0,0,0,0,0,0,0,0,0,0,0,0,0,0,0,0,0,0,0,0,0,0,0,0,0,0,0,0,0,0,0,0,0,0,0,0,0,0,0,0,0,0,0,0,0,0,0,0,0,0,0,0,0,0,0,0,0,0,0,0,0,0,0,0,0,0,0,0,0,0,0,0,0,0,0,0,0,0,0,0,0,0,0,0,0,0,0,0,0,0,0,0,0,0,0,0,0,0,0,0,0,0,0,0,0,0,0,0,0,0,0,0,0,0,0,0,0,0,0,0,0,0,0,0,0,0,0,0,0,0,0,0,0,0,0,0,0,0,0,0,0,0,0,0,0,0,0,0,0,0,0,0,0,0,0,0,0,0,0,0,0,0,0,0,0,0,0,0,0,0,0,0,0,0,0,0,0,0,0,0,0,0,0,0,0,0,0,0,0,0,0,0,0,0,0,0,0,0,0,0,0,0,0,0,0,0,0,0,0,0,0,0,0,0,0,0,0,0,0,0,0,0,{"$f":"IF(IC$1>$I85,0,\n  IF(IC$1<$G85,0,\n  IF(AND(IC$1>$G85,IC$1<$H85),14+$J85,\n  IF(AND(IC$1>$H85,IC$1<$I85),4+$J85,\n  IF(AND(IC$1=$G85,IC$1<>$H85,IC$1<>$I85),11+$J85,\n  IF(AND(IC$1<>$G85,IC$1=$H85,IC$1<>$I85),12+$J85,\n  IF(AND(IC$1<>$G85,IC$1<>$H85,IC$1=$I85),2+$J85,\n  IF(AND(IC$1=$G85,IC$1=$H85,IC$1<>$I85,$F85<>0),13+$J85,\n  IF(AND(IC$1=$G85,IC$1=$H85,IC$1<>$I85,$F85=0),1+$J85,\n  IF(AND(IC$1<>$G85,IC$1=$H85,IC$1=$I85),12+$J85,\n  IF(AND(IC$1=$G85,IC$1=$H85,IC$1=$I85,$F85<=0.5),3+$J85,13+$J85)))))))))))","v":0},0,0,0,0,0,0,0,0,0,0,0,0,0,0,0,0,0,0,0,0,0,0,0,0,0,0,0,0,0,0,0,0,0,0,0,0,0,0,0,0,0,0,0,0,0,0,0,0,0,0,0,0,0,0,0,0,0,0,0,0,0,0,0,0,0,0,0,0,0,0,0,0,0,0,0,0,0,0,0,0,0,0,0,0,0,0,0,0,0,0,0,0,0,0,0,0,0,0,0,0,0,0,0,0,0,0,0,0,0,0,0,0,0,0,0,0,0,0,0,0,0,0,0,0,0,0,0,0,0,0,0,0,0,0,0,0,0,0,0,0,0,0,0,0,0,0,0,0,0,0,0,0,0,0,0,0,0,0,0,0,0,0,0,0,0,0,0,0,0,0,0,0,0,0,0,0,0,0,0,0,0,0,0,0,0,0,0,0,0,0,0,0,0,0,0,0,0,0,0,0,0,0,0,0,0,0,0,0,0,0,0,0,0,0,0,0,0,0,0,0,0,0,0,0,0,0,0,0,0,0,0,0,0,0,0,0,0,0,0,0,0,0,0,0,0,0,0,0,0,0,0,0,0,0,0,0,0,0,0,0,0,0,0,0,0,0,0,0,0,0,0,0,0,0,null,{"$f":"IF(gIsItPlan,IF(AND(System!Z81,System!AA81),1,0),IF(AND(System!Z81,System!AB81),1,0))","v":0}]
[null,{"$f":"IF($SS86,IF(E86=1,System!B82,\"   \"&System!B82),\"\")","v":""},{"$f":"IF($SS86,IF(gIsItPlan,System!F82,System!I82),\"\")","v":""},{"$f":"IF($SS86,IF(gIsItPlan,System!G82,System!J82),\"\")","v":""},{"$f":"System!C82","v":0},{"$f":"System!L82","v":0},0,0,0,20,null,0,0,0,0,0,0,0,0,0,0,0,0,0,0,0,0,0,0,0,0,0,0,0,0,0,0,0,0,0,0,0,0,0,0,0,0,0,0,0,0,0,0,0,0,0,0,0,0,0,0,0,0,0,0,0,0,0,0,0,0,0,0,0,0,0,0,0,0,0,0,0,0,0,0,0,0,0,0,0,0,0,0,0,0,0,0,0,0,0,0,0,0,0,0,0,0,0,0,0,0,0,0,0,0,0,0,0,0,0,0,0,0,0,0,0,0,0,0,0,0,0,0,0,0,0,0,0,0,0,0,0,0,0,0,0,0,0,0,0,0,0,0,0,0,0,0,0,0,0,0,0,0,0,0,0,0,0,0,0,0,0,0,0,0,0,0,0,0,0,0,0,0,0,0,0,0,0,0,0,0,0,0,0,0,0,0,0,0,0,0,0,0,0,0,0,0,0,0,0,0,0,0,0,0,0,0,0,0,0,0,0,0,0,0,0,0,0,0,0,0,0,0,{"$f":"IF(HZ$1>$I86,0,\n  IF(HZ$1<$G86,0,\n  IF(AND(HZ$1>$G86,HZ$1<$H86),14+$J86,\n  IF(AND(HZ$1>$H86,HZ$1<$I86),4+$J86,\n  IF(AND(HZ$1=$G86,HZ$1<>$H86,HZ$1<>$I86),11+$J86,\n  IF(AND(HZ$1<>$G86,HZ$1=$H86,HZ$1<>$I86),12+$J86,\n  IF(AND(HZ$1<>$G86,HZ$1<>$H86,HZ$1=$I86),2+$J86,\n  IF(AND(HZ$1=$G86,HZ$1=$H86,HZ$1<>$I86,$F86<>0),13+$J86,\n  IF(AND(HZ$1=$G86,HZ$1=$H86,HZ$1<>$I86,$F86=0),1+$J86,\n  IF(AND(HZ$1<>$G86,HZ$1=$H86,HZ$1=$I86),12+$J86,\n  IF(AND(HZ$1=$G86,HZ$1=$H86,HZ$1=$I86,$F86<=0.5),3+$J86,13+$J86)))))))))))","v":0},0,0,0,0,0,0,0,0,0,0,0,0,0,0,0,0,0,0,0,0,0,0,0,0,0,0,0,0,0,0,0,0,0,0,0,0,0,0,0,0,0,0,0,0,0,0,0,0,0,0,0,0,0,0,0,0,0,0,0,0,0,0,0,0,0,0,0,0,0,0,0,0,0,0,0,0,0,0,0,0,0,0,0,0,0,0,0,0,0,0,0,0,0,0,0,0,0,0,0,0,0,0,0,0,0,0,0,0,0,0,0,0,0,0,0,0,0,0,0,0,0,0,0,0,0,0,0,0,0,0,0,0,0,0,0,0,0,0,0,0,0,0,0,0,0,0,0,0,0,0,0,0,0,0,0,0,0,0,0,0,0,0,0,0,0,0,0,0,0,0,0,0,0,0,0,0,0,0,0,0,0,0,0,0,0,0,0,0,0,0,0,0,0,0,0,0,0,0,0,0,0,0,0,0,0,0,0,0,0,0,0,0,0,0,0,0,0,0,0,0,0,0,0,0,0,0,0,0,0,0,0,0,0,0,0,0,0,0,0,0,0,0,0,0,0,0,0,0,0,0,0,0,0,0,0,0,0,0,0,0,0,0,0,0,0,0,0,0,0,0,0,0,0,0,0,0,0,null,{"$f":"IF(gIsItPlan,IF(AND(System!Z82,System!AA82),1,0),IF(AND(System!Z82,System!AB82),1,0))","v":0}]
[null,{"$f":"IF($SS87,IF(E87=1,System!B83,\"   \"&System!B83),\"\")","v":""},{"$f":"IF($SS87,IF(gIsItPlan,System!F83,System!I83),\"\")","v":""},{"$f":"IF($SS87,IF(gIsItPlan,System!G83,System!J83),\"\")","v":""},{"$f":"System!C83","v":0},{"$f":"System!L83","v":0},0,0,0,20,null,0,0,0,0,0,0,0,0,0,0,0,0,0,0,0,0,0,0,0,0,0,0,0,0,0,0,0,0,0,0,0,0,0,0,0,0,0,0,0,0,0,0,0,0,0,0,0,0,0,0,0,0,0,0,0,0,0,0,0,0,0,0,0,0,0,0,0,0,0,0,0,0,0,0,0,0,0,0,0,0,0,0,0,0,0,0,0,0,0,0,0,0,0,0,0,0,0,0,0,0,0,0,0,0,0,0,0,0,0,0,0,0,0,0,0,0,0,0,0,0,0,0,0,0,0,0,0,0,0,0,0,0,0,0,0,0,0,0,0,0,0,0,0,0,0,0,0,0,0,0,0,0,0,0,0,0,0,0,0,0,0,0,0,0,0,0,0,0,0,0,0,0,0,0,0,0,0,0,0,0,0,0,0,0,0,0,0,0,0,0,0,0,0,0,0,0,0,0,0,0,0,0,0,0,0,0,0,0,0,0,0,0,0,0,0,0,0,0,0,0,0,0,0,0,0,0,0,0,0,0,0,0,0,0,0,0,0,0,0,0,0,0,0,0,0,0,0,0,0,0,0,0,0,0,0,0,0,0,0,0,0,0,0,0,0,0,0,0,0,0,0,0,0,0,0,0,0,0,0,0,0,0,0,0,0,0,0,0,0,0,0,0,0,0,0,0,0,0,0,0,0,0,0,0,0,0,0,0,0,0,0,0,0,0,0,0,0,0,0,0,0,0,0,0,0,0,0,0,0,0,0,0,0,0,0,0,0,0,0,0,0,0,0,0,0,0,0,0,0,0,0,0,0,0,0,0,0,0,0,0,0,0,0,0,0,0,0,0,0,0,0,0,0,0,0,0,0,0,0,0,0,0,0,0,0,0,0,0,0,0,0,0,0,0,0,0,0,0,0,0,0,0,0,0,0,0,0,0,0,0,0,0,0,0,0,0,0,0,0,0,0,0,0,0,0,0,0,0,0,0,0,0,0,0,0,0,0,0,0,0,0,0,0,0,0,0,0,0,0,0,0,0,0,0,0,0,0,0,0,0,0,0,0,0,0,0,0,0,0,0,0,0,0,0,0,0,0,0,0,0,0,0,0,0,0,0,0,0,0,0,0,0,0,0,0,0,0,0,0,0,null,{"$f":"IF(gIsItPlan,IF(AND(System!Z83,System!AA83),1,0),IF(AND(System!Z83,System!AB83),1,0))","v":0}]
[null,{"$f":"IF($SS88,IF(E88=1,System!B84,\"   \"&System!B84),\"\")","v":""},{"$f":"IF($SS88,IF(gIsItPlan,System!F84,System!I84),\"\")","v":""},{"$f":"IF($SS88,IF(gIsItPlan,System!G84,System!J84),\"\")","v":""},{"$f":"System!C84","v":0},{"$f":"System!L84","v":0},0,0,0,20,null,0,0,0,0,0,0,0,0,0,0,0,0,0,0,0,0,0,0,0,0,0,0,0,0,0,0,0,0,0,0,0,0,0,0,0,0,0,0,0,0,0,0,0,0,0,0,0,0,0,0,0,0,0,0,0,0,0,0,0,0,0,0,0,0,0,0,0,0,0,0,0,0,0,0,0,0,0,0,0,0,0,0,0,0,0,0,0,0,0,0,0,0,0,0,0,0,0,0,0,0,0,0,0,0,0,0,0,0,0,0,0,0,0,0,0,0,0,0,0,0,0,0,0,0,0,0,0,0,0,0,0,0,0,0,0,0,0,0,0,0,0,0,0,0,0,0,0,0,0,0,0,0,0,0,0,0,0,{"$f":"IF(FM$1>$I88,0,\n  IF(FM$1<$G88,0,\n  IF(AND(FM$1>$G88,FM$1<$H88),14+$J88,\n  IF(AND(FM$1>$H88,FM$1<$I88),4+$J88,\n  IF(AND(FM$1=$G88,FM$1<>$H88,FM$1<>$I88),11+$J88,\n  IF(AND(FM$1<>$G88,FM$1=$H88,FM$1<>$I88),12+$J88,\n  IF(AND(FM$1<>$G88,FM$1<>$H88,FM$1=$I88),2+$J88,\n  IF(AND(FM$1=$G88,FM$1=$H88,FM$1<>$I88,$F88<>0),13+$J88,\n  IF(AND(FM$1=$G88,FM$1=$H88,FM$1<>$I88,$F88=0),1+$J88,\n  IF(AND(FM$1<>$G88,FM$1=$H88,FM$1=$I88),12+$J88,\n  IF(AND(FM$1=$G88,FM$1=$H88,FM$1=$I88,$F88<=0.5),3+$J88,13+$J88)))))))))))","v":0},0,0,0,0,0,0,0,0,0,0,0,0,0,0,0,0,0,0,0,0,0,0,0,0,0,0,0,0,0,0,0,0,0,0,0,0,0,0,0,0,0,0,0,0,0,0,0,0,0,0,0,0,0,0,0,0,0,0,0,0,0,0,0,0,0,0,0,0,0,0,0,0,0,0,0,0,0,0,0,0,0,0,0,0,0,0,0,0,0,0,0,0,0,0,0,0,0,0,0,0,0,0,0,0,0,0,0,0,0,0,0,0,0,0,0,0,0,0,0,0,0,0,0,0,0,0,0,0,0,0,0,0,0,0,0,0,0,0,0,0,0,0,0,0,0,0,0,0,0,0,0,0,0,0,0,0,0,0,0,0,0,0,0,0,0,0,0,0,0,0,0,0,0,0,0,0,0,0,0,0,0,0,0,0,0,0,0,0,0,0,0,0,0,0,0,0,0,0,0,0,0,0,0,0,0,0,0,0,0,0,0,0,0,0,0,0,0,0,0,0,0,0,0,0,0,0,0,0,0,0,0,0,0,0,0,0,0,0,0,0,0,0,0,0,0,0,0,0,0,0,0,0,0,0,0,0,0,0,0,0,0,0,0,0,0,0,0,0,0,0,0,0,0,0,0,0,0,0,0,0,0,0,0,0,0,0,0,0,0,0,0,0,0,0,0,0,0,0,0,0,0,0,0,0,0,0,0,0,0,0,0,0,0,0,0,0,0,0,0,0,0,0,0,0,0,0,0,0,0,0,0,0,0,0,0,0,0,0,0,0,0,0,null,{"$f":"IF(gIsItPlan,IF(AND(System!Z84,System!AA84),1,0),IF(AND(System!Z84,System!AB84),1,0))","v":0}]
[null,{"$f":"IF($SS89,IF(E89=1,System!B85,\"   \"&System!B85),\"\")","v":""},{"$f":"IF($SS89,IF(gIsItPlan,System!F85,System!I85),\"\")","v":""},{"$f":"IF($SS89,IF(gIsItPlan,System!G85,System!J85),\"\")","v":""},{"$f":"System!C85","v":0},{"$f":"System!L85","v":0},0,0,0,20,null,0,0,0,0,0,0,0,0,0,0,0,0,0,0,0,0,0,0,0,0,0,0,0,0,0,0,0,0,0,0,0,0,0,0,0,0,0,0,0,0,0,0,0,0,0,0,0,0,0,0,0,0,0,0,0,0,0,0,0,0,0,0,0,0,0,0,0,0,0,0,0,0,0,0,0,0,0,0,0,0,0,0,0,0,0,0,0,0,0,0,0,0,0,0,0,0,0,0,0,0,0,0,0,0,0,0,0,0,0,0,0,0,0,0,0,0,0,0,0,0,0,0,0,0,0,0,0,0,0,0,0,0,0,0,0,0,0,0,0,0,0,0,0,0,0,0,0,0,0,0,0,0,0,0,{"$f":"IF(FJ$1>$I89,0,\n  IF(FJ$1<$G89,0,\n  IF(AND(FJ$1>$G89,FJ$1<$H89),14+$J89,\n  IF(AND(FJ$1>$H89,FJ$1<$I89),4+$J89,\n  IF(AND(FJ$1=$G89,FJ$1<>$H89,FJ$1<>$I89),11+$J89,\n  IF(AND(FJ$1<>$G89,FJ$1=$H89,FJ$1<>$I89),12+$J89,\n  IF(AND(FJ$1<>$G89,FJ$1<>$H89,FJ$1=$I89),2+$J89,\n  IF(AND(FJ$1=$G89,FJ$1=$H89,FJ$1<>$I89,$F89<>0),13+$J89,\n  IF(AND(FJ$1=$G89,FJ$1=$H89,FJ$1<>$I89,$F89=0),1+$J89,\n  IF(AND(FJ$1<>$G89,FJ$1=$H89,FJ$1=$I89),12+$J89,\n  IF(AND(FJ$1=$G89,FJ$1=$H89,FJ$1=$I89,$F89<=0.5),3+$J89,13+$J89)))))))))))","v":0},0,0,0,0,0,0,0,0,0,0,0,0,0,0,0,0,0,0,0,0,0,0,0,0,0,0,0,0,0,0,0,0,0,0,0,0,0,0,0,0,0,0,0,0,0,0,0,0,0,0,0,0,0,0,0,0,0,0,0,0,0,0,0,0,0,0,0,0,0,0,0,0,0,0,0,0,0,0,0,0,0,0,0,0,0,0,0,0,0,0,0,0,0,0,0,0,0,0,0,0,0,0,0,0,0,0,0,0,0,0,0,0,0,0,0,0,0,0,0,0,0,0,0,0,0,0,0,0,0,0,0,0,0,0,0,0,0,0,0,0,0,0,0,0,0,0,0,0,0,0,0,0,0,0,0,0,0,0,0,0,0,0,0,0,0,0,0,0,0,0,0,0,0,0,0,0,0,0,0,0,0,0,0,0,0,0,0,0,0,0,0,0,0,0,0,0,0,0,0,0,0,0,0,0,0,0,0,0,0,0,0,0,0,0,0,0,0,0,0,0,0,0,0,0,0,0,0,0,0,0,0,0,0,0,0,0,0,0,0,0,0,0,0,0,0,0,0,0,0,0,0,0,0,0,0,0,0,0,0,0,0,0,0,0,0,0,0,0,0,0,0,0,0,0,0,0,0,0,0,0,0,0,0,0,0,0,0,0,0,0,0,0,0,0,0,0,0,0,0,0,0,0,0,0,0,0,0,0,0,0,0,0,0,0,0,0,0,0,0,0,0,0,0,0,0,0,0,0,0,0,0,0,0,0,0,0,0,0,0,0,0,0,0,0,0,null,{"$f":"IF(gIsItPlan,IF(AND(System!Z85,System!AA85),1,0),IF(AND(System!Z85,System!AB85),1,0))","v":0}]
[null,{"$f":"IF($SS90,IF(E90=1,System!B86,\"   \"&System!B86),\"\")","v":""},{"$f":"IF($SS90,IF(gIsItPlan,System!F86,System!I86),\"\")","v":""},{"$f":"IF($SS90,IF(gIsItPlan,System!G86,System!J86),\"\")","v":""},{"$f":"System!C86","v":0},{"$f":"System!L86","v":0},0,0,0,20,null,0,0,0,0,0,0,0,0,0,0,0,0,0,0,0,0,0,0,0,0,0,0,0,0,0,0,0,0,0,0,0,0,0,0,0,0,0,0,0,0,0,0,0,0,0,0,0,0,0,0,0,0,0,0,0,0,0,0,0,0,0,0,0,0,0,0,0,0,0,0,0,0,0,0,0,0,0,0,0,0,0,0,0,0,0,0,0,0,0,0,0,0,0,0,0,0,0,0,0,0,0,0,0,0,0,0,0,0,0,0,0,0,0,0,0,0,0,0,0,0,0,0,0,0,0,0,0,0,0,0,0,0,0,0,0,0,0,0,0,0,0,0,0,0,0,0,0,0,0,0,0,0,0,0,0,0,0,0,0,0,0,0,0,0,0,0,0,0,0,0,0,0,0,0,0,0,0,0,0,0,0,0,0,0,0,0,0,0,0,0,0,0,0,0,0,0,0,0,0,0,0,0,0,0,0,0,0,0,0,0,0,0,0,0,0,0,0,0,0,0,0,0,0,0,0,0,0,0,0,0,0,0,0,0,0,0,0,0,0,0,0,0,0,0,0,0,0,0,0,0,0,0,0,0,0,0,0,0,0,0,0,0,0,0,0,0,0,0,0,0,0,0,0,0,0,0,0,0,0,0,0,0,0,0,0,0,0,0,0,0,0,0,0,0,0,0,0,0,0,0,0,0,0,0,0,0,0,0,0,0,0,0,0,0,0,0,0,0,0,0,0,0,0,0,0,0,0,0,0,0,0,0,0,0,0,0,0,0,0,0,0,0,0,0,0,0,0,0,0,0,0,0,0,0,0,0,0,0,0,0,0,0,0,0,0,0,0,0,0,0,0,0,0,0,0,0,0,0,0,0,0,0,0,0,0,0,0,0,0,0,0,0,0,0,0,0,0,0,0,0,0,0,0,0,0,0,0,0,0,0,0,0,0,0,0,0,0,0,0,0,0,0,0,0,0,0,0,0,0,0,0,0,0,0,0,0,0,0,0,0,0,0,0,0,0,0,0,0,0,0,0,0,0,0,0,0,0,0,0,0,0,0,0,0,0,0,0,0,0,0,0,0,0,0,0,0,0,0,0,0,0,0,0,0,0,0,0,0,0,0,0,0,0,0,0,0,0,{"$f":"IF(SO$1>$I90,0,\n  IF(SO$1<$G90,0,\n  IF(AND(SO$1>$G90,SO$1<$H90),14+$J90,\n  IF(AND(SO$1>$H90,SO$1<$I90),4+$J90,\n  IF(AND(SO$1=$G90,SO$1<>$H90,SO$1<>$I90),11+$J90,\n  IF(AND(SO$1<>$G90,SO$1=$H90,SO$1<>$I90),12+$J90,\n  IF(AND(SO$1<>$G90,SO$1<>$H90,SO$1=$I90),2+$J90,\n  IF(AND(SO$1=$G90,SO$1=$H90,SO$1<>$I90,$F90<>0),13+$J90,\n  IF(AND(SO$1=$G90,SO$1=$H90,SO$1<>$I90,$F90=0),1+$J90,\n  IF(AND(SO$1<>$G90,SO$1=$H90,SO$1=$I90),12+$J90,\n  IF(AND(SO$1=$G90,SO$1=$H90,SO$1=$I90,$F90<=0.5),3+$J90,13+$J90)))))))))))","v":0},0,0,null,{"$f":"IF(gIsItPlan,IF(AND(System!Z86,System!AA86),1,0),IF(AND(System!Z86,System!AB86),1,0))","v":0}]
[null,{"$f":"IF($SS91,IF(E91=1,System!B87,\"   \"&System!B87),\"\")","v":""},{"$f":"IF($SS91,IF(gIsItPlan,System!F87,System!I87),\"\")","v":""},{"$f":"IF($SS91,IF(gIsItPlan,System!G87,System!J87),\"\")","v":""},{"$f":"System!C87","v":0},{"$f":"System!L87","v":0},0,0,0,20,null,0,0,0,0,0,0,0,0,0,0,0,0,0,0,0,0,0,0,0,0,0,0,0,0,0,0,0,0,0,0,0,0,0,0,0,0,0,0,0,0,0,0,0,0,0,0,0,0,0,0,0,0,0,0,0,0,0,0,0,0,0,0,0,0,0,0,0,0,0,0,0,0,0,0,0,0,0,0,0,0,0,0,0,0,0,0,0,0,0,0,0,0,0,0,0,0,0,0,0,0,0,0,0,0,0,0,0,0,0,0,0,0,0,0,0,0,0,0,0,0,0,0,0,0,0,0,0,0,0,0,0,0,0,0,0,0,0,0,0,0,0,0,0,0,0,0,0,0,0,0,0,0,0,0,0,0,0,0,0,0,0,0,0,0,0,0,0,0,0,0,0,0,0,0,0,0,0,0,0,0,0,0,0,0,0,0,0,0,0,0,0,0,0,0,0,0,0,0,0,0,0,0,0,0,0,0,0,0,0,0,0,0,0,0,0,0,0,0,0,0,0,0,0,0,0,0,0,0,0,0,0,0,0,0,0,0,0,0,0,0,0,0,0,0,0,0,0,0,0,0,0,0,0,0,0,0,0,0,0,0,0,0,0,0,0,0,0,0,0,0,0,0,0,0,0,0,0,0,0,0,0,0,0,0,0,0,0,0,0,0,0,0,0,0,0,0,0,0,0,0,0,0,0,0,0,0,0,0,0,0,0,0,0,0,0,0,0,0,0,0,0,0,0,0,0,0,0,0,0,0,0,0,0,0,0,0,0,0,0,0,0,0,0,0,0,0,0,0,0,0,0,0,0,0,0,0,0,0,0,0,0,0,0,0,0,0,0,0,0,0,0,0,0,0,0,0,0,0,0,0,0,0,0,0,0,0,0,0,0,0,0,0,0,0,0,0,0,0,0,0,0,0,0,0,0,0,0,0,0,0,0,0,0,0,0,0,0,0,0,0,0,0,0,0,0,0,0,0,0,0,0,0,0,0,0,0,0,0,0,0,0,0,0,0,0,0,0,0,0,0,0,0,0,0,0,0,0,0,0,0,0,0,0,0,0,0,0,0,0,0,0,0,0,0,0,0,0,0,0,0,0,0,0,0,0,0,0,0,0,0,0,{"$f":"IF(SI$1>$I91,0,\n  IF(SI$1<$G91,0,\n  IF(AND(SI$1>$G91,SI$1<$H91),14+$J91,\n  IF(AND(SI$1>$H91,SI$1<$I91),4+$J91,\n  IF(AND(SI$1=$G91,SI$1<>$H91,SI$1<>$I91),11+$J91,\n  IF(AND(SI$1<>$G91,SI$1=$H91,SI$1<>$I91),12+$J91,\n  IF(AND(SI$1<>$G91,SI$1<>$H91,SI$1=$I91),2+$J91,\n  IF(AND(SI$1=$G91,SI$1=$H91,SI$1<>$I91,$F91<>0),13+$J91,\n  IF(AND(SI$1=$G91,SI$1=$H91,SI$1<>$I91,$F91=0),1+$J91,\n  IF(AND(SI$1<>$G91,SI$1=$H91,SI$1=$I91),12+$J91,\n  IF(AND(SI$1=$G91,SI$1=$H91,SI$1=$I91,$F91<=0.5),3+$J91,13+$J91)))))))))))","v":0},0,0,0,0,0,0,0,0,null,{"$f":"IF(gIsItPlan,IF(AND(System!Z87,System!AA87),1,0),IF(AND(System!Z87,System!AB87),1,0))","v":0}]
[null,{"$f":"IF($SS92,IF(E92=1,System!B88,\"   \"&System!B88),\"\")","v":""},{"$f":"IF($SS92,IF(gIsItPlan,System!F88,System!I88),\"\")","v":""},{"$f":"IF($SS92,IF(gIsItPlan,System!G88,System!J88),\"\")","v":""},{"$f":"System!C88","v":0},{"$f":"System!L88","v":0},0,0,0,20,null,0,0,0,0,0,0,0,0,0,0,0,0,0,0,0,0,0,0,0,0,0,0,0,0,0,0,0,0,0,0,0,0,0,0,0,0,0,0,0,0,0,0,0,0,0,0,0,0,0,0,0,0,0,0,0,0,0,0,0,0,0,0,0,0,0,0,0,0,0,0,0,0,0,0,0,0,0,0,0,0,0,0,0,0,0,0,0,0,0,0,0,0,0,0,0,0,0,0,0,0,0,0,0,0,0,0,0,0,0,0,0,0,0,0,0,0,0,0,0,0,0,0,0,0,0,0,0,0,0,0,0,0,0,0,0,0,0,0,0,0,0,0,0,0,0,0,0,0,0,0,0,0,0,0,0,0,0,0,0,0,0,0,0,0,0,0,0,0,0,0,0,0,0,0,0,0,0,0,0,0,0,0,0,0,0,0,0,0,0,0,0,0,0,0,0,0,0,0,0,0,0,0,0,0,0,0,0,0,0,0,0,0,0,0,0,0,0,0,0,0,0,0,0,0,0,0,0,0,0,0,0,0,0,0,0,0,0,0,0,0,0,0,0,0,0,0,0,0,0,0,0,0,0,0,0,0,0,0,0,0,0,0,0,0,0,0,0,0,0,0,0,0,0,0,0,0,0,0,0,0,0,0,0,0,0,0,0,0,0,0,0,0,0,0,0,0,0,0,0,0,0,0,0,0,0,0,0,0,0,0,0,0,0,0,0,0,0,0,0,0,0,0,0,0,0,0,0,0,0,0,0,0,0,0,0,0,0,0,0,0,0,0,0,0,0,0,0,0,0,0,0,0,0,0,0,0,0,0,0,0,0,0,0,0,0,0,0,0,0,0,0,0,0,0,0,0,0,0,0,0,0,0,0,0,0,0,0,0,0,0,0,0,0,0,0,0,0,0,0,0,0,0,0,0,0,0,0,0,0,0,0,0,0,0,0,0,0,0,0,0,0,0,0,0,0,0,0,0,0,0,0,0,0,0,0,0,0,0,0,0,0,0,0,0,0,0,0,0,0,0,0,0,0,0,0,0,0,0,0,0,0,0,0,0,0,0,0,0,0,0,0,0,0,0,0,0,0,{"$f":"IF(RU$1>$I92,0,\n  IF(RU$1<$G92,0,\n  IF(AND(RU$1>$G92,RU$1<$H92),14+$J92,\n  IF(AND(RU$1>$H92,RU$1<$I92),4+$J92,\n  IF(AND(RU$1=$G92,RU$1<>$H92,RU$1<>$I92),11+$J92,\n  IF(AND(RU$1<>$G92,RU$1=$H92,RU$1<>$I92),12+$J92,\n  IF(AND(RU$1<>$G92,RU$1<>$H92,RU$1=$I92),2+$J92,\n  IF(AND(RU$1=$G92,RU$1=$H92,RU$1<>$I92,$F92<>0),13+$J92,\n  IF(AND(RU$1=$G92,RU$1=$H92,RU$1<>$I92,$F92=0),1+$J92,\n  IF(AND(RU$1<>$G92,RU$1=$H92,RU$1=$I92),12+$J92,\n  IF(AND(RU$1=$G92,RU$1=$H92,RU$1=$I92,$F92<=0.5),3+$J92,13+$J92)))))))))))","v":0},0,0,0,0,0,0,0,0,0,0,0,0,0,0,0,0,0,0,0,0,0,0,null,{"$f":"IF(gIsItPlan,IF(AND(System!Z88,System!AA88),1,0),IF(AND(System!Z88,System!AB88),1,0))","v":0}]
[null,{"$f":"IF($SS93,IF(E93=1,System!B89,\"   \"&System!B89),\"\")","v":""},{"$f":"IF($SS93,IF(gIsItPlan,System!F89,System!I89),\"\")","v":""},{"$f":"IF($SS93,IF(gIsItPlan,System!G89,System!J89),\"\")","v":""},{"$f":"System!C89","v":0},{"$f":"System!L89","v":0},0,0,0,20,null,0,0,0,0,0,0,0,0,0,0,0,0,0,0,0,{"$f":"IF(AA$1>$I93,0,\n  IF(AA$1<$G93,0,\n  IF(AND(AA$1>$G93,AA$1<$H93),14+$J93,\n  IF(AND(AA$1>$H93,AA$1<$I93),4+$J93,\n  IF(AND(AA$1=$G93,AA$1<>$H93,AA$1<>$I93),11+$J93,\n  IF(AND(AA$1<>$G93,AA$1=$H93,AA$1<>$I93),12+$J93,\n  IF(AND(AA$1<>$G93,AA$1<>$H93,AA$1=$I93),2+$J93,\n  IF(AND(AA$1=$G93,AA$1=$H93,AA$1<>$I93,$F93<>0),13+$J93,\n  IF(AND(AA$1=$G93,AA$1=$H93,AA$1<>$I93,$F93=0),1+$J93,\n  IF(AND(AA$1<>$G93,AA$1=$H93,AA$1=$I93),12+$J93,\n  IF(AND(AA$1=$G93,AA$1=$H93,AA$1=$I93,$F93<=0.5),3+$J93,13+$J93)))))))))))","v":0},0,0,0,0,0,0,0,0,0,0,0,0,0,0,0,0,0,0,0,0,0,0,0,0,0,0,0,0,0,0,0,0,0,0,0,0,0,0,0,0,0,0,0,0,0,0,0,0,0,0,0,0,0,0,0,0,0,0,0,0,0,0,0,0,0,0,0,0,0,0,0,0,0,0,0,0,0,0,0,0,0,0,0,0,0,0,0,0,0,0,0,0,0,0,0,0,0,0,0,0,0,0,0,0,0,0,0,0,0,0,0,0,0,0,0,0,0,0,0,0,0,0,0,0,0,0,0,0,0,0,0,0,0,0,0,0,0,0,0,0,0,0,0,0,0,0,0,0,0,0,0,0,0,0,0,0,0,0,0,0,0,0,0,0,0,0,0,0,0,0,0,0,0,0,0,0,0,0,0,0,0,0,0,0,0,0,0,0,0,0,0,0,0,0,0,0,0,0,0,0,0,0,0,0,0,0,0,0,0,0,0,0,0,0,0,0,0,0,0,0,0,0,0,0,0,0,0,0,0,0,0,0,0,0,0,0,0,0,0,0,0,0,0,0,0,0,0,0,0,0,0,0,0,0,0,0,0,0,0,0,0,0,0,0,0,0,0,0,0,0,0,0,0,0,0,0,0,0,0,0,0,0,0,0,0,0,0,0,0,0,0,0,0,0,0,0,0,0,0,0,0,0,0,0,0,0,0,0,0,0,0,0,0,0,0,0,0,0,0,0,0,0,0,0,0,0,0,0,0,0,0,0,0,0,0,0,0,0,0,0,0,0,0,0,0,0,0,0,0,0,0,0,0,0,0,0,0,0,0,0,0,0,0,0,0,0,0,0,0,0,0,0,0,0,0,0,0,0,0,0,0,0,0,0,0,0,0,0,0,0,0,0,0,0,0,0,0,0,0,0,0,0,0,0,0,0,0,0,0,0,0,0,0,0,0,0,0,0,0,0,0,0,0,0,0,0,0,0,0,0,0,0,0,0,0,0,0,0,0,0,0,0,0,0,0,0,0,0,0,0,0,0,0,0,0,0,0,0,0,0,0,0,0,0,0,0,0,0,0,0,0,0,0,0,0,0,0,0,0,0,0,0,0,0,null,{"$f":"IF(gIsItPlan,IF(AND(System!Z89,System!AA89),1,0),IF(AND(System!Z89,System!AB89),1,0))","v":0}]
[null,{"$f":"IF($SS94,IF(E94=1,System!B90,\"   \"&System!B90),\"\")","v":""},{"$f":"IF($SS94,IF(gIsItPlan,System!F90,System!I90),\"\")","v":""},{"$f":"IF($SS94,IF(gIsItPlan,System!G90,System!J90),\"\")","v":""},{"$f":"System!C90","v":0},{"$f":"System!L90","v":0},0,0,0,20,null,{"$f":"IF(L$1>$I94,0,\n  IF(L$1<$G94,0,\n  IF(AND(L$1>$G94,L$1<$H94),14+$J94,\n  IF(AND(L$1>$H94,L$1<$I94),4+$J94,\n  IF(AND(L$1=$G94,L$1<>$H94,L$1<>$I94),11+$J94,\n  IF(AND(L$1<>$G94,L$1=$H94,L$1<>$I94),12+$J94,\n  IF(AND(L$1<>$G94,L$1<>$H94,L$1=$I94),2+$J94,\n  IF(AND(L$1=$G94,L$1=$H94,L$1<>$I94,$F94<>0),13+$J94,\n  IF(AND(L$1=$G94,L$1=$H94,L$1<>$I94,$F94=0),1+$J94,\n  IF(AND(L$1<>$G94,L$1=$H94,L$1=$I94),12+$J94,\n  IF(AND(L$1=$G94,L$1=$H94,L$1=$I94,$F94<=0.5),3+$J94,13+$J94)))))))))))","v":0},0,0,0,0,0,0,0,0,0,0,0,0,0,0,0,0,0,0,0,0,0,0,0,0,0,0,0,0,0,0,0,0,0,0,0,0,0,0,0,0,0,0,0,0,0,0,0,0,0,0,0,0,0,0,0,0,0,0,0,0,0,0,0,0,0,0,0,0,0,0,0,0,0,0,0,0,0,0,0,0,0,0,0,0,0,0,0,0,0,0,0,0,0,0,0,0,0,0,0,0,0,0,0,0,0,0,0,0,0,0,0,0,0,0,0,0,0,0,0,0,0,0,0,0,0,0,0,0,0,0,0,0,0,0,0,0,0,0,0,0,0,0,0,0,0,0,0,0,0,0,0,0,0,0,0,0,0,0,0,0,0,0,0,0,0,0,0,0,0,0,0,0,0,0,0,0,0,0,0,0,0,0,0,0,0,0,0,0,{"$f":"IF(GS$1>$I94,0,\n  IF(GS$1<$G94,0,\n  IF(AND(GS$1>$G94,GS$1<$H94),14+$J94,\n  IF(AND(GS$1>$H94,GS$1<$I94),4+$J94,\n  IF(AND(GS$1=$G94,GS$1<>$H94,GS$1<>$I94),11+$J94,\n  IF(AND(GS$1<>$G94,GS$1=$H94,GS$1<>$I94),12+$J94,\n  IF(AND(GS$1<>$G94,GS$1<>$H94,GS$1=$I94),2+$J94,\n  IF(AND(GS$1=$G94,GS$1=$H94,GS$1<>$I94,$F94<>0),13+$J94,\n  IF(AND(GS$1=$G94,GS$1=$H94,GS$1<>$I94,$F94=0),1+$J94,\n  IF(AND(GS$1<>$G94,GS$1=$H94,GS$1=$I94),12+$J94,\n  IF(AND(GS$1=$G94,GS$1=$H94,GS$1=$I94,$F94<=0.5),3+$J94,13+$J94)))))))))))","v":0},0,0,0,0,0,0,0,0,0,0,0,0,0,0,0,0,0,0,0,0,0,0,0,0,0,0,0,0,0,0,0,0,0,0,0,0,0,0,0,0,0,0,0,0,0,0,0,0,0,0,0,0,0,0,0,0,0,0,0,0,0,0,0,0,0,0,0,0,0,0,0,0,0,0,0,0,0,0,0,0,0,0,0,0,0,0,0,0,0,0,0,0,0,0,0,0,0,0,0,0,0,0,0,0,0,0,0,0,0,0,0,0,0,0,0,0,0,0,0,0,0,0,0,0,0,0,0,0,0,0,0,0,0,0,0,0,0,0,0,0,0,0,0,0,0,0,0,0,0,0,0,0,0,0,0,0,0,0,0,0,0,0,0,0,0,0,0,0,0,0,0,0,0,0,0,0,0,0,0,0,0,0,0,0,0,0,0,0,0,0,0,0,0,0,0,0,0,0,0,0,0,0,0,0,0,0,0,0,0,0,0,0,0,0,0,0,0,0,0,0,0,0,0,0,0,0,0,0,0,0,0,0,0,0,0,0,0,0,0,0,0,0,0,0,0,0,0,0,0,0,0,0,0,0,0,0,0,0,0,0,0,0,0,0,0,0,0,0,0,0,0,0,0,0,0,0,0,0,0,0,0,0,0,0,0,0,0,0,0,0,0,0,0,0,0,0,0,0,0,0,0,0,0,0,0,0,0,0,0,0,null,{"$f":"IF(gIsItPlan,IF(AND(System!Z90,System!AA90),1,0),IF(AND(System!Z90,System!AB90),1,0))","v":0}]
[null,{"$f":"IF($SS95,IF(E95=1,System!B91,\"   \"&System!B91),\"\")","v":""},{"$f":"IF($SS95,IF(gIsItPlan,System!F91,System!I91),\"\")","v":""},{"$f":"IF($SS95,IF(gIsItPlan,System!G91,System!J91),\"\")","v":""},{"$f":"System!C91","v":0},{"$f":"System!L91","v":0},0,0,0,20,null,0,0,0,0,0,0,0,0,0,0,0,0,0,0,0,0,0,0,0,0,0,0,0,0,0,0,0,0,0,0,0,0,0,0,0,0,0,0,0,0,0,0,0,0,0,0,0,0,0,0,0,0,0,0,0,0,0,0,0,0,0,0,0,0,0,0,0,0,0,0,0,0,0,0,0,0,0,0,0,0,0,0,0,0,0,0,0,0,0,0,0,0,0,0,0,0,0,0,0,0,0,0,0,0,0,0,0,0,0,0,0,0,0,0,0,0,0,0,0,0,0,0,0,0,0,0,0,0,0,0,0,0,0,0,0,0,0,0,0,0,0,0,0,0,0,0,0,0,0,0,0,0,0,0,0,0,0,0,0,0,0,0,0,0,0,0,0,0,0,0,0,0,0,0,{"$f":"IF(GD$1>$I95,0,\n  IF(GD$1<$G95,0,\n  IF(AND(GD$1>$G95,GD$1<$H95),14+$J95,\n  IF(AND(GD$1>$H95,GD$1<$I95),4+$J95,\n  IF(AND(GD$1=$G95,GD$1<>$H95,GD$1<>$I95),11+$J95,\n  IF(AND(GD$1<>$G95,GD$1=$H95,GD$1<>$I95),12+$J95,\n  IF(AND(GD$1<>$G95,GD$1<>$H95,GD$1=$I95),2+$J95,\n  IF(AND(GD$1=$G95,GD$1=$H95,GD$1<>$I95,$F95<>0),13+$J95,\n  IF(AND(GD$1=$G95,GD$1=$H95,GD$1<>$I95,$F95=0),1+$J95,\n  IF(AND(GD$1<>$G95,GD$1=$H95,GD$1=$I95),12+$J95,\n  IF(AND(GD$1=$G95,GD$1=$H95,GD$1=$I95,$F95<=0.5),3+$J95,13+$J95)))))))))))","v":0},0,0,0,0,0,0,0,0,0,0,0,0,0,0,0,0,0,0,0,0,0,0,0,0,0,0,0,0,0,0,0,0,0,0,0,0,0,0,0,0,0,0,0,0,0,0,0,0,0,0,0,0,0,0,0,0,0,0,0,0,0,0,0,0,0,0,0,0,0,0,0,0,0,0,0,0,0,0,0,0,0,0,0,0,0,0,0,0,0,0,0,0,0,0,0,0,0,0,0,0,0,0,0,0,0,0,0,0,0,0,0,0,0,0,0,0,0,0,0,0,0,0,0,0,0,0,0,0,0,0,0,0,0,0,0,0,0,0,0,0,0,0,0,0,0,0,0,0,0,0,0,0,0,0,0,0,0,0,0,0,0,0,0,0,0,0,0,0,0,0,0,0,0,0,0,0,0,0,0,0,0,0,0,0,0,0,0,0,0,0,0,0,0,0,0,0,0,0,0,0,0,0,0,0,0,0,0,0,0,0,0,0,0,0,0,0,0,0,0,0,0,0,0,0,0,0,0,0,0,0,0,0,0,0,0,0,0,0,0,0,0,0,0,0,0,0,0,0,0,0,0,0,0,0,0,0,0,0,0,0,0,0,0,0,0,0,0,0,0,0,0,0,0,0,0,0,0,0,0,0,0,0,{"$f":"IF(RA$1>$I95,0,\n  IF(RA$1<$G95,0,\n  IF(AND(RA$1>$G95,RA$1<$H95),14+$J95,\n  IF(AND(RA$1>$H95,RA$1<$I95),4+$J95,\n  IF(AND(RA$1=$G95,RA$1<>$H95,RA$1<>$I95),11+$J95,\n  IF(AND(RA$1<>$G95,RA$1=$H95,RA$1<>$I95),12+$J95,\n  IF(AND(RA$1<>$G95,RA$1<>$H95,RA$1=$I95),2+$J95,\n  IF(AND(RA$1=$G95,RA$1=$H95,RA$1<>$I95,$F95<>0),13+$J95,\n  IF(AND(RA$1=$G95,RA$1=$H95,RA$1<>$I95,$F95=0),1+$J95,\n  IF(AND(RA$1<>$G95,RA$1=$H95,RA$1=$I95),12+$J95,\n  IF(AND(RA$1=$G95,RA$1=$H95,RA$1=$I95,$F95<=0.5),3+$J95,13+$J95)))))))))))","v":0},0,0,0,0,0,0,0,0,0,0,0,0,0,0,0,0,0,0,0,0,0,0,0,0,0,0,0,0,0,0,0,0,0,0,0,0,0,0,0,0,0,0,null,{"$f":"IF(gIsItPlan,IF(AND(System!Z91,System!AA91),1,0),IF(AND(System!Z91,System!AB91),1,0))","v":0}]
[null,{"$f":"IF($SS96,IF(E96=1,System!B92,\"   \"&System!B92),\"\")","v":""},{"$f":"IF($SS96,IF(gIsItPlan,System!F92,System!I92),\"\")","v":""},{"$f":"IF($SS96,IF(gIsItPlan,System!G92,System!J92),\"\")","v":""},{"$f":"System!C92","v":0},{"$f":"System!L92","v":0},0,0,0,20,null,0,0,0,0,0,0,0,0,0,0,0,0,0,0,0,0,0,0,0,0,0,0,0,0,0,0,0,0,0,0,0,0,0,0,0,0,0,0,0,0,0,0,0,0,0,0,{"$f":"IF(BF$1>$I96,0,\n  IF(BF$1<$G96,0,\n  IF(AND(BF$1>$G96,BF$1<$H96),14+$J96,\n  IF(AND(BF$1>$H96,BF$1<$I96),4+$J96,\n  IF(AND(BF$1=$G96,BF$1<>$H96,BF$1<>$I96),11+$J96,\n  IF(AND(BF$1<>$G96,BF$1=$H96,BF$1<>$I96),12+$J96,\n  IF(AND(BF$1<>$G96,BF$1<>$H96,BF$1=$I96),2+$J96,\n  IF(AND(BF$1=$G96,BF$1=$H96,BF$1<>$I96,$F96<>0),13+$J96,\n  IF(AND(BF$1=$G96,BF$1=$H96,BF$1<>$I96,$F96=0),1+$J96,\n  IF(AND(BF$1<>$G96,BF$1=$H96,BF$1=$I96),12+$J96,\n  IF(AND(BF$1=$G96,BF$1=$H96,BF$1=$I96,$F96<=0.5),3+$J96,13+$J96)))))))))))","v":0},0,0,0,0,0,0,0,0,0,0,0,0,0,0,0,0,0,0,0,0,0,0,0,0,0,0,0,0,0,0,0,0,0,0,0,0,0,0,0,0,0,0,0,0,0,0,0,0,0,0,0,0,0,0,0,0,0,0,0,0,0,0,0,0,0,0,0,0,0,0,0,0,0,0,0,0,0,0,0,0,0,0,0,0,0,0,0,0,0,0,0,0,0,0,0,0,0,0,0,0,0,0,0,0,0,0,0,0,0,0,0,0,0,0,0,0,0,0,0,0,0,0,0,0,0,0,0,0,0,0,0,0,0,0,0,0,0,0,0,0,0,0,0,0,0,0,0,0,0,0,0,0,0,0,0,0,0,0,0,0,0,0,0,0,0,0,0,0,0,0,0,0,0,0,{"$f":"IF(HY$1>$I96,0,\n  IF(HY$1<$G96,0,\n  IF(AND(HY$1>$G96,HY$1<$H96),14+$J96,\n  IF(AND(HY$1>$H96,HY$1<$I96),4+$J96,\n  IF(AND(HY$1=$G96,HY$1<>$H96,HY$1<>$I96),11+$J96,\n  IF(AND(HY$1<>$G96,HY$1=$H96,HY$1<>$I96),12+$J96,\n  IF(AND(HY$1<>$G96,HY$1<>$H96,HY$1=$I96),2+$J96,\n  IF(AND(HY$1=$G96,HY$1=$H96,HY$1<>$I96,$F96<>0),13+$J96,\n  IF(AND(HY$1=$G96,HY$1=$H96,HY$1<>$I96,$F96=0),1+$J96,\n  IF(AND(HY$1<>$G96,HY$1=$H96,HY$1=$I96),12+$J96,\n  IF(AND(HY$1=$G96,HY$1=$H96,HY$1=$I96,$F96<=0.5),3+$J96,13+$J96)))))))))))","v":0},0,0,0,0,0,0,0,0,0,0,0,0,0,0,0,0,0,0,0,0,0,0,0,0,0,0,0,0,0,0,0,0,0,0,0,0,0,0,0,0,0,0,0,0,0,0,0,0,0,0,0,0,0,0,0,0,0,0,0,0,0,0,0,0,0,0,0,0,0,0,0,0,0,0,0,0,0,0,0,0,0,0,0,0,0,0,0,0,0,0,0,0,0,0,0,0,0,0,0,0,0,0,0,0,0,0,0,0,0,0,0,0,0,0,0,0,0,0,0,0,0,0,0,0,0,0,0,0,0,0,0,0,0,0,0,0,0,0,0,0,0,0,0,0,0,0,0,0,0,0,0,0,0,0,0,0,0,0,0,0,0,0,0,0,0,0,0,0,0,0,0,0,0,0,0,0,0,0,0,0,0,0,0,0,0,0,0,0,0,0,0,0,0,0,0,0,0,0,0,0,0,0,0,0,0,0,0,0,0,0,0,0,0,0,0,0,0,0,0,0,0,{"$f":"IF(QM$1>$I96,0,\n  IF(QM$1<$G96,0,\n  IF(AND(QM$1>$G96,QM$1<$H96),14+$J96,\n  IF(AND(QM$1>$H96,QM$1<$I96),4+$J96,\n  IF(AND(QM$1=$G96,QM$1<>$H96,QM$1<>$I96),11+$J96,\n  IF(AND(QM$1<>$G96,QM$1=$H96,QM$1<>$I96),12+$J96,\n  IF(AND(QM$1<>$G96,QM$1<>$H96,QM$1=$I96),2+$J96,\n  IF(AND(QM$1=$G96,QM$1=$H96,QM$1<>$I96,$F96<>0),13+$J96,\n  IF(AND(QM$1=$G96,QM$1=$H96,QM$1<>$I96,$F96=0),1+$J96,\n  IF(AND(QM$1<>$G96,QM$1=$H96,QM$1=$I96),12+$J96,\n  IF(AND(QM$1=$G96,QM$1=$H96,QM$1=$I96,$F96<=0.5),3+$J96,13+$J96)))))))))))","v":0},0,0,0,0,0,0,0,0,0,0,0,0,0,0,0,0,0,0,0,0,0,0,0,0,0,0,0,0,0,0,0,0,0,0,0,0,0,0,0,0,0,0,0,0,0,0,0,0,0,0,0,0,0,0,0,0,null,{"$f":"IF(gIsItPlan,IF(AND(System!Z92,System!AA92),1,0),IF(AND(System!Z92,System!AB92),1,0))","v":0}]
[null,{"$f":"IF($SS97,IF(E97=1,System!B93,\"   \"&System!B93),\"\")","v":""},{"$f":"IF($SS97,IF(gIsItPlan,System!F93,System!I93),\"\")","v":""},{"$f":"IF($SS97,IF(gIsItPlan,System!G93,System!J93),\"\")","v":""},{"$f":"System!C93","v":0},{"$f":"System!L93","v":0},0,0,0,20,null,0,0,0,0,0,0,0,0,0,0,0,0,0,0,0,0,0,0,0,0,0,0,0,0,0,0,0,0,0,0,0,{"$f":"IF(AQ$1>$I97,0,\n  IF(AQ$1<$G97,0,\n  IF(AND(AQ$1>$G97,AQ$1<$H97),14+$J97,\n  IF(AND(AQ$1>$H97,AQ$1<$I97),4+$J97,\n  IF(AND(AQ$1=$G97,AQ$1<>$H97,AQ$1<>$I97),11+$J97,\n  IF(AND(AQ$1<>$G97,AQ$1=$H97,AQ$1<>$I97),12+$J97,\n  IF(AND(AQ$1<>$G97,AQ$1<>$H97,AQ$1=$I97),2+$J97,\n  IF(AND(AQ$1=$G97,AQ$1=$H97,AQ$1<>$I97,$F97<>0),13+$J97,\n  IF(AND(AQ$1=$G97,AQ$1=$H97,AQ$1<>$I97,$F97=0),1+$J97,\n  IF(AND(AQ$1<>$G97,AQ$1=$H97,AQ$1=$I97),12+$J97,\n  IF(AND(AQ$1=$G97,AQ$1=$H97,AQ$1=$I97,$F97<=0.5),3+$J97,13+$J97)))))))))))","v":0},0,0,0,0,0,0,0,0,0,0,0,0,0,0,0,0,0,0,0,0,0,0,0,0,0,0,0,0,0,0,0,0,0,0,0,0,{"$f":"IF(CB$1>$I97,0,\n  IF(CB$1<$G97,0,\n  IF(AND(CB$1>$G97,CB$1<$H97),14+$J97,\n  IF(AND(CB$1>$H97,CB$1<$I97),4+$J97,\n  IF(AND(CB$1=$G97,CB$1<>$H97,CB$1<>$I97),11+$J97,\n  IF(AND(CB$1<>$G97,CB$1=$H97,CB$1<>$I97),12+$J97,\n  IF(AND(CB$1<>$G97,CB$1<>$H97,CB$1=$I97),2+$J97,\n  IF(AND(CB$1=$G97,CB$1=$H97,CB$1<>$I97,$F97<>0),13+$J97,\n  IF(AND(CB$1=$G97,CB$1=$H97,CB$1<>$I97,$F97=0),1+$J97,\n  IF(AND(CB$1<>$G97,CB$1=$H97,CB$1=$I97),12+$J97,\n  IF(AND(CB$1=$G97,CB$1=$H97,CB$1=$I97,$F97<=0.5),3+$J97,13+$J97)))))))))))","v":0},0,0,0,0,0,0,0,0,0,0,0,0,0,0,0,0,0,0,0,0,0,0,0,0,0,0,0,0,0,0,0,0,0,0,0,0,0,0,0,0,0,0,0,0,0,0,0,0,0,0,0,0,0,0,0,0,0,0,0,0,0,0,0,0,0,0,0,0,0,0,0,0,0,0,0,0,0,0,0,0,0,0,0,0,0,0,0,0,0,0,0,0,0,0,0,0,0,0,0,0,0,0,0,0,0,0,0,0,0,0,0,0,0,0,0,0,0,0,0,0,0,0,0,0,0,0,0,0,0,{"$f":"IF(HB$1>$I97,0,\n  IF(HB$1<$G97,0,\n  IF(AND(HB$1>$G97,HB$1<$H97),14+$J97,\n  IF(AND(HB$1>$H97,HB$1<$I97),4+$J97,\n  IF(AND(HB$1=$G97,HB$1<>$H97,HB$1<>$I97),11+$J97,\n  IF(AND(HB$1<>$G97,HB$1=$H97,HB$1<>$I97),12+$J97,\n  IF(AND(HB$1<>$G97,HB$1<>$H97,HB$1=$I97),2+$J97,\n  IF(AND(HB$1=$G97,HB$1=$H97,HB$1<>$I97,$F97<>0),13+$J97,\n  IF(AND(HB$1=$G97,HB$1=$H97,HB$1<>$I97,$F97=0),1+$J97,\n  IF(AND(HB$1<>$G97,HB$1=$H97,HB$1=$I97),12+$J97,\n  IF(AND(HB$1=$G97,HB$1=$H97,HB$1=$I97,$F97<=0.5),3+$J97,13+$J97)))))))))))","v":0},0,0,0,0,0,0,0,0,0,0,0,0,0,0,0,{"$f":"IF(HR$1>$I97,0,\n  IF(HR$1<$G97,0,\n  IF(AND(HR$1>$G97,HR$1<$H97),14+$J97,\n  IF(AND(HR$1>$H97,HR$1<$I97),4+$J97,\n  IF(AND(HR$1=$G97,HR$1<>$H97,HR$1<>$I97),11+$J97,\n  IF(AND(HR$1<>$G97,HR$1=$H97,HR$1<>$I97),12+$J97,\n  IF(AND(HR$1<>$G97,HR$1<>$H97,HR$1=$I97),2+$J97,\n  IF(AND(HR$1=$G97,HR$1=$H97,HR$1<>$I97,$F97<>0),13+$J97,\n  IF(AND(HR$1=$G97,HR$1=$H97,HR$1<>$I97,$F97=0),1+$J97,\n  IF(AND(HR$1<>$G97,HR$1=$H97,HR$1=$I97),12+$J97,\n  IF(AND(HR$1=$G97,HR$1=$H97,HR$1=$I97,$F97<=0.5),3+$J97,13+$J97)))))))))))","v":0},0,0,0,0,0,0,0,0,0,0,0,0,0,0,0,0,0,0,0,0,0,0,0,0,0,0,0,0,0,0,0,0,0,0,0,0,0,0,0,0,0,0,0,0,0,0,0,0,0,0,0,0,0,0,0,0,0,0,0,0,0,0,0,0,0,0,0,0,0,0,0,0,0,0,0,0,0,0,0,0,0,0,0,0,0,0,0,0,0,0,0,0,0,0,0,0,0,0,0,0,0,0,0,0,0,0,0,0,0,0,0,0,0,0,0,0,0,0,0,0,0,0,0,0,0,0,0,0,0,0,0,0,0,0,0,0,0,0,0,0,0,0,0,0,0,0,0,0,0,0,0,0,0,0,0,0,0,0,0,0,0,0,0,0,0,0,0,0,0,0,0,0,0,0,0,0,0,0,0,0,0,0,0,0,0,0,0,0,0,0,0,0,0,0,0,0,0,0,0,0,0,0,0,0,0,0,0,0,0,0,0,0,0,0,0,0,0,0,0,0,0,0,0,0,0,0,0,0,0,0,0,0,0,0,0,0,0,0,0,0,0,0,0,0,0,0,0,0,0,0,0,0,0,0,0,0,0,0,0,0,0,0,0,0,0,0,0,0,0,0,0,0,0,0,0,0,0,0,0,0,0,0,0,0,0,null,{"$f":"IF(gIsItPlan,IF(AND(System!Z93,System!AA93),1,0),IF(AND(System!Z93,System!AB93),1,0))","v":0}]
[null,{"$f":"IF($SS98,IF(E98=1,System!B94,\"   \"&System!B94),\"\")","v":""},{"$f":"IF($SS98,IF(gIsItPlan,System!F94,System!I94),\"\")","v":""},{"$f":"IF($SS98,IF(gIsItPlan,System!G94,System!J94),\"\")","v":""},{"$f":"System!C94","v":0},{"$f":"System!L94","v":0},0,0,0,20,null,0,0,0,0,0,0,0,0,0,0,0,0,0,0,0,0,0,0,0,0,0,0,0,0,0,0,0,0,0,0,0,0,0,0,0,0,0,0,0,0,0,0,0,0,0,0,0,0,0,0,0,0,0,0,0,0,0,0,0,0,0,0,{"$f":"IF(BV$1>$I98,0,\n  IF(BV$1<$G98,0,\n  IF(AND(BV$1>$G98,BV$1<$H98),14+$J98,\n  IF(AND(BV$1>$H98,BV$1<$I98),4+$J98,\n  IF(AND(BV$1=$G98,BV$1<>$H98,BV$1<>$I98),11+$J98,\n  IF(AND(BV$1<>$G98,BV$1=$H98,BV$1<>$I98),12+$J98,\n  IF(AND(BV$1<>$G98,BV$1<>$H98,BV$1=$I98),2+$J98,\n  IF(AND(BV$1=$G98,BV$1=$H98,BV$1<>$I98,$F98<>0),13+$J98,\n  IF(AND(BV$1=$G98,BV$1=$H98,BV$1<>$I98,$F98=0),1+$J98,\n  IF(AND(BV$1<>$G98,BV$1=$H98,BV$1=$I98),12+$J98,\n  IF(AND(BV$1=$G98,BV$1=$H98,BV$1=$I98,$F98<=0.5),3+$J98,13+$J98)))))))))))","v":0},0,0,0,0,0,0,0,0,0,0,0,0,0,0,0,0,0,0,0,0,0,0,0,0,0,0,0,0,0,0,0,0,0,0,0,0,0,0,0,0,0,0,0,0,0,0,0,0,0,0,0,0,0,0,0,0,0,0,0,0,0,0,0,0,0,0,0,{"$f":"IF(EL$1>$I98,0,\n  IF(EL$1<$G98,0,\n  IF(AND(EL$1>$G98,EL$1<$H98),14+$J98,\n  IF(AND(EL$1>$H98,EL$1<$I98),4+$J98,\n  IF(AND(EL$1=$G98,EL$1<>$H98,EL$1<>$I98),11+$J98,\n  IF(AND(EL$1<>$G98,EL$1=$H98,EL$1<>$I98),12+$J98,\n  IF(AND(EL$1<>$G98,EL$1<>$H98,EL$1=$I98),2+$J98,\n  IF(AND(EL$1=$G98,EL$1=$H98,EL$1<>$I98,$F98<>0),13+$J98,\n  IF(AND(EL$1=$G98,EL$1=$H98,EL$1<>$I98,$F98=0),1+$J98,\n  IF(AND(EL$1<>$G98,EL$1=$H98,EL$1=$I98),12+$J98,\n  IF(AND(EL$1=$G98,EL$1=$H98,EL$1=$I98,$F98<=0.5),3+$J98,13+$J98)))))))))))","v":0},0,0,0,0,0,0,0,0,0,0,0,0,0,0,0,0,0,0,0,0,0,0,0,0,0,0,0,0,0,0,0,0,0,0,0,0,0,0,0,0,0,0,0,0,0,0,0,0,0,0,0,0,0,0,0,0,0,0,0,0,0,0,0,0,0,0,0,0,0,0,0,0,0,0,0,0,0,0,0,0,0,0,0,0,0,0,0,0,0,0,0,0,0,0,0,0,0,0,0,0,0,0,0,0,0,0,0,0,0,0,0,0,0,0,0,0,0,0,0,0,0,0,0,0,0,{"$f":"IF(JH$1>$I98,0,\n  IF(JH$1<$G98,0,\n  IF(AND(JH$1>$G98,JH$1<$H98),14+$J98,\n  IF(AND(JH$1>$H98,JH$1<$I98),4+$J98,\n  IF(AND(JH$1=$G98,JH$1<>$H98,JH$1<>$I98),11+$J98,\n  IF(AND(JH$1<>$G98,JH$1=$H98,JH$1<>$I98),12+$J98,\n  IF(AND(JH$1<>$G98,JH$1<>$H98,JH$1=$I98),2+$J98,\n  IF(AND(JH$1=$G98,JH$1=$H98,JH$1<>$I98,$F98<>0),13+$J98,\n  IF(AND(JH$1=$G98,JH$1=$H98,JH$1<>$I98,$F98=0),1+$J98,\n  IF(AND(JH$1<>$G98,JH$1=$H98,JH$1=$I98),12+$J98,\n  IF(AND(JH$1=$G98,JH$1=$H98,JH$1=$I98,$F98<=0.5),3+$J98,13+$J98)))))))))))","v":0},0,0,0,0,0,0,0,0,0,0,0,0,0,0,0,0,0,0,0,0,0,0,0,0,0,0,0,0,0,0,0,0,0,0,0,0,0,0,0,0,0,0,0,0,0,0,0,0,0,0,0,0,0,0,0,0,0,0,0,0,0,0,0,{"$f":"IF(LT$1>$I98,0,\n  IF(LT$1<$G98,0,\n  IF(AND(LT$1>$G98,LT$1<$H98),14+$J98,\n  IF(AND(LT$1>$H98,LT$1<$I98),4+$J98,\n  IF(AND(LT$1=$G98,LT$1<>$H98,LT$1<>$I98),11+$J98,\n  IF(AND(LT$1<>$G98,LT$1=$H98,LT$1<>$I98),12+$J98,\n  IF(AND(LT$1<>$G98,LT$1<>$H98,LT$1=$I98),2+$J98,\n  IF(AND(LT$1=$G98,LT$1=$H98,LT$1<>$I98,$F98<>0),13+$J98,\n  IF(AND(LT$1=$G98,LT$1=$H98,LT$1<>$I98,$F98=0),1+$J98,\n  IF(AND(LT$1<>$G98,LT$1=$H98,LT$1=$I98),12+$J98,\n  IF(AND(LT$1=$G98,LT$1=$H98,LT$1=$I98,$F98<=0.5),3+$J98,13+$J98)))))))))))","v":0},0,0,0,0,0,0,0,0,0,0,0,0,0,0,0,0,0,0,0,0,0,0,0,0,0,0,0,0,0,0,0,0,0,0,0,0,0,0,0,0,0,0,0,0,0,0,0,0,0,0,0,0,0,0,0,0,0,0,0,0,0,0,0,{"$f":"IF(OF$1>$I98,0,\n  IF(OF$1<$G98,0,\n  IF(AND(OF$1>$G98,OF$1<$H98),14+$J98,\n  IF(AND(OF$1>$H98,OF$1<$I98),4+$J98,\n  IF(AND(OF$1=$G98,OF$1<>$H98,OF$1<>$I98),11+$J98,\n  IF(AND(OF$1<>$G98,OF$1=$H98,OF$1<>$I98),12+$J98,\n  IF(AND(OF$1<>$G98,OF$1<>$H98,OF$1=$I98),2+$J98,\n  IF(AND(OF$1=$G98,OF$1=$H98,OF$1<>$I98,$F98<>0),13+$J98,\n  IF(AND(OF$1=$G98,OF$1=$H98,OF$1<>$I98,$F98=0),1+$J98,\n  IF(AND(OF$1<>$G98,OF$1=$H98,OF$1=$I98),12+$J98,\n  IF(AND(OF$1=$G98,OF$1=$H98,OF$1=$I98,$F98<=0.5),3+$J98,13+$J98)))))))))))","v":0},0,0,0,0,0,0,0,0,0,0,0,0,0,0,0,0,0,0,0,0,0,0,0,0,0,0,0,0,0,0,0,0,0,0,0,0,0,0,0,0,0,0,0,0,0,0,0,0,0,0,0,0,0,0,0,0,0,0,0,0,0,0,0,0,0,0,0,0,0,0,0,0,0,0,0,0,0,0,0,0,0,0,0,0,0,0,0,0,0,0,0,0,0,0,0,0,0,0,0,0,0,0,0,0,0,0,0,0,0,0,0,0,0,0,0,null,{"$f":"IF(gIsItPlan,IF(AND(System!Z94,System!AA94),1,0),IF(AND(System!Z94,System!AB94),1,0))","v":0}]
[null,{"$f":"IF($SS99,IF(E99=1,System!B95,\"   \"&System!B95),\"\")","v":""},{"$f":"IF($SS99,IF(gIsItPlan,System!F95,System!I95),\"\")","v":""},{"$f":"IF($SS99,IF(gIsItPlan,System!G95,System!J95),\"\")","v":""},{"$f":"System!C95","v":0},{"$f":"System!L95","v":0},0,0,0,20,null,0,0,0,0,0,0,0,0,0,0,0,0,0,0,0,0,0,0,0,0,0,0,0,0,0,0,0,0,0,0,0,0,0,0,0,0,0,0,0,0,0,0,0,0,0,0,0,0,0,0,0,0,0,0,0,0,0,0,0,0,0,0,0,0,0,0,0,0,0,0,0,0,0,0,0,0,0,0,0,0,0,0,0,0,0,0,0,0,0,0,0,0,0,0,0,0,0,0,0,0,{"$f":"IF(DH$1>$I99,0,\n  IF(DH$1<$G99,0,\n  IF(AND(DH$1>$G99,DH$1<$H99),14+$J99,\n  IF(AND(DH$1>$H99,DH$1<$I99),4+$J99,\n  IF(AND(DH$1=$G99,DH$1<>$H99,DH$1<>$I99),11+$J99,\n  IF(AND(DH$1<>$G99,DH$1=$H99,DH$1<>$I99),12+$J99,\n  IF(AND(DH$1<>$G99,DH$1<>$H99,DH$1=$I99),2+$J99,\n  IF(AND(DH$1=$G99,DH$1=$H99,DH$1<>$I99,$F99<>0),13+$J99,\n  IF(AND(DH$1=$G99,DH$1=$H99,DH$1<>$I99,$F99=0),1+$J99,\n  IF(AND(DH$1<>$G99,DH$1=$H99,DH$1=$I99),12+$J99,\n  IF(AND(DH$1=$G99,DH$1=$H99,DH$1=$I99,$F99<=0.5),3+$J99,13+$J99)))))))))))","v":0},0,0,0,0,0,0,0,0,0,0,0,0,0,0,0,0,0,0,0,0,0,0,0,0,{"$f":"IF(EG$1>$I99,0,\n  IF(EG$1<$G99,0,\n  IF(AND(EG$1>$G99,EG$1<$H99),14+$J99,\n  IF(AND(EG$1>$H99,EG$1<$I99),4+$J99,\n  IF(AND(EG$1=$G99,EG$1<>$H99,EG$1<>$I99),11+$J99,\n  IF(AND(EG$1<>$G99,EG$1=$H99,EG$1<>$I99),12+$J99,\n  IF(AND(EG$1<>$G99,EG$1<>$H99,EG$1=$I99),2+$J99,\n  IF(AND(EG$1=$G99,EG$1=$H99,EG$1<>$I99,$F99<>0),13+$J99,\n  IF(AND(EG$1=$G99,EG$1=$H99,EG$1<>$I99,$F99=0),1+$J99,\n  IF(AND(EG$1<>$G99,EG$1=$H99,EG$1=$I99),12+$J99,\n  IF(AND(EG$1=$G99,EG$1=$H99,EG$1=$I99,$F99<=0.5),3+$J99,13+$J99)))))))))))","v":0},0,0,0,0,0,0,0,0,0,0,0,0,0,0,0,0,0,0,0,0,0,0,0,0,0,0,0,0,0,0,0,0,0,0,0,0,0,0,0,0,0,0,0,0,0,0,0,0,0,0,0,0,0,0,0,0,0,0,0,0,0,0,0,0,0,0,0,0,0,0,0,0,0,0,0,0,0,0,0,0,0,0,0,0,0,0,0,0,0,0,0,0,0,0,0,0,0,0,0,0,0,0,0,0,0,0,0,0,0,0,0,0,0,0,0,0,0,0,0,0,0,0,0,0,0,{"$f":"IF(JC$1>$I99,0,\n  IF(JC$1<$G99,0,\n  IF(AND(JC$1>$G99,JC$1<$H99),14+$J99,\n  IF(AND(JC$1>$H99,JC$1<$I99),4+$J99,\n  IF(AND(JC$1=$G99,JC$1<>$H99,JC$1<>$I99),11+$J99,\n  IF(AND(JC$1<>$G99,JC$1=$H99,JC$1<>$I99),12+$J99,\n  IF(AND(JC$1<>$G99,JC$1<>$H99,JC$1=$I99),2+$J99,\n  IF(AND(JC$1=$G99,JC$1=$H99,JC$1<>$I99,$F99<>0),13+$J99,\n  IF(AND(JC$1=$G99,JC$1=$H99,JC$1<>$I99,$F99=0),1+$J99,\n  IF(AND(JC$1<>$G99,JC$1=$H99,JC$1=$I99),12+$J99,\n  IF(AND(JC$1=$G99,JC$1=$H99,JC$1=$I99,$F99<=0.5),3+$J99,13+$J99)))))))))))","v":0},0,0,0,0,0,0,0,0,0,0,0,0,0,0,0,0,0,0,0,0,0,0,0,0,0,{"$f":"IF(KC$1>$I99,0,\n  IF(KC$1<$G99,0,\n  IF(AND(KC$1>$G99,KC$1<$H99),14+$J99,\n  IF(AND(KC$1>$H99,KC$1<$I99),4+$J99,\n  IF(AND(KC$1=$G99,KC$1<>$H99,KC$1<>$I99),11+$J99,\n  IF(AND(KC$1<>$G99,KC$1=$H99,KC$1<>$I99),12+$J99,\n  IF(AND(KC$1<>$G99,KC$1<>$H99,KC$1=$I99),2+$J99,\n  IF(AND(KC$1=$G99,KC$1=$H99,KC$1<>$I99,$F99<>0),13+$J99,\n  IF(AND(KC$1=$G99,KC$1=$H99,KC$1<>$I99,$F99=0),1+$J99,\n  IF(AND(KC$1<>$G99,KC$1=$H99,KC$1=$I99),12+$J99,\n  IF(AND(KC$1=$G99,KC$1=$H99,KC$1=$I99,$F99<=0.5),3+$J99,13+$J99)))))))))))","v":0},0,0,0,0,0,0,0,0,0,0,0,0,0,0,0,0,0,0,0,0,0,0,0,0,0,0,0,0,0,0,0,0,0,0,0,0,0,{"$f":"IF(LO$1>$I99,0,\n  IF(LO$1<$G99,0,\n  IF(AND(LO$1>$G99,LO$1<$H99),14+$J99,\n  IF(AND(LO$1>$H99,LO$1<$I99),4+$J99,\n  IF(AND(LO$1=$G99,LO$1<>$H99,LO$1<>$I99),11+$J99,\n  IF(AND(LO$1<>$G99,LO$1=$H99,LO$1<>$I99),12+$J99,\n  IF(AND(LO$1<>$G99,LO$1<>$H99,LO$1=$I99),2+$J99,\n  IF(AND(LO$1=$G99,LO$1=$H99,LO$1<>$I99,$F99<>0),13+$J99,\n  IF(AND(LO$1=$G99,LO$1=$H99,LO$1<>$I99,$F99=0),1+$J99,\n  IF(AND(LO$1<>$G99,LO$1=$H99,LO$1=$I99),12+$J99,\n  IF(AND(LO$1=$G99,LO$1=$H99,LO$1=$I99,$F99<=0.5),3+$J99,13+$J99)))))))))))","v":0},0,0,0,0,0,0,0,0,0,0,0,0,0,0,0,0,0,0,0,0,0,0,0,0,0,{"$f":"IF(MO$1>$I99,0,\n  IF(MO$1<$G99,0,\n  IF(AND(MO$1>$G99,MO$1<$H99),14+$J99,\n  IF(AND(MO$1>$H99,MO$1<$I99),4+$J99,\n  IF(AND(MO$1=$G99,MO$1<>$H99,MO$1<>$I99),11+$J99,\n  IF(AND(MO$1<>$G99,MO$1=$H99,MO$1<>$I99),12+$J99,\n  IF(AND(MO$1<>$G99,MO$1<>$H99,MO$1=$I99),2+$J99,\n  IF(AND(MO$1=$G99,MO$1=$H99,MO$1<>$I99,$F99<>0),13+$J99,\n  IF(AND(MO$1=$G99,MO$1=$H99,MO$1<>$I99,$F99=0),1+$J99,\n  IF(AND(MO$1<>$G99,MO$1=$H99,MO$1=$I99),12+$J99,\n  IF(AND(MO$1=$G99,MO$1=$H99,MO$1=$I99,$F99<=0.5),3+$J99,13+$J99)))))))))))","v":0},0,0,0,0,0,0,0,0,0,0,0,0,0,0,0,0,0,0,0,0,0,0,0,0,0,0,0,0,0,0,0,0,0,0,0,0,0,{"$f":"IF(OA$1>$I99,0,\n  IF(OA$1<$G99,0,\n  IF(AND(OA$1>$G99,OA$1<$H99),14+$J99,\n  IF(AND(OA$1>$H99,OA$1<$I99),4+$J99,\n  IF(AND(OA$1=$G99,OA$1<>$H99,OA$1<>$I99),11+$J99,\n  IF(AND(OA$1<>$G99,OA$1=$H99,OA$1<>$I99),12+$J99,\n  IF(AND(OA$1<>$G99,OA$1<>$H99,OA$1=$I99),2+$J99,\n  IF(AND(OA$1=$G99,OA$1=$H99,OA$1<>$I99,$F99<>0),13+$J99,\n  IF(AND(OA$1=$G99,OA$1=$H99,OA$1<>$I99,$F99=0),1+$J99,\n  IF(AND(OA$1<>$G99,OA$1=$H99,OA$1=$I99),12+$J99,\n  IF(AND(OA$1=$G99,OA$1=$H99,OA$1=$I99,$F99<=0.5),3+$J99,13+$J99)))))))))))","v":0},0,0,0,0,0,0,0,0,0,0,0,0,0,0,0,0,0,0,0,0,0,0,0,0,0,{"$f":"IF(PA$1>$I99,0,\n  IF(PA$1<$G99,0,\n  IF(AND(PA$1>$G99,PA$1<$H99),14+$J99,\n  IF(AND(PA$1>$H99,PA$1<$I99),4+$J99,\n  IF(AND(PA$1=$G99,PA$1<>$H99,PA$1<>$I99),11+$J99,\n  IF(AND(PA$1<>$G99,PA$1=$H99,PA$1<>$I99),12+$J99,\n  IF(AND(PA$1<>$G99,PA$1<>$H99,PA$1=$I99),2+$J99,\n  IF(AND(PA$1=$G99,PA$1=$H99,PA$1<>$I99,$F99<>0),13+$J99,\n  IF(AND(PA$1=$G99,PA$1=$H99,PA$1<>$I99,$F99=0),1+$J99,\n  IF(AND(PA$1<>$G99,PA$1=$H99,PA$1=$I99),12+$J99,\n  IF(AND(PA$1=$G99,PA$1=$H99,PA$1=$I99,$F99<=0.5),3+$J99,13+$J99)))))))))))","v":0},0,0,0,0,0,0,0,0,0,0,0,0,0,0,0,0,0,0,0,0,0,0,0,0,0,0,0,0,0,0,0,0,0,0,0,0,0,0,0,0,0,0,0,0,0,0,0,0,0,0,0,0,0,0,0,0,0,0,0,0,0,0,0,0,0,0,0,0,0,0,0,0,0,0,0,0,0,0,0,0,0,0,0,0,0,0,0,0,0,0,0,0,0,0,null,{"$f":"IF(gIsItPlan,IF(AND(System!Z95,System!AA95),1,0),IF(AND(System!Z95,System!AB95),1,0))","v":0}]
[null,{"$f":"IF($SS100,IF(E100=1,System!B96,\"   \"&System!B96),\"\")","v":""},{"$f":"IF($SS100,IF(gIsItPlan,System!F96,System!I96),\"\")","v":""},{"$f":"IF($SS100,IF(gIsItPlan,System!G96,System!J96),\"\")","v":""},{"$f":"System!C96","v":0},{"$f":"System!L96","v":0},0,0,0,20,null,0,0,0,0,0,0,0,0,0,0,0,0,0,0,0,0,0,0,0,0,0,0,0,0,0,0,0,0,0,0,0,0,0,0,0,0,0,0,0,0,0,0,0,0,0,0,0,0,0,0,0,0,0,0,0,0,0,0,0,0,0,0,0,0,0,0,0,0,0,0,0,0,0,0,0,0,0,0,0,0,0,0,0,0,0,{"$f":"IF(CS$1>$I100,0,\n  IF(CS$1<$G100,0,\n  IF(AND(CS$1>$G100,CS$1<$H100),14+$J100,\n  IF(AND(CS$1>$H100,CS$1<$I100),4+$J100,\n  IF(AND(CS$1=$G100,CS$1<>$H100,CS$1<>$I100),11+$J100,\n  IF(AND(CS$1<>$G100,CS$1=$H100,CS$1<>$I100),12+$J100,\n  IF(AND(CS$1<>$G100,CS$1<>$H100,CS$1=$I100),2+$J100,\n  IF(AND(CS$1=$G100,CS$1=$H100,CS$1<>$I100,$F100<>0),13+$J100,\n  IF(AND(CS$1=$G100,CS$1=$H100,CS$1<>$I100,$F100=0),1+$J100,\n  IF(AND(CS$1<>$G100,CS$1=$H100,CS$1=$I100),12+$J100,\n  IF(AND(CS$1=$G100,CS$1=$H100,CS$1=$I100,$F100<=0.5),3+$J100,13+$J100)))))))))))","v":0},0,0,0,0,0,0,0,0,0,0,0,0,0,0,0,0,0,0,0,0,0,0,0,0,0,0,0,0,0,0,0,0,0,0,0,0,0,0,0,0,0,0,0,0,0,0,0,0,0,0,0,0,0,0,0,0,0,0,0,0,0,0,0,0,0,0,0,0,0,0,0,0,0,0,0,0,0,0,0,0,0,0,0,0,0,0,0,0,0,0,0,0,0,0,0,0,0,0,0,0,0,0,0,0,0,0,0,0,0,0,0,0,0,0,0,0,0,0,0,0,0,0,0,0,0,0,0,0,0,0,0,0,0,0,0,0,0,0,0,0,0,0,0,0,0,0,0,0,0,0,0,0,0,0,0,0,0,0,0,0,0,0,0,0,0,0,0,0,0,0,0,0,0,0,0,0,0,0,0,0,0,0,0,0,0,0,{"$f":"IF(JX$1>$I100,0,\n  IF(JX$1<$G100,0,\n  IF(AND(JX$1>$G100,JX$1<$H100),14+$J100,\n  IF(AND(JX$1>$H100,JX$1<$I100),4+$J100,\n  IF(AND(JX$1=$G100,JX$1<>$H100,JX$1<>$I100),11+$J100,\n  IF(AND(JX$1<>$G100,JX$1=$H100,JX$1<>$I100),12+$J100,\n  IF(AND(JX$1<>$G100,JX$1<>$H100,JX$1=$I100),2+$J100,\n  IF(AND(JX$1=$G100,JX$1=$H100,JX$1<>$I100,$F100<>0),13+$J100,\n  IF(AND(JX$1=$G100,JX$1=$H100,JX$1<>$I100,$F100=0),1+$J100,\n  IF(AND(JX$1<>$G100,JX$1=$H100,JX$1=$I100),12+$J100,\n  IF(AND(JX$1=$G100,JX$1=$H100,JX$1=$I100,$F100<=0.5),3+$J100,13+$J100)))))))))))","v":0},0,0,0,0,0,0,0,0,0,0,0,0,0,0,0,0,0,0,0,0,0,0,0,0,0,0,0,0,0,0,0,0,0,{"$f":"IF(LF$1>$I100,0,\n  IF(LF$1<$G100,0,\n  IF(AND(LF$1>$G100,LF$1<$H100),14+$J100,\n  IF(AND(LF$1>$H100,LF$1<$I100),4+$J100,\n  IF(AND(LF$1=$G100,LF$1<>$H100,LF$1<>$I100),11+$J100,\n  IF(AND(LF$1<>$G100,LF$1=$H100,LF$1<>$I100),12+$J100,\n  IF(AND(LF$1<>$G100,LF$1<>$H100,LF$1=$I100),2+$J100,\n  IF(AND(LF$1=$G100,LF$1=$H100,LF$1<>$I100,$F100<>0),13+$J100,\n  IF(AND(LF$1=$G100,LF$1=$H100,LF$1<>$I100,$F100=0),1+$J100,\n  IF(AND(LF$1<>$G100,LF$1=$H100,LF$1=$I100),12+$J100,\n  IF(AND(LF$1=$G100,LF$1=$H100,LF$1=$I100,$F100<=0.5),3+$J100,13+$J100)))))))))))","v":0},0,0,0,0,0,0,0,0,0,0,0,0,0,0,0,0,0,0,0,0,0,0,0,0,0,0,0,0,0,{"$f":"IF(MJ$1>$I100,0,\n  IF(MJ$1<$G100,0,\n  IF(AND(MJ$1>$G100,MJ$1<$H100),14+$J100,\n  IF(AND(MJ$1>$H100,MJ$1<$I100),4+$J100,\n  IF(AND(MJ$1=$G100,MJ$1<>$H100,MJ$1<>$I100),11+$J100,\n  IF(AND(MJ$1<>$G100,MJ$1=$H100,MJ$1<>$I100),12+$J100,\n  IF(AND(MJ$1<>$G100,MJ$1<>$H100,MJ$1=$I100),2+$J100,\n  IF(AND(MJ$1=$G100,MJ$1=$H100,MJ$1<>$I100,$F100<>0),13+$J100,\n  IF(AND(MJ$1=$G100,MJ$1=$H100,MJ$1<>$I100,$F100=0),1+$J100,\n  IF(AND(MJ$1<>$G100,MJ$1=$H100,MJ$1=$I100),12+$J100,\n  IF(AND(MJ$1=$G100,MJ$1=$H100,MJ$1=$I100,$F100<=0.5),3+$J100,13+$J100)))))))))))","v":0},0,0,0,0,0,0,0,0,0,0,0,0,0,0,0,0,0,0,0,0,0,0,0,0,0,0,0,0,0,0,0,0,0,{"$f":"IF(NR$1>$I100,0,\n  IF(NR$1<$G100,0,\n  IF(AND(NR$1>$G100,NR$1<$H100),14+$J100,\n  IF(AND(NR$1>$H100,NR$1<$I100),4+$J100,\n  IF(AND(NR$1=$G100,NR$1<>$H100,NR$1<>$I100),11+$J100,\n  IF(AND(NR$1<>$G100,NR$1=$H100,NR$1<>$I100),12+$J100,\n  IF(AND(NR$1<>$G100,NR$1<>$H100,NR$1=$I100),2+$J100,\n  IF(AND(NR$1=$G100,NR$1=$H100,NR$1<>$I100,$F100<>0),13+$J100,\n  IF(AND(NR$1=$G100,NR$1=$H100,NR$1<>$I100,$F100=0),1+$J100,\n  IF(AND(NR$1<>$G100,NR$1=$H100,NR$1=$I100),12+$J100,\n  IF(AND(NR$1=$G100,NR$1=$H100,NR$1=$I100,$F100<=0.5),3+$J100,13+$J100)))))))))))","v":0},0,0,0,0,0,0,0,0,0,0,0,0,0,0,0,0,0,0,0,0,0,0,0,0,0,0,0,0,0,{"$f":"IF(OV$1>$I100,0,\n  IF(OV$1<$G100,0,\n  IF(AND(OV$1>$G100,OV$1<$H100),14+$J100,\n  IF(AND(OV$1>$H100,OV$1<$I100),4+$J100,\n  IF(AND(OV$1=$G100,OV$1<>$H100,OV$1<>$I100),11+$J100,\n  IF(AND(OV$1<>$G100,OV$1=$H100,OV$1<>$I100),12+$J100,\n  IF(AND(OV$1<>$G100,OV$1<>$H100,OV$1=$I100),2+$J100,\n  IF(AND(OV$1=$G100,OV$1=$H100,OV$1<>$I100,$F100<>0),13+$J100,\n  IF(AND(OV$1=$G100,OV$1=$H100,OV$1<>$I100,$F100=0),1+$J100,\n  IF(AND(OV$1<>$G100,OV$1=$H100,OV$1=$I100),12+$J100,\n  IF(AND(OV$1=$G100,OV$1=$H100,OV$1=$I100,$F100<=0.5),3+$J100,13+$J100)))))))))))","v":0},0,0,0,0,0,0,0,0,0,0,0,0,0,0,0,0,0,0,0,0,0,0,0,0,0,0,0,0,0,0,0,0,0,{"$f":"IF(QD$1>$I100,0,\n  IF(QD$1<$G100,0,\n  IF(AND(QD$1>$G100,QD$1<$H100),14+$J100,\n  IF(AND(QD$1>$H100,QD$1<$I100),4+$J100,\n  IF(AND(QD$1=$G100,QD$1<>$H100,QD$1<>$I100),11+$J100,\n  IF(AND(QD$1<>$G100,QD$1=$H100,QD$1<>$I100),12+$J100,\n  IF(AND(QD$1<>$G100,QD$1<>$H100,QD$1=$I100),2+$J100,\n  IF(AND(QD$1=$G100,QD$1=$H100,QD$1<>$I100,$F100<>0),13+$J100,\n  IF(AND(QD$1=$G100,QD$1=$H100,QD$1<>$I100,$F100=0),1+$J100,\n  IF(AND(QD$1<>$G100,QD$1=$H100,QD$1=$I100),12+$J100,\n  IF(AND(QD$1=$G100,QD$1=$H100,QD$1=$I100,$F100<=0.5),3+$J100,13+$J100)))))))))))","v":0},0,0,0,0,0,0,0,0,0,0,0,0,0,0,0,0,0,0,0,0,0,0,0,0,0,0,0,0,0,0,0,0,0,0,0,0,0,0,0,0,0,0,0,0,0,0,0,0,0,0,0,0,0,0,0,0,0,0,0,0,0,0,0,0,0,null,{"$f":"IF(gIsItPlan,IF(AND(System!Z96,System!AA96),1,0),IF(AND(System!Z96,System!AB96),1,0))","v":0}]
[null,{"$f":"IF($SS101,IF(E101=1,System!B97,\"   \"&System!B97),\"\")","v":""},{"$f":"IF($SS101,IF(gIsItPlan,System!F97,System!I97),\"\")","v":""},{"$f":"IF($SS101,IF(gIsItPlan,System!G97,System!J97),\"\")","v":""},{"$f":"System!C97","v":0},{"$f":"System!L97","v":0},0,0,0,20,null,0,0,0,0,0,0,0,0,0,0,0,0,0,0,0,0,0,0,0,0,0,0,0,0,0,0,0,0,0,0,0,0,0,0,0,0,0,0,0,0,0,0,0,0,0,0,0,0,0,0,0,0,0,0,0,0,0,0,0,0,0,0,0,0,0,0,0,0,0,0,0,0,0,0,0,0,0,0,0,0,0,0,0,0,0,0,0,0,0,0,0,0,0,0,0,0,0,0,0,0,0,0,0,0,0,0,0,0,0,0,0,0,0,0,0,0,0,0,0,0,0,0,0,0,0,0,0,0,0,0,0,0,0,0,0,0,0,0,0,0,0,0,0,0,0,0,0,0,0,0,0,{"$f":"IF(FG$1>$I101,0,\n  IF(FG$1<$G101,0,\n  IF(AND(FG$1>$G101,FG$1<$H101),14+$J101,\n  IF(AND(FG$1>$H101,FG$1<$I101),4+$J101,\n  IF(AND(FG$1=$G101,FG$1<>$H101,FG$1<>$I101),11+$J101,\n  IF(AND(FG$1<>$G101,FG$1=$H101,FG$1<>$I101),12+$J101,\n  IF(AND(FG$1<>$G101,FG$1<>$H101,FG$1=$I101),2+$J101,\n  IF(AND(FG$1=$G101,FG$1=$H101,FG$1<>$I101,$F101<>0),13+$J101,\n  IF(AND(FG$1=$G101,FG$1=$H101,FG$1<>$I101,$F101=0),1+$J101,\n  IF(AND(FG$1<>$G101,FG$1=$H101,FG$1=$I101),12+$J101,\n  IF(AND(FG$1=$G101,FG$1=$H101,FG$1=$I101,$F101<=0.5),3+$J101,13+$J101)))))))))))","v":0},0,0,0,0,0,0,0,0,0,0,0,0,0,0,0,0,0,0,0,0,0,0,0,0,0,0,0,0,0,0,0,0,0,0,0,0,0,0,0,0,0,0,0,0,0,0,0,0,0,0,0,0,0,0,0,0,0,0,0,0,0,0,0,0,0,0,0,0,0,0,0,0,0,0,0,0,0,0,0,0,0,0,0,0,0,0,0,0,0,0,0,0,0,0,0,0,0,0,0,0,0,0,0,0,0,0,0,0,0,0,0,0,0,0,0,0,0,0,0,0,0,0,0,0,0,0,0,0,0,0,0,0,0,0,0,0,0,0,0,0,0,0,0,0,{"$f":"IF(KV$1>$I101,0,\n  IF(KV$1<$G101,0,\n  IF(AND(KV$1>$G101,KV$1<$H101),14+$J101,\n  IF(AND(KV$1>$H101,KV$1<$I101),4+$J101,\n  IF(AND(KV$1=$G101,KV$1<>$H101,KV$1<>$I101),11+$J101,\n  IF(AND(KV$1<>$G101,KV$1=$H101,KV$1<>$I101),12+$J101,\n  IF(AND(KV$1<>$G101,KV$1<>$H101,KV$1=$I101),2+$J101,\n  IF(AND(KV$1=$G101,KV$1=$H101,KV$1<>$I101,$F101<>0),13+$J101,\n  IF(AND(KV$1=$G101,KV$1=$H101,KV$1<>$I101,$F101=0),1+$J101,\n  IF(AND(KV$1<>$G101,KV$1=$H101,KV$1=$I101),12+$J101,\n  IF(AND(KV$1=$G101,KV$1=$H101,KV$1=$I101,$F101<=0.5),3+$J101,13+$J101)))))))))))","v":0},0,0,0,0,0,0,0,0,0,0,0,0,0,0,0,0,0,0,0,0,0,0,0,0,0,0,0,0,0,0,0,0,0,0,0,0,0,0,0,0,0,0,0,0,0,0,0,0,0,0,0,0,0,0,0,0,0,0,0,0,0,0,0,{"$f":"IF(NH$1>$I101,0,\n  IF(NH$1<$G101,0,\n  IF(AND(NH$1>$G101,NH$1<$H101),14+$J101,\n  IF(AND(NH$1>$H101,NH$1<$I101),4+$J101,\n  IF(AND(NH$1=$G101,NH$1<>$H101,NH$1<>$I101),11+$J101,\n  IF(AND(NH$1<>$G101,NH$1=$H101,NH$1<>$I101),12+$J101,\n  IF(AND(NH$1<>$G101,NH$1<>$H101,NH$1=$I101),2+$J101,\n  IF(AND(NH$1=$G101,NH$1=$H101,NH$1<>$I101,$F101<>0),13+$J101,\n  IF(AND(NH$1=$G101,NH$1=$H101,NH$1<>$I101,$F101=0),1+$J101,\n  IF(AND(NH$1<>$G101,NH$1=$H101,NH$1=$I101),12+$J101,\n  IF(AND(NH$1=$G101,NH$1=$H101,NH$1=$I101,$F101<=0.5),3+$J101,13+$J101)))))))))))","v":0},0,0,0,0,0,0,0,0,0,0,0,0,0,0,0,0,0,0,0,0,0,0,0,0,0,0,0,0,0,0,0,0,0,0,0,0,0,0,0,0,0,0,0,0,0,0,0,0,0,0,0,0,0,0,0,0,0,0,0,0,0,0,0,{"$f":"IF(PT$1>$I101,0,\n  IF(PT$1<$G101,0,\n  IF(AND(PT$1>$G101,PT$1<$H101),14+$J101,\n  IF(AND(PT$1>$H101,PT$1<$I101),4+$J101,\n  IF(AND(PT$1=$G101,PT$1<>$H101,PT$1<>$I101),11+$J101,\n  IF(AND(PT$1<>$G101,PT$1=$H101,PT$1<>$I101),12+$J101,\n  IF(AND(PT$1<>$G101,PT$1<>$H101,PT$1=$I101),2+$J101,\n  IF(AND(PT$1=$G101,PT$1=$H101,PT$1<>$I101,$F101<>0),13+$J101,\n  IF(AND(PT$1=$G101,PT$1=$H101,PT$1<>$I101,$F101=0),1+$J101,\n  IF(AND(PT$1<>$G101,PT$1=$H101,PT$1=$I101),12+$J101,\n  IF(AND(PT$1=$G101,PT$1=$H101,PT$1=$I101,$F101<=0.5),3+$J101,13+$J101)))))))))))","v":0},0,0,0,0,0,0,0,0,0,0,0,0,0,0,0,0,0,0,0,0,0,0,0,0,0,0,0,0,0,0,0,0,0,0,0,0,0,0,0,0,0,0,0,0,0,0,0,0,0,0,0,0,0,0,0,0,0,0,0,0,0,0,0,0,0,0,0,0,0,0,0,0,0,0,0,null,{"$f":"IF(gIsItPlan,IF(AND(System!Z97,System!AA97),1,0),IF(AND(System!Z97,System!AB97),1,0))","v":0}]
[null,{"$f":"IF($SS102,IF(E102=1,System!B98,\"   \"&System!B98),\"\")","v":""},{"$f":"IF($SS102,IF(gIsItPlan,System!F98,System!I98),\"\")","v":""},{"$f":"IF($SS102,IF(gIsItPlan,System!G98,System!J98),\"\")","v":""},{"$f":"System!C98","v":0},{"$f":"System!L98","v":0},0,0,0,20,null,0,0,0,0,0,0,0,0,0,0,0,0,0,0,0,0,0,0,0,0,0,0,0,0,0,0,0,0,0,0,0,0,0,0,0,0,0,0,0,0,0,0,0,0,0,0,0,0,0,0,0,0,0,0,0,0,0,0,0,0,0,0,0,0,0,0,0,0,0,0,0,0,0,0,0,0,0,0,0,0,0,0,0,0,0,0,0,0,0,0,0,0,0,0,0,0,0,0,0,0,0,0,0,0,0,0,0,0,0,0,0,0,0,0,0,0,0,0,0,0,0,0,0,0,0,0,0,0,0,0,0,0,0,0,0,0,0,0,0,0,0,0,0,0,0,0,{"$f":"IF(FB$1>$I102,0,\n  IF(FB$1<$G102,0,\n  IF(AND(FB$1>$G102,FB$1<$H102),14+$J102,\n  IF(AND(FB$1>$H102,FB$1<$I102),4+$J102,\n  IF(AND(FB$1=$G102,FB$1<>$H102,FB$1<>$I102),11+$J102,\n  IF(AND(FB$1<>$G102,FB$1=$H102,FB$1<>$I102),12+$J102,\n  IF(AND(FB$1<>$G102,FB$1<>$H102,FB$1=$I102),2+$J102,\n  IF(AND(FB$1=$G102,FB$1=$H102,FB$1<>$I102,$F102<>0),13+$J102,\n  IF(AND(FB$1=$G102,FB$1=$H102,FB$1<>$I102,$F102=0),1+$J102,\n  IF(AND(FB$1<>$G102,FB$1=$H102,FB$1=$I102),12+$J102,\n  IF(AND(FB$1=$G102,FB$1=$H102,FB$1=$I102,$F102<=0.5),3+$J102,13+$J102)))))))))))","v":0},0,0,0,0,0,0,0,0,0,0,0,0,0,0,0,0,0,0,0,0,0,0,0,0,0,0,0,0,0,0,0,0,0,0,0,0,0,0,0,0,0,0,0,0,0,0,0,0,0,0,0,0,0,0,0,0,0,0,0,0,0,0,0,0,0,0,0,0,0,0,0,0,0,0,0,0,0,0,0,0,0,0,0,0,0,0,0,0,0,0,0,0,0,0,0,0,0,0,0,{"$f":"IF(IX$1>$I102,0,\n  IF(IX$1<$G102,0,\n  IF(AND(IX$1>$G102,IX$1<$H102),14+$J102,\n  IF(AND(IX$1>$H102,IX$1<$I102),4+$J102,\n  IF(AND(IX$1=$G102,IX$1<>$H102,IX$1<>$I102),11+$J102,\n  IF(AND(IX$1<>$G102,IX$1=$H102,IX$1<>$I102),12+$J102,\n  IF(AND(IX$1<>$G102,IX$1<>$H102,IX$1=$I102),2+$J102,\n  IF(AND(IX$1=$G102,IX$1=$H102,IX$1<>$I102,$F102<>0),13+$J102,\n  IF(AND(IX$1=$G102,IX$1=$H102,IX$1<>$I102,$F102=0),1+$J102,\n  IF(AND(IX$1<>$G102,IX$1=$H102,IX$1=$I102),12+$J102,\n  IF(AND(IX$1=$G102,IX$1=$H102,IX$1=$I102,$F102<=0.5),3+$J102,13+$J102)))))))))))","v":0},0,0,0,0,0,0,0,0,0,0,0,0,0,0,0,0,0,0,0,0,0,0,0,0,0,0,0,0,0,0,0,0,0,0,0,0,0,0,0,0,0,0,0,0,0,0,{"$f":"IF(KS$1>$I102,0,\n  IF(KS$1<$G102,0,\n  IF(AND(KS$1>$G102,KS$1<$H102),14+$J102,\n  IF(AND(KS$1>$H102,KS$1<$I102),4+$J102,\n  IF(AND(KS$1=$G102,KS$1<>$H102,KS$1<>$I102),11+$J102,\n  IF(AND(KS$1<>$G102,KS$1=$H102,KS$1<>$I102),12+$J102,\n  IF(AND(KS$1<>$G102,KS$1<>$H102,KS$1=$I102),2+$J102,\n  IF(AND(KS$1=$G102,KS$1=$H102,KS$1<>$I102,$F102<>0),13+$J102,\n  IF(AND(KS$1=$G102,KS$1=$H102,KS$1<>$I102,$F102=0),1+$J102,\n  IF(AND(KS$1<>$G102,KS$1=$H102,KS$1=$I102),12+$J102,\n  IF(AND(KS$1=$G102,KS$1=$H102,KS$1=$I102,$F102<=0.5),3+$J102,13+$J102)))))))))))","v":0},0,0,0,0,0,0,0,0,0,0,0,0,0,0,0,0,0,0,0,0,0,0,0,0,0,0,0,0,0,0,0,0,0,0,0,0,0,0,0,0,0,0,0,0,0,0,0,0,0,0,0,0,0,0,0,0,0,0,0,0,0,0,0,{"$f":"IF(NE$1>$I102,0,\n  IF(NE$1<$G102,0,\n  IF(AND(NE$1>$G102,NE$1<$H102),14+$J102,\n  IF(AND(NE$1>$H102,NE$1<$I102),4+$J102,\n  IF(AND(NE$1=$G102,NE$1<>$H102,NE$1<>$I102),11+$J102,\n  IF(AND(NE$1<>$G102,NE$1=$H102,NE$1<>$I102),12+$J102,\n  IF(AND(NE$1<>$G102,NE$1<>$H102,NE$1=$I102),2+$J102,\n  IF(AND(NE$1=$G102,NE$1=$H102,NE$1<>$I102,$F102<>0),13+$J102,\n  IF(AND(NE$1=$G102,NE$1=$H102,NE$1<>$I102,$F102=0),1+$J102,\n  IF(AND(NE$1<>$G102,NE$1=$H102,NE$1=$I102),12+$J102,\n  IF(AND(NE$1=$G102,NE$1=$H102,NE$1=$I102,$F102<=0.5),3+$J102,13+$J102)))))))))))","v":0},0,0,0,0,0,0,0,0,0,0,0,0,0,0,0,0,0,0,0,0,0,0,0,0,0,0,0,0,0,0,0,0,0,0,0,0,0,0,0,0,0,0,0,0,0,0,0,0,0,0,0,0,0,0,0,0,0,0,0,0,0,0,0,{"$f":"IF(PQ$1>$I102,0,\n  IF(PQ$1<$G102,0,\n  IF(AND(PQ$1>$G102,PQ$1<$H102),14+$J102,\n  IF(AND(PQ$1>$H102,PQ$1<$I102),4+$J102,\n  IF(AND(PQ$1=$G102,PQ$1<>$H102,PQ$1<>$I102),11+$J102,\n  IF(AND(PQ$1<>$G102,PQ$1=$H102,PQ$1<>$I102),12+$J102,\n  IF(AND(PQ$1<>$G102,PQ$1<>$H102,PQ$1=$I102),2+$J102,\n  IF(AND(PQ$1=$G102,PQ$1=$H102,PQ$1<>$I102,$F102<>0),13+$J102,\n  IF(AND(PQ$1=$G102,PQ$1=$H102,PQ$1<>$I102,$F102=0),1+$J102,\n  IF(AND(PQ$1<>$G102,PQ$1=$H102,PQ$1=$I102),12+$J102,\n  IF(AND(PQ$1=$G102,PQ$1=$H102,PQ$1=$I102,$F102<=0.5),3+$J102,13+$J102)))))))))))","v":0},0,0,0,0,0,0,0,0,0,0,0,0,0,0,0,0,0,0,0,0,0,0,0,0,0,0,0,0,0,0,0,0,0,0,0,0,0,0,0,0,0,0,0,0,0,0,0,0,0,0,0,0,0,0,0,0,0,0,0,0,0,0,0,0,0,0,0,0,0,0,0,0,0,0,0,0,0,0,null,{"$f":"IF(gIsItPlan,IF(AND(System!Z98,System!AA98),1,0),IF(AND(System!Z98,System!AB98),1,0))","v":0}]
[null,{"$f":"IF($SS103,IF(E103=1,System!B99,\"   \"&System!B99),\"\")","v":""},{"$f":"IF($SS103,IF(gIsItPlan,System!F99,System!I99),\"\")","v":""},{"$f":"IF($SS103,IF(gIsItPlan,System!G99,System!J99),\"\")","v":""},{"$f":"System!C99","v":0},{"$f":"System!L99","v":0},0,0,0,20,null,0,0,0,0,0,0,0,0,0,0,0,0,0,0,0,0,0,0,0,0,0,0,0,0,0,0,0,0,0,0,0,0,0,0,0,0,0,0,0,0,0,0,0,0,0,0,0,0,0,0,0,0,0,0,0,0,0,0,0,0,0,0,0,0,0,0,0,0,0,0,0,0,0,0,0,0,0,0,0,0,0,0,0,0,0,0,0,0,0,0,0,0,0,0,0,0,0,0,0,0,0,0,0,0,0,0,0,0,0,0,0,0,0,0,0,0,0,0,0,0,0,0,0,0,0,0,0,0,0,0,0,0,0,0,0,0,0,0,0,0,0,0,0,0,0,0,0,0,0,0,0,0,0,0,0,0,0,0,0,0,0,0,0,0,0,0,0,0,0,0,0,0,0,0,0,0,0,0,0,0,0,0,0,0,0,0,0,0,0,0,0,0,0,0,0,0,0,0,0,0,0,0,0,0,0,0,0,0,0,0,0,0,0,0,0,0,0,0,0,0,0,0,0,0,0,0,0,0,0,0,0,0,0,0,0,0,0,0,0,0,0,{"$f":"IF(IS$1>$I103,0,\n  IF(IS$1<$G103,0,\n  IF(AND(IS$1>$G103,IS$1<$H103),14+$J103,\n  IF(AND(IS$1>$H103,IS$1<$I103),4+$J103,\n  IF(AND(IS$1=$G103,IS$1<>$H103,IS$1<>$I103),11+$J103,\n  IF(AND(IS$1<>$G103,IS$1=$H103,IS$1<>$I103),12+$J103,\n  IF(AND(IS$1<>$G103,IS$1<>$H103,IS$1=$I103),2+$J103,\n  IF(AND(IS$1=$G103,IS$1=$H103,IS$1<>$I103,$F103<>0),13+$J103,\n  IF(AND(IS$1=$G103,IS$1=$H103,IS$1<>$I103,$F103=0),1+$J103,\n  IF(AND(IS$1<>$G103,IS$1=$H103,IS$1=$I103),12+$J103,\n  IF(AND(IS$1=$G103,IS$1=$H103,IS$1=$I103,$F103<=0.5),3+$J103,13+$J103)))))))))))","v":0},0,0,0,0,0,0,0,0,0,0,0,0,0,0,0,0,0,0,0,0,0,0,0,0,0,0,0,0,0,0,0,0,0,0,0,0,0,0,0,0,0,0,0,0,0,0,0,0,0,0,0,0,0,0,0,0,0,0,0,0,0,0,0,0,0,0,0,0,0,0,0,0,0,0,0,0,0,0,0,0,0,0,0,0,0,0,0,0,0,0,0,0,0,0,0,0,0,0,0,0,0,0,0,0,0,0,0,0,0,0,0,0,0,0,0,0,0,0,0,0,0,0,0,0,0,0,0,0,0,0,0,0,0,0,0,0,0,0,0,0,0,0,0,0,0,0,0,0,0,0,0,0,0,0,0,0,0,0,0,0,0,0,0,0,0,0,0,0,0,0,0,0,0,0,0,0,0,0,0,0,0,0,0,0,0,0,0,0,0,0,0,0,0,0,0,0,0,0,0,0,0,0,0,0,0,0,0,0,0,0,0,0,0,0,0,0,0,0,0,0,0,0,0,0,0,0,0,0,0,0,0,0,0,0,0,0,0,0,0,0,0,0,0,0,0,0,0,0,0,0,0,0,0,0,0,0,0,0,null,{"$f":"IF(gIsItPlan,IF(AND(System!Z99,System!AA99),1,0),IF(AND(System!Z99,System!AB99),1,0))","v":0}]
[null,{"$f":"IF($SS104,IF(E104=1,System!B100,\"   \"&System!B100),\"\")","v":""},{"$f":"IF($SS104,IF(gIsItPlan,System!F100,System!I100),\"\")","v":""},{"$f":"IF($SS104,IF(gIsItPlan,System!G100,System!J100),\"\")","v":""},{"$f":"System!C100","v":0},{"$f":"System!L100","v":0},0,0,0,20,null,0,0,0,0,0,0,0,0,0,0,0,0,0,0,0,0,0,0,0,0,0,0,0,0,0,0,0,0,0,0,0,0,0,0,0,0,0,0,0,0,0,0,0,0,0,0,0,0,0,0,0,0,0,0,0,0,0,0,0,0,0,0,0,0,0,0,0,0,0,0,0,0,0,0,0,0,0,0,0,0,0,0,0,0,0,0,0,0,0,0,0,0,0,0,0,0,0,0,0,0,0,0,0,0,0,0,0,0,0,0,0,0,0,0,0,0,0,0,0,0,0,0,0,0,0,0,0,0,0,0,0,0,0,0,0,0,0,0,0,0,0,0,0,0,0,0,0,0,0,0,0,0,0,0,0,0,0,0,0,0,0,0,0,0,0,0,0,0,0,0,0,0,0,0,0,0,0,0,0,0,0,0,0,0,0,0,0,0,0,0,0,0,0,0,0,0,0,0,0,0,0,0,0,0,0,0,0,0,0,0,0,0,0,0,0,0,0,0,0,0,0,0,0,0,0,0,0,0,0,0,0,0,0,0,0,0,0,0,0,0,0,0,0,0,0,0,0,0,0,0,0,0,0,0,0,0,0,0,0,0,0,0,0,0,0,0,0,0,0,0,0,0,0,0,0,0,0,0,0,0,0,0,0,0,0,0,0,0,0,0,0,0,0,0,0,0,0,0,0,0,0,0,0,0,0,0,0,0,0,0,0,0,0,0,0,0,0,0,0,0,0,0,0,0,0,0,0,0,0,0,0,0,0,0,0,0,0,0,0,0,0,0,0,0,0,0,0,0,0,0,0,0,0,0,0,0,0,0,0,0,0,0,0,0,0,0,0,0,0,0,0,0,0,0,0,0,0,0,0,0,0,0,0,0,0,0,0,0,0,0,0,0,0,0,0,0,0,0,0,0,0,0,0,0,0,0,0,0,0,0,0,0,0,0,0,0,0,0,0,0,0,0,0,0,0,0,0,0,0,0,0,0,0,0,0,0,0,0,0,0,0,0,0,0,0,0,0,0,0,0,0,0,0,0,0,0,0,0,0,0,0,0,0,0,0,0,0,0,0,0,0,0,0,0,0,0,0,0,0,0,0,0,0,0,0,0,0,0,0,0,0,0,0,0,0,0,0,0,0,0,null,{"$f":"IF(gIsItPlan,IF(AND(System!Z100,System!AA100),1,0),IF(AND(System!Z100,System!AB100),1,0))","v":0}]
[null,{"$f":"IF($SS105,IF(E105=1,System!B101,\"   \"&System!B101),\"\")","v":""},{"$f":"IF($SS105,IF(gIsItPlan,System!F101,System!I101),\"\")","v":""},{"$f":"IF($SS105,IF(gIsItPlan,System!G101,System!J101),\"\")","v":""},{"$f":"System!C101","v":0},{"$f":"System!L101","v":0},0,0,0,20,null,0,0,0,0,0,0,0,0,0,0,0,0,0,0,0,0,0,0,0,0,0,0,0,0,0,0,0,0,0,0,0,0,0,0,0,0,0,0,0,0,0,0,0,0,0,0,0,0,0,0,0,0,0,0,0,0,0,0,0,0,0,0,0,0,0,0,0,0,0,0,0,0,0,0,0,0,0,0,0,0,0,0,0,0,0,0,0,0,0,0,0,0,0,0,0,0,0,0,0,0,0,0,0,0,0,0,0,0,0,0,0,0,0,0,0,0,0,0,0,0,0,0,0,0,0,0,0,0,0,0,0,0,0,0,0,0,0,0,0,0,0,0,0,0,0,0,0,0,0,0,0,0,0,0,0,0,0,0,0,0,0,0,0,0,0,0,0,0,0,0,0,0,0,0,0,0,0,0,0,0,0,0,0,0,0,0,0,0,0,0,0,0,0,0,0,0,0,0,0,0,0,0,0,0,0,0,0,0,0,0,0,0,0,0,0,0,0,0,0,0,0,0,0,0,0,0,0,0,0,0,0,0,0,0,0,0,0,0,0,0,0,0,0,0,0,0,0,0,0,0,0,0,0,0,0,0,0,0,0,0,0,0,0,0,0,0,0,0,0,0,0,0,0,0,0,0,0,0,0,0,0,0,0,0,0,0,0,0,0,0,0,0,0,0,0,0,0,0,0,0,0,0,0,0,0,0,0,0,0,0,0,0,0,0,0,0,0,0,0,0,0,0,0,0,0,0,0,0,0,0,0,0,0,0,0,0,0,0,0,0,0,0,0,0,0,0,0,0,0,0,0,0,0,0,0,0,0,0,0,0,0,0,0,0,0,0,0,0,0,0,0,0,0,0,0,0,0,0,0,0,0,0,0,0,0,0,0,0,0,0,0,0,0,0,0,0,0,0,0,0,0,0,0,0,0,0,0,0,0,0,0,0,0,0,0,0,0,0,0,0,0,0,0,0,0,0,0,0,0,0,0,0,0,0,0,0,0,0,0,0,0,0,0,0,0,0,0,0,0,0,0,0,0,0,0,0,0,0,0,0,0,0,0,0,0,0,0,0,0,0,0,0,0,0,0,0,0,0,0,0,0,0,0,0,0,0,0,0,0,0,0,0,0,0,0,0,0,0,0,0,null,{"$f":"IF(gIsItPlan,IF(AND(System!Z101,System!AA101),1,0),IF(AND(System!Z101,System!AB101),1,0))","v":0}]
[null,null,null,null,null,null,null,null,null,null,null,null,null,null,null,null,null,null,null,null,null,null,null,null,null,null,null,null,null,null,null,null,null,null,null,null,null,null,null,null,null,null,null,null,null,null,null,null,null,null,null,null,null,null,null,null,null,null,null,null,null,null,null,null,null,null,null,null,null,null,null,null,null,null,null,null,null,null,null,null,null,null,null,null,null,null,null,null,null,null,null,null,null,null,null,null,null,null,null,null,null,null,null,null,null,null,null,null,null,null,null,null,null,null,null,null,null,null,null,null,null,null,null,null,null,null,null,null,null,null,null,null,null,null,null,null,null,null,null,null,null,null,null,null,null,null,null,null,null,null,null,null,null,null,null,null,null,null,null,null,null,null,null,null,null,null,null,null,null,null,null,null,null,null,null,null,null,null,null,null,null,null,null,null,null,null,null,null,null,null,null,null,null,null,null,null,null,null,null,null,null,null,null,null,null,null,null,null,null,null,null,null,null,null,null,null,null,null,null,null,null,null,null,null,null,null,null,null,null,null,null,null,null,null,null,null,null,null,null,null,null,null,null,null,null,null,null,null,null,null,null,null,null,null,null,null,null,null,null,null,null,null,null,null,null,null,null,null,null,null,null,null,null,null,null,null,null,null,null,null,null,null,null,null,null,null,null,null,null,null,null,null,null,null,null,null,null,null,null,null,null,null,null,null,null,null,null,null,null,null,null,null,null,null,null,null,null,null,null,null,null,null,null,null,null,null,null,null,null,null,null,null,null,null,null,null,null,null,null,null,null,null,null,null,null,null,null,null,null,null,null,null,null,null,null,null,null,null,null,null,null,null,null,null,null,null,null,null,null,null,null,null,null,null,null,null,null,null,null,null,null,null,null,null,null,null,null,null,null,null,null,null,null,null,null,null,null,null,null,null,null,null,null,null,null,null,null,null,null,null,null,null,null,null,null,null,null,null,null,null,null,null,null,null,null,null,null,null,null,null,null,null,null,null,null,null,null,null,null,null,null,null,null,null,null,null,null,null,null,null,null,null,null,null,null,null,null,null,null,null,null,null,null,null,null,null,null,null,null,null,null,null,null,null,null,null,null,null,null,null,null,null,null,null,null,null,null,null,null,null,null,null,null,null,null,null,null,null,null,null,null,null,null,null,null,null,null,null,null,null,null,null,1]
[null,null,null,null,null,null,null,null,null,null,null,{"$f":"NOT(ISNA(VLOOKUP(L$3,refHolidays[],1,0)))","v":false},{"$f":"NOT(ISNA(VLOOKUP(M$3,refHolidays[],1,0)))","v":false},{"$f":"NOT(ISNA(VLOOKUP(N$3,refHolidays[],1,0)))","v":false},{"$f":"NOT(ISNA(VLOOKUP(O$3,refHolidays[],1,0)))","v":false},{"$f":"NOT(ISNA(VLOOKUP(P$3,refHolidays[],1,0)))","v":false},{"$f":"NOT(ISNA(VLOOKUP(Q$3,refHolidays[],1,0)))","v":false},{"$f":"NOT(ISNA(VLOOKUP(R$3,refHolidays[],1,0)))","v":false},{"$f":"NOT(ISNA(VLOOKUP(S$3,refHolidays[],1,0)))","v":false},{"$f":"NOT(ISNA(VLOOKUP(T$3,refHolidays[],1,0)))","v":false},{"$f":"NOT(ISNA(VLOOKUP(U$3,refHolidays[],1,0)))","v":false},{"$f":"NOT(ISNA(VLOOKUP(V$3,refHolidays[],1,0)))","v":false},{"$f":"NOT(ISNA(VLOOKUP(W$3,refHolidays[],1,0)))","v":false},{"$f":"NOT(ISNA(VLOOKUP(X$3,refHolidays[],1,0)))","v":false},{"$f":"NOT(ISNA(VLOOKUP(Y$3,refHolidays[],1,0)))","v":false},{"$f":"NOT(ISNA(VLOOKUP(Z$3,refHolidays[],1,0)))","v":false},{"$f":"NOT(ISNA(VLOOKUP(AA$3,refHolidays[],1,0)))","v":false},{"$f":"NOT(ISNA(VLOOKUP(AB$3,refHolidays[],1,0)))","v":false},{"$f":"NOT(ISNA(VLOOKUP(AC$3,refHolidays[],1,0)))","v":false},{"$f":"NOT(ISNA(VLOOKUP(AD$3,refHolidays[],1,0)))","v":false},{"$f":"NOT(ISNA(VLOOKUP(AE$3,refHolidays[],1,0)))","v":false},{"$f":"NOT(ISNA(VLOOKUP(AF$3,refHolidays[],1,0)))","v":false},{"$f":"NOT(ISNA(VLOOKUP(AG$3,refHolidays[],1,0)))","v":false},{"$f":"NOT(ISNA(VLOOKUP(AH$3,refHolidays[],1,0)))","v":false},{"$f":"NOT(ISNA(VLOOKUP(AI$3,refHolidays[],1,0)))","v":false},{"$f":"NOT(ISNA(VLOOKUP(AJ$3,refHolidays[],1,0)))","v":false},{"$f":"NOT(ISNA(VLOOKUP(AK$3,refHolidays[],1,0)))","v":false},{"$f":"NOT(ISNA(VLOOKUP(AL$3,refHolidays[],1,0)))","v":false},{"$f":"NOT(ISNA(VLOOKUP(AM$3,refHolidays[],1,0)))","v":false},{"$f":"NOT(ISNA(VLOOKUP(AN$3,refHolidays[],1,0)))","v":false},{"$f":"NOT(ISNA(VLOOKUP(AO$3,refHolidays[],1,0)))","v":false},{"$f":"NOT(ISNA(VLOOKUP(AP$3,refHolidays[],1,0)))","v":false},{"$f":"NOT(ISNA(VLOOKUP(AQ$3,refHolidays[],1,0)))","v":true},{"$f":"NOT(ISNA(VLOOKUP(AR$3,refHolidays[],1,0)))","v":false},{"$f":"NOT(ISNA(VLOOKUP(AS$3,refHolidays[],1,0)))","v":false},{"$f":"NOT(ISNA(VLOOKUP(AT$3,refHolidays[],1,0)))","v":false},{"$f":"NOT(ISNA(VLOOKUP(AU$3,refHolidays[],1,0)))","v":false},{"$f":"NOT(ISNA(VLOOKUP(AV$3,refHolidays[],1,0)))","v":false},{"$f":"NOT(ISNA(VLOOKUP(AW$3,refHolidays[],1,0)))","v":false},{"$f":"NOT(ISNA(VLOOKUP(AX$3,refHolidays[],1,0)))","v":false},{"$f":"NOT(ISNA(VLOOKUP(AY$3,refHolidays[],1,0)))","v":false},{"$f":"NOT(ISNA(VLOOKUP(AZ$3,refHolidays[],1,0)))","v":false},{"$f":"NOT(ISNA(VLOOKUP(BA$3,refHolidays[],1,0)))","v":false},{"$f":"NOT(ISNA(VLOOKUP(BB$3,refHolidays[],1,0)))","v":false},{"$f":"NOT(ISNA(VLOOKUP(BC$3,refHolidays[],1,0)))","v":false},{"$f":"NOT(ISNA(VLOOKUP(BD$3,refHolidays[],1,0)))","v":false},{"$f":"NOT(ISNA(VLOOKUP(BE$3,refHolidays[],1,0)))","v":false},{"$f":"NOT(ISNA(VLOOKUP(BF$3,refHolidays[],1,0)))","v":false},{"$f":"NOT(ISNA(VLOOKUP(BG$3,refHolidays[],1,0)))","v":false},{"$f":"NOT(ISNA(VLOOKUP(BH$3,refHolidays[],1,0)))","v":false},{"$f":"NOT(ISNA(VLOOKUP(BI$3,refHolidays[],1,0)))","v":false},{"$f":"NOT(ISNA(VLOOKUP(BJ$3,refHolidays[],1,0)))","v":false},{"$f":"NOT(ISNA(VLOOKUP(BK$3,refHolidays[],1,0)))","v":false},{"$f":"NOT(ISNA(VLOOKUP(BL$3,refHolidays[],1,0)))","v":true},{"$f":"NOT(ISNA(VLOOKUP(BM$3,refHolidays[],1,0)))","v":false},{"$f":"NOT(ISNA(VLOOKUP(BN$3,refHolidays[],1,0)))","v":false},{"$f":"NOT(ISNA(VLOOKUP(BO$3,refHolidays[],1,0)))","v":false},{"$f":"NOT(ISNA(VLOOKUP(BP$3,refHolidays[],1,0)))","v":false},{"$f":"NOT(ISNA(VLOOKUP(BQ$3,refHolidays[],1,0)))","v":false},{"$f":"NOT(ISNA(VLOOKUP(BR$3,refHolidays[],1,0)))","v":false},{"$f":"NOT(ISNA(VLOOKUP(BS$3,refHolidays[],1,0)))","v":false},{"$f":"NOT(ISNA(VLOOKUP(BT$3,refHolidays[],1,0)))","v":false},{"$f":"NOT(ISNA(VLOOKUP(BU$3,refHolidays[],1,0)))","v":false},{"$f":"NOT(ISNA(VLOOKUP(BV$3,refHolidays[],1,0)))","v":false},{"$f":"NOT(ISNA(VLOOKUP(BW$3,refHolidays[],1,0)))","v":false},{"$f":"NOT(ISNA(VLOOKUP(BX$3,refHolidays[],1,0)))","v":false},{"$f":"NOT(ISNA(VLOOKUP(BY$3,refHolidays[],1,0)))","v":false},{"$f":"NOT(ISNA(VLOOKUP(BZ$3,refHolidays[],1,0)))","v":false},{"$f":"NOT(ISNA(VLOOKUP(CA$3,refHolidays[],1,0)))","v":false},{"$f":"NOT(ISNA(VLOOKUP(CB$3,refHolidays[],1,0)))","v":false},{"$f":"NOT(ISNA(VLOOKUP(CC$3,refHolidays[],1,0)))","v":false},{"$f":"NOT(ISNA(VLOOKUP(CD$3,refHolidays[],1,0)))","v":false},{"$f":"NOT(ISNA(VLOOKUP(CE$3,refHolidays[],1,0)))","v":false},{"$f":"NOT(ISNA(VLOOKUP(CF$3,refHolidays[],1,0)))","v":false},{"$f":"NOT(ISNA(VLOOKUP(CG$3,refHolidays[],1,0)))","v":false},{"$f":"NOT(ISNA(VLOOKUP(CH$3,refHolidays[],1,0)))","v":false},{"$f":"NOT(ISNA(VLOOKUP(CI$3,refHolidays[],1,0)))","v":false},{"$f":"NOT(ISNA(VLOOKUP(CJ$3,refHolidays[],1,0)))","v":false},{"$f":"NOT(ISNA(VLOOKUP(CK$3,refHolidays[],1,0)))","v":false},{"$f":"NOT(ISNA(VLOOKUP(CL$3,refHolidays[],1,0)))","v":false},{"$f":"NOT(ISNA(VLOOKUP(CM$3,refHolidays[],1,0)))","v":false},{"$f":"NOT(ISNA(VLOOKUP(CN$3,refHolidays[],1,0)))","v":false},{"$f":"NOT(ISNA(VLOOKUP(CO$3,refHolidays[],1,0)))","v":false},{"$f":"NOT(ISNA(VLOOKUP(CP$3,refHolidays[],1,0)))","v":false},{"$f":"NOT(ISNA(VLOOKUP(CQ$3,refHolidays[],1,0)))","v":false},{"$f":"NOT(ISNA(VLOOKUP(CR$3,refHolidays[],1,0)))","v":false},{"$f":"NOT(ISNA(VLOOKUP(CS$3,refHolidays[],1,0)))","v":false},{"$f":"NOT(ISNA(VLOOKUP(CT$3,refHolidays[],1,0)))","v":false},{"$f":"NOT(ISNA(VLOOKUP(CU$3,refHolidays[],1,0)))","v":false},{"$f":"NOT(ISNA(VLOOKUP(CV$3,refHolidays[],1,0)))","v":false},{"$f":"NOT(ISNA(VLOOKUP(CW$3,refHolidays[],1,0)))","v":false},{"$f":"NOT(ISNA(VLOOKUP(CX$3,refHolidays[],1,0)))","v":false},{"$f":"NOT(ISNA(VLOOKUP(CY$3,refHolidays[],1,0)))","v":false},{"$f":"NOT(ISNA(VLOOKUP(CZ$3,refHolidays[],1,0)))","v":false},{"$f":"NOT(ISNA(VLOOKUP(DA$3,refHolidays[],1,0)))","v":false},{"$f":"NOT(ISNA(VLOOKUP(DB$3,refHolidays[],1,0)))","v":false},{"$f":"NOT(ISNA(VLOOKUP(DC$3,refHolidays[],1,0)))","v":false},{"$f":"NOT(ISNA(VLOOKUP(DD$3,refHolidays[],1,0)))","v":false},{"$f":"NOT(ISNA(VLOOKUP(DE$3,refHolidays[],1,0)))","v":false},{"$f":"NOT(ISNA(VLOOKUP(DF$3,refHolidays[],1,0)))","v":false},{"$f":"NOT(ISNA(VLOOKUP(DG$3,refHolidays[],1,0)))","v":false},{"$f":"NOT(ISNA(VLOOKUP(DH$3,refHolidays[],1,0)))","v":false},{"$f":"NOT(ISNA(VLOOKUP(DI$3,refHolidays[],1,0)))","v":false},{"$f":"NOT(ISNA(VLOOKUP(DJ$3,refHolidays[],1,0)))","v":false},{"$f":"NOT(ISNA(VLOOKUP(DK$3,refHolidays[],1,0)))","v":false},{"$f":"NOT(ISNA(VLOOKUP(DL$3,refHolidays[],1,0)))","v":false},{"$f":"NOT(ISNA(VLOOKUP(DM$3,refHolidays[],1,0)))","v":false},{"$f":"NOT(ISNA(VLOOKUP(DN$3,refHolidays[],1,0)))","v":false},{"$f":"NOT(ISNA(VLOOKUP(DO$3,refHolidays[],1,0)))","v":false},{"$f":"NOT(ISNA(VLOOKUP(DP$3,refHolidays[],1,0)))","v":false},{"$f":"NOT(ISNA(VLOOKUP(DQ$3,refHolidays[],1,0)))","v":false},{"$f":"NOT(ISNA(VLOOKUP(DR$3,refHolidays[],1,0)))","v":false},{"$f":"NOT(ISNA(VLOOKUP(DS$3,refHolidays[],1,0)))","v":false},{"$f":"NOT(ISNA(VLOOKUP(DT$3,refHolidays[],1,0)))","v":false},{"$f":"NOT(ISNA(VLOOKUP(DU$3,refHolidays[],1,0)))","v":false},{"$f":"NOT(ISNA(VLOOKUP(DV$3,refHolidays[],1,0)))","v":false},{"$f":"NOT(ISNA(VLOOKUP(DW$3,refHolidays[],1,0)))","v":false},{"$f":"NOT(ISNA(VLOOKUP(DX$3,refHolidays[],1,0)))","v":false},{"$f":"NOT(ISNA(VLOOKUP(DY$3,refHolidays[],1,0)))","v":false},{"$f":"NOT(ISNA(VLOOKUP(DZ$3,refHolidays[],1,0)))","v":false},{"$f":"NOT(ISNA(VLOOKUP(EA$3,refHolidays[],1,0)))","v":false},{"$f":"NOT(ISNA(VLOOKUP(EB$3,refHolidays[],1,0)))","v":false},{"$f":"NOT(ISNA(VLOOKUP(EC$3,refHolidays[],1,0)))","v":false},{"$f":"NOT(ISNA(VLOOKUP(ED$3,refHolidays[],1,0)))","v":false},{"$f":"NOT(ISNA(VLOOKUP(EE$3,refHolidays[],1,0)))","v":false},{"$f":"NOT(ISNA(VLOOKUP(EF$3,refHolidays[],1,0)))","v":true},{"$f":"NOT(ISNA(VLOOKUP(EG$3,refHolidays[],1,0)))","v":false},{"$f":"NOT(ISNA(VLOOKUP(EH$3,refHolidays[],1,0)))","v":false},{"$f":"NOT(ISNA(VLOOKUP(EI$3,refHolidays[],1,0)))","v":false},{"$f":"NOT(ISNA(VLOOKUP(EJ$3,refHolidays[],1,0)))","v":false},{"$f":"NOT(ISNA(VLOOKUP(EK$3,refHolidays[],1,0)))","v":false},{"$f":"NOT(ISNA(VLOOKUP(EL$3,refHolidays[],1,0)))","v":false},{"$f":"NOT(ISNA(VLOOKUP(EM$3,refHolidays[],1,0)))","v":false},{"$f":"NOT(ISNA(VLOOKUP(EN$3,refHolidays[],1,0)))","v":false},{"$f":"NOT(ISNA(VLOOKUP(EO$3,refHolidays[],1,0)))","v":false},{"$f":"NOT(ISNA(VLOOKUP(EP$3,refHolidays[],1,0)))","v":false},{"$f":"NOT(ISNA(VLOOKUP(EQ$3,refHolidays[],1,0)))","v":false},{"$f":"NOT(ISNA(VLOOKUP(ER$3,refHolidays[],1,0)))","v":false},{"$f":"NOT(ISNA(VLOOKUP(ES$3,refHolidays[],1,0)))","v":false},{"$f":"NOT(ISNA(VLOOKUP(ET$3,refHolidays[],1,0)))","v":false},{"$f":"NOT(ISNA(VLOOKUP(EU$3,refHolidays[],1,0)))","v":false},{"$f":"NOT(ISNA(VLOOKUP(EV$3,refHolidays[],1,0)))","v":false},{"$f":"NOT(ISNA(VLOOKUP(EW$3,refHolidays[],1,0)))","v":false},{"$f":"NOT(ISNA(VLOOKUP(EX$3,refHolidays[],1,0)))","v":false},{"$f":"NOT(ISNA(VLOOKUP(EY$3,refHolidays[],1,0)))","v":false},{"$f":"NOT(ISNA(VLOOKUP(EZ$3,refHolidays[],1,0)))","v":false},{"$f":"NOT(ISNA(VLOOKUP(FA$3,refHolidays[],1,0)))","v":false},{"$f":"NOT(ISNA(VLOOKUP(FB$3,refHolidays[],1,0)))","v":false},{"$f":"NOT(ISNA(VLOOKUP(FC$3,refHolidays[],1,0)))","v":false},{"$f":"NOT(ISNA(VLOOKUP(FD$3,refHolidays[],1,0)))","v":false},{"$f":"NOT(ISNA(VLOOKUP(FE$3,refHolidays[],1,0)))","v":false},{"$f":"NOT(ISNA(VLOOKUP(FF$3,refHolidays[],1,0)))","v":false},{"$f":"NOT(ISNA(VLOOKUP(FG$3,refHolidays[],1,0)))","v":false},{"$f":"NOT(ISNA(VLOOKUP(FH$3,refHolidays[],1,0)))","v":false},{"$f":"NOT(ISNA(VLOOKUP(FI$3,refHolidays[],1,0)))","v":false},{"$f":"NOT(ISNA(VLOOKUP(FJ$3,refHolidays[],1,0)))","v":false},{"$f":"NOT(ISNA(VLOOKUP(FK$3,refHolidays[],1,0)))","v":false},{"$f":"NOT(ISNA(VLOOKUP(FL$3,refHolidays[],1,0)))","v":false},{"$f":"NOT(ISNA(VLOOKUP(FM$3,refHolidays[],1,0)))","v":false},{"$f":"NOT(ISNA(VLOOKUP(FN$3,refHolidays[],1,0)))","v":false},{"$f":"NOT(ISNA(VLOOKUP(FO$3,refHolidays[],1,0)))","v":false},{"$f":"NOT(ISNA(VLOOKUP(FP$3,refHolidays[],1,0)))","v":false},{"$f":"NOT(ISNA(VLOOKUP(FQ$3,refHolidays[],1,0)))","v":false},{"$f":"NOT(ISNA(VLOOKUP(FR$3,refHolidays[],1,0)))","v":false},{"$f":"NOT(ISNA(VLOOKUP(FS$3,refHolidays[],1,0)))","v":false},{"$f":"NOT(ISNA(VLOOKUP(FT$3,refHolidays[],1,0)))","v":false},{"$f":"NOT(ISNA(VLOOKUP(FU$3,refHolidays[],1,0)))","v":false},{"$f":"NOT(ISNA(VLOOKUP(FV$3,refHolidays[],1,0)))","v":false},{"$f":"NOT(ISNA(VLOOKUP(FW$3,refHolidays[],1,0)))","v":false},{"$f":"NOT(ISNA(VLOOKUP(FX$3,refHolidays[],1,0)))","v":false},{"$f":"NOT(ISNA(VLOOKUP(FY$3,refHolidays[],1,0)))","v":false},{"$f":"NOT(ISNA(VLOOKUP(FZ$3,refHolidays[],1,0)))","v":false},{"$f":"NOT(ISNA(VLOOKUP(GA$3,refHolidays[],1,0)))","v":false},{"$f":"NOT(ISNA(VLOOKUP(GB$3,refHolidays[],1,0)))","v":false},{"$f":"NOT(ISNA(VLOOKUP(GC$3,refHolidays[],1,0)))","v":false},{"$f":"NOT(ISNA(VLOOKUP(GD$3,refHolidays[],1,0)))","v":false},{"$f":"NOT(ISNA(VLOOKUP(GE$3,refHolidays[],1,0)))","v":false},{"$f":"NOT(ISNA(VLOOKUP(GF$3,refHolidays[],1,0)))","v":false},{"$f":"NOT(ISNA(VLOOKUP(GG$3,refHolidays[],1,0)))","v":false},{"$f":"NOT(ISNA(VLOOKUP(GH$3,refHolidays[],1,0)))","v":false},{"$f":"NOT(ISNA(VLOOKUP(GI$3,refHolidays[],1,0)))","v":false},{"$f":"NOT(ISNA(VLOOKUP(GJ$3,refHolidays[],1,0)))","v":false},{"$f":"NOT(ISNA(VLOOKUP(GK$3,refHolidays[],1,0)))","v":false},{"$f":"NOT(ISNA(VLOOKUP(GL$3,refHolidays[],1,0)))","v":false},{"$f":"NOT(ISNA(VLOOKUP(GM$3,refHolidays[],1,0)))","v":false},{"$f":"NOT(ISNA(VLOOKUP(GN$3,refHolidays[],1,0)))","v":false},{"$f":"NOT(ISNA(VLOOKUP(GO$3,refHolidays[],1,0)))","v":false},{"$f":"NOT(ISNA(VLOOKUP(GP$3,refHolidays[],1,0)))","v":false},{"$f":"NOT(ISNA(VLOOKUP(GQ$3,refHolidays[],1,0)))","v":false},{"$f":"NOT(ISNA(VLOOKUP(GR$3,refHolidays[],1,0)))","v":false},{"$f":"NOT(ISNA(VLOOKUP(GS$3,refHolidays[],1,0)))","v":false},{"$f":"NOT(ISNA(VLOOKUP(GT$3,refHolidays[],1,0)))","v":false},{"$f":"NOT(ISNA(VLOOKUP(GU$3,refHolidays[],1,0)))","v":false},{"$f":"NOT(ISNA(VLOOKUP(GV$3,refHolidays[],1,0)))","v":false},{"$f":"NOT(ISNA(VLOOKUP(GW$3,refHolidays[],1,0)))","v":false},{"$f":"NOT(ISNA(VLOOKUP(GX$3,refHolidays[],1,0)))","v":false},{"$f":"NOT(ISNA(VLOOKUP(GY$3,refHolidays[],1,0)))","v":false},{"$f":"NOT(ISNA(VLOOKUP(GZ$3,refHolidays[],1,0)))","v":false},{"$f":"NOT(ISNA(VLOOKUP(HA$3,refHolidays[],1,0)))","v":false},{"$f":"NOT(ISNA(VLOOKUP(HB$3,refHolidays[],1,0)))","v":false},{"$f":"NOT(ISNA(VLOOKUP(HC$3,refHolidays[],1,0)))","v":false},{"$f":"NOT(ISNA(VLOOKUP(HD$3,refHolidays[],1,0)))","v":false},{"$f":"NOT(ISNA(VLOOKUP(HE$3,refHolidays[],1,0)))","v":false},{"$f":"NOT(ISNA(VLOOKUP(HF$3,refHolidays[],1,0)))","v":false},{"$f":"NOT(ISNA(VLOOKUP(HG$3,refHolidays[],1,0)))","v":false},{"$f":"NOT(ISNA(VLOOKUP(HH$3,refHolidays[],1,0)))","v":false},{"$f":"NOT(ISNA(VLOOKUP(HI$3,refHolidays[],1,0)))","v":false},{"$f":"NOT(ISNA(VLOOKUP(HJ$3,refHolidays[],1,0)))","v":false},{"$f":"NOT(ISNA(VLOOKUP(HK$3,refHolidays[],1,0)))","v":false},{"$f":"NOT(ISNA(VLOOKUP(HL$3,refHolidays[],1,0)))","v":false},{"$f":"NOT(ISNA(VLOOKUP(HM$3,refHolidays[],1,0)))","v":false},{"$f":"NOT(ISNA(VLOOKUP(HN$3,refHolidays[],1,0)))","v":false},{"$f":"NOT(ISNA(VLOOKUP(HO$3,refHolidays[],1,0)))","v":false},{"$f":"NOT(ISNA(VLOOKUP(HP$3,refHolidays[],1,0)))","v":false},{"$f":"NOT(ISNA(VLOOKUP(HQ$3,refHolidays[],1,0)))","v":false},{"$f":"NOT(ISNA(VLOOKUP(HR$3,refHolidays[],1,0)))","v":false},{"$f":"NOT(ISNA(VLOOKUP(HS$3,refHolidays[],1,0)))","v":false},{"$f":"NOT(ISNA(VLOOKUP(HT$3,refHolidays[],1,0)))","v":false},{"$f":"NOT(ISNA(VLOOKUP(HU$3,refHolidays[],1,0)))","v":false},{"$f":"NOT(ISNA(VLOOKUP(HV$3,refHolidays[],1,0)))","v":false},{"$f":"NOT(ISNA(VLOOKUP(HW$3,refHolidays[],1,0)))","v":false},{"$f":"NOT(ISNA(VLOOKUP(HX$3,refHolidays[],1,0)))","v":false},{"$f":"NOT(ISNA(VLOOKUP(HY$3,refHolidays[],1,0)))","v":false},{"$f":"NOT(ISNA(VLOOKUP(HZ$3,refHolidays[],1,0)))","v":false},{"$f":"NOT(ISNA(VLOOKUP(IA$3,refHolidays[],1,0)))","v":false},{"$f":"NOT(ISNA(VLOOKUP(IB$3,refHolidays[],1,0)))","v":false},{"$f":"NOT(ISNA(VLOOKUP(IC$3,refHolidays[],1,0)))","v":false},{"$f":"NOT(ISNA(VLOOKUP(ID$3,refHolidays[],1,0)))","v":false},{"$f":"NOT(ISNA(VLOOKUP(IE$3,refHolidays[],1,0)))","v":false},{"$f":"NOT(ISNA(VLOOKUP(IF$3,refHolidays[],1,0)))","v":false},{"$f":"NOT(ISNA(VLOOKUP(IG$3,refHolidays[],1,0)))","v":false},{"$f":"NOT(ISNA(VLOOKUP(IH$3,refHolidays[],1,0)))","v":false},{"$f":"NOT(ISNA(VLOOKUP(II$3,refHolidays[],1,0)))","v":false},{"$f":"NOT(ISNA(VLOOKUP(IJ$3,refHolidays[],1,0)))","v":false},{"$f":"NOT(ISNA(VLOOKUP(IK$3,refHolidays[],1,0)))","v":false},{"$f":"NOT(ISNA(VLOOKUP(IL$3,refHolidays[],1,0)))","v":false},{"$f":"NOT(ISNA(VLOOKUP(IM$3,refHolidays[],1,0)))","v":false},{"$f":"NOT(ISNA(VLOOKUP(IN$3,refHolidays[],1,0)))","v":false},{"$f":"NOT(ISNA(VLOOKUP(IO$3,refHolidays[],1,0)))","v":false},{"$f":"NOT(ISNA(VLOOKUP(IP$3,refHolidays[],1,0)))","v":false},{"$f":"NOT(ISNA(VLOOKUP(IQ$3,refHolidays[],1,0)))","v":false},{"$f":"NOT(ISNA(VLOOKUP(IR$3,refHolidays[],1,0)))","v":false},{"$f":"NOT(ISNA(VLOOKUP(IS$3,refHolidays[],1,0)))","v":false},{"$f":"NOT(ISNA(VLOOKUP(IT$3,refHolidays[],1,0)))","v":false},{"$f":"NOT(ISNA(VLOOKUP(IU$3,refHolidays[],1,0)))","v":false},{"$f":"NOT(ISNA(VLOOKUP(IV$3,refHolidays[],1,0)))","v":false},{"$f":"NOT(ISNA(VLOOKUP(IW$3,refHolidays[],1,0)))","v":false},{"$f":"NOT(ISNA(VLOOKUP(IX$3,refHolidays[],1,0)))","v":false},{"$f":"NOT(ISNA(VLOOKUP(IY$3,refHolidays[],1,0)))","v":false},{"$f":"NOT(ISNA(VLOOKUP(IZ$3,refHolidays[],1,0)))","v":false},{"$f":"NOT(ISNA(VLOOKUP(JA$3,refHolidays[],1,0)))","v":false},{"$f":"NOT(ISNA(VLOOKUP(JB$3,refHolidays[],1,0)))","v":false},{"$f":"NOT(ISNA(VLOOKUP(JC$3,refHolidays[],1,0)))","v":false},{"$f":"NOT(ISNA(VLOOKUP(JD$3,refHolidays[],1,0)))","v":false},{"$f":"NOT(ISNA(VLOOKUP(JE$3,refHolidays[],1,0)))","v":false},{"$f":"NOT(ISNA(VLOOKUP(JF$3,refHolidays[],1,0)))","v":false},{"$f":"NOT(ISNA(VLOOKUP(JG$3,refHolidays[],1,0)))","v":false},{"$f":"NOT(ISNA(VLOOKUP(JH$3,refHolidays[],1,0)))","v":false},{"$f":"NOT(ISNA(VLOOKUP(JI$3,refHolidays[],1,0)))","v":false},{"$f":"NOT(ISNA(VLOOKUP(JJ$3,refHolidays[],1,0)))","v":false},{"$f":"NOT(ISNA(VLOOKUP(JK$3,refHolidays[],1,0)))","v":false},{"$f":"NOT(ISNA(VLOOKUP(JL$3,refHolidays[],1,0)))","v":false},{"$f":"NOT(ISNA(VLOOKUP(JM$3,refHolidays[],1,0)))","v":false},{"$f":"NOT(ISNA(VLOOKUP(JN$3,refHolidays[],1,0)))","v":false},{"$f":"NOT(ISNA(VLOOKUP(JO$3,refHolidays[],1,0)))","v":false},{"$f":"NOT(ISNA(VLOOKUP(JP$3,refHolidays[],1,0)))","v":false},{"$f":"NOT(ISNA(VLOOKUP(JQ$3,refHolidays[],1,0)))","v":false},{"$f":"NOT(ISNA(VLOOKUP(JR$3,refHolidays[],1,0)))","v":false},{"$f":"NOT(ISNA(VLOOKUP(JS$3,refHolidays[],1,0)))","v":false},{"$f":"NOT(ISNA(VLOOKUP(JT$3,refHolidays[],1,0)))","v":false},{"$f":"NOT(ISNA(VLOOKUP(JU$3,refHolidays[],1,0)))","v":false},{"$f":"NOT(ISNA(VLOOKUP(JV$3,refHolidays[],1,0)))","v":false},{"$f":"NOT(ISNA(VLOOKUP(JW$3,refHolidays[],1,0)))","v":false},{"$f":"NOT(ISNA(VLOOKUP(JX$3,refHolidays[],1,0)))","v":false},{"$f":"NOT(ISNA(VLOOKUP(JY$3,refHolidays[],1,0)))","v":false},{"$f":"NOT(ISNA(VLOOKUP(JZ$3,refHolidays[],1,0)))","v":false},{"$f":"NOT(ISNA(VLOOKUP(KA$3,refHolidays[],1,0)))","v":false},{"$f":"NOT(ISNA(VLOOKUP(KB$3,refHolidays[],1,0)))","v":false},{"$f":"NOT(ISNA(VLOOKUP(KC$3,refHolidays[],1,0)))","v":false},{"$f":"NOT(ISNA(VLOOKUP(KD$3,refHolidays[],1,0)))","v":false},{"$f":"NOT(ISNA(VLOOKUP(KE$3,refHolidays[],1,0)))","v":false},{"$f":"NOT(ISNA(VLOOKUP(KF$3,refHolidays[],1,0)))","v":false},{"$f":"NOT(ISNA(VLOOKUP(KG$3,refHolidays[],1,0)))","v":false},{"$f":"NOT(ISNA(VLOOKUP(KH$3,refHolidays[],1,0)))","v":false},{"$f":"NOT(ISNA(VLOOKUP(KI$3,refHolidays[],1,0)))","v":false},{"$f":"NOT(ISNA(VLOOKUP(KJ$3,refHolidays[],1,0)))","v":false},{"$f":"NOT(ISNA(VLOOKUP(KK$3,refHolidays[],1,0)))","v":false},{"$f":"NOT(ISNA(VLOOKUP(KL$3,refHolidays[],1,0)))","v":false},{"$f":"NOT(ISNA(VLOOKUP(KM$3,refHolidays[],1,0)))","v":false},{"$f":"NOT(ISNA(VLOOKUP(KN$3,refHolidays[],1,0)))","v":false},{"$f":"NOT(ISNA(VLOOKUP(KO$3,refHolidays[],1,0)))","v":false},{"$f":"NOT(ISNA(VLOOKUP(KP$3,refHolidays[],1,0)))","v":false},{"$f":"NOT(ISNA(VLOOKUP(KQ$3,refHolidays[],1,0)))","v":false},{"$f":"NOT(ISNA(VLOOKUP(KR$3,refHolidays[],1,0)))","v":false},{"$f":"NOT(ISNA(VLOOKUP(KS$3,refHolidays[],1,0)))","v":false},{"$f":"NOT(ISNA(VLOOKUP(KT$3,refHolidays[],1,0)))","v":false},{"$f":"NOT(ISNA(VLOOKUP(KU$3,refHolidays[],1,0)))","v":false},{"$f":"NOT(ISNA(VLOOKUP(KV$3,refHolidays[],1,0)))","v":false},{"$f":"NOT(ISNA(VLOOKUP(KW$3,refHolidays[],1,0)))","v":false},{"$f":"NOT(ISNA(VLOOKUP(KX$3,refHolidays[],1,0)))","v":false},{"$f":"NOT(ISNA(VLOOKUP(KY$3,refHolidays[],1,0)))","v":false},{"$f":"NOT(ISNA(VLOOKUP(KZ$3,refHolidays[],1,0)))","v":false},{"$f":"NOT(ISNA(VLOOKUP(LA$3,refHolidays[],1,0)))","v":false},{"$f":"NOT(ISNA(VLOOKUP(LB$3,refHolidays[],1,0)))","v":false},{"$f":"NOT(ISNA(VLOOKUP(LC$3,refHolidays[],1,0)))","v":false},{"$f":"NOT(ISNA(VLOOKUP(LD$3,refHolidays[],1,0)))","v":false},{"$f":"NOT(ISNA(VLOOKUP(LE$3,refHolidays[],1,0)))","v":false},{"$f":"NOT(ISNA(VLOOKUP(LF$3,refHolidays[],1,0)))","v":false},{"$f":"NOT(ISNA(VLOOKUP(LG$3,refHolidays[],1,0)))","v":false},{"$f":"NOT(ISNA(VLOOKUP(LH$3,refHolidays[],1,0)))","v":false},{"$f":"NOT(ISNA(VLOOKUP(LI$3,refHolidays[],1,0)))","v":false},{"$f":"NOT(ISNA(VLOOKUP(LJ$3,refHolidays[],1,0)))","v":false},{"$f":"NOT(ISNA(VLOOKUP(LK$3,refHolidays[],1,0)))","v":false},{"$f":"NOT(ISNA(VLOOKUP(LL$3,refHolidays[],1,0)))","v":false},{"$f":"NOT(ISNA(VLOOKUP(LM$3,refHolidays[],1,0)))","v":false},{"$f":"NOT(ISNA(VLOOKUP(LN$3,refHolidays[],1,0)))","v":false},{"$f":"NOT(ISNA(VLOOKUP(LO$3,refHolidays[],1,0)))","v":false},{"$f":"NOT(ISNA(VLOOKUP(LP$3,refHolidays[],1,0)))","v":false},{"$f":"NOT(ISNA(VLOOKUP(LQ$3,refHolidays[],1,0)))","v":false},{"$f":"NOT(ISNA(VLOOKUP(LR$3,refHolidays[],1,0)))","v":false},{"$f":"NOT(ISNA(VLOOKUP(LS$3,refHolidays[],1,0)))","v":false},{"$f":"NOT(ISNA(VLOOKUP(LT$3,refHolidays[],1,0)))","v":false},{"$f":"NOT(ISNA(VLOOKUP(LU$3,refHolidays[],1,0)))","v":false},{"$f":"NOT(ISNA(VLOOKUP(LV$3,refHolidays[],1,0)))","v":false},{"$f":"NOT(ISNA(VLOOKUP(LW$3,refHolidays[],1,0)))","v":false},{"$f":"NOT(ISNA(VLOOKUP(LX$3,refHolidays[],1,0)))","v":false},{"$f":"NOT(ISNA(VLOOKUP(LY$3,refHolidays[],1,0)))","v":false},{"$f":"NOT(ISNA(VLOOKUP(LZ$3,refHolidays[],1,0)))","v":false},{"$f":"NOT(ISNA(VLOOKUP(MA$3,refHolidays[],1,0)))","v":false},{"$f":"NOT(ISNA(VLOOKUP(MB$3,refHolidays[],1,0)))","v":false},{"$f":"NOT(ISNA(VLOOKUP(MC$3,refHolidays[],1,0)))","v":false},{"$f":"NOT(ISNA(VLOOKUP(MD$3,refHolidays[],1,0)))","v":false},{"$f":"NOT(ISNA(VLOOKUP(ME$3,refHolidays[],1,0)))","v":false},{"$f":"NOT(ISNA(VLOOKUP(MF$3,refHolidays[],1,0)))","v":false},{"$f":"NOT(ISNA(VLOOKUP(MG$3,refHolidays[],1,0)))","v":false},{"$f":"NOT(ISNA(VLOOKUP(MH$3,refHolidays[],1,0)))","v":false},{"$f":"NOT(ISNA(VLOOKUP(MI$3,refHolidays[],1,0)))","v":false},{"$f":"NOT(ISNA(VLOOKUP(MJ$3,refHolidays[],1,0)))","v":false},{"$f":"NOT(ISNA(VLOOKUP(MK$3,refHolidays[],1,0)))","v":false},{"$f":"NOT(ISNA(VLOOKUP(ML$3,refHolidays[],1,0)))","v":false},{"$f":"NOT(ISNA(VLOOKUP(MM$3,refHolidays[],1,0)))","v":false},{"$f":"NOT(ISNA(VLOOKUP(MN$3,refHolidays[],1,0)))","v":false},{"$f":"NOT(ISNA(VLOOKUP(MO$3,refHolidays[],1,0)))","v":false},{"$f":"NOT(ISNA(VLOOKUP(MP$3,refHolidays[],1,0)))","v":false},{"$f":"NOT(ISNA(VLOOKUP(MQ$3,refHolidays[],1,0)))","v":false},{"$f":"NOT(ISNA(VLOOKUP(MR$3,refHolidays[],1,0)))","v":false},{"$f":"NOT(ISNA(VLOOKUP(MS$3,refHolidays[],1,0)))","v":false},{"$f":"NOT(ISNA(VLOOKUP(MT$3,refHolidays[],1,0)))","v":false},{"$f":"NOT(ISNA(VLOOKUP(MU$3,refHolidays[],1,0)))","v":false},{"$f":"NOT(ISNA(VLOOKUP(MV$3,refHolidays[],1,0)))","v":false},{"$f":"NOT(ISNA(VLOOKUP(MW$3,refHolidays[],1,0)))","v":false},{"$f":"NOT(ISNA(VLOOKUP(MX$3,refHolidays[],1,0)))","v":false},{"$f":"NOT(ISNA(VLOOKUP(MY$3,refHolidays[],1,0)))","v":false},{"$f":"NOT(ISNA(VLOOKUP(MZ$3,refHolidays[],1,0)))","v":false},{"$f":"NOT(ISNA(VLOOKUP(NA$3,refHolidays[],1,0)))","v":false},{"$f":"NOT(ISNA(VLOOKUP(NB$3,refHolidays[],1,0)))","v":false},{"$f":"NOT(ISNA(VLOOKUP(NC$3,refHolidays[],1,0)))","v":false},{"$f":"NOT(ISNA(VLOOKUP(ND$3,refHolidays[],1,0)))","v":false},{"$f":"NOT(ISNA(VLOOKUP(NE$3,refHolidays[],1,0)))","v":false},{"$f":"NOT(ISNA(VLOOKUP(NF$3,refHolidays[],1,0)))","v":false},{"$f":"NOT(ISNA(VLOOKUP(NG$3,refHolidays[],1,0)))","v":false},{"$f":"NOT(ISNA(VLOOKUP(NH$3,refHolidays[],1,0)))","v":false},{"$f":"NOT(ISNA(VLOOKUP(NI$3,refHolidays[],1,0)))","v":false},{"$f":"NOT(ISNA(VLOOKUP(NJ$3,refHolidays[],1,0)))","v":false},{"$f":"NOT(ISNA(VLOOKUP(NK$3,refHolidays[],1,0)))","v":false},{"$f":"NOT(ISNA(VLOOKUP(NL$3,refHolidays[],1,0)))","v":false},{"$f":"NOT(ISNA(VLOOKUP(NM$3,refHolidays[],1,0)))","v":false},{"$f":"NOT(ISNA(VLOOKUP(NN$3,refHolidays[],1,0)))","v":false},{"$f":"NOT(ISNA(VLOOKUP(NO$3,refHolidays[],1,0)))","v":false},{"$f":"NOT(ISNA(VLOOKUP(NP$3,refHolidays[],1,0)))","v":false},{"$f":"NOT(ISNA(VLOOKUP(NQ$3,refHolidays[],1,0)))","v":false},{"$f":"NOT(ISNA(VLOOKUP(NR$3,refHolidays[],1,0)))","v":false},{"$f":"NOT(ISNA(VLOOKUP(NS$3,refHolidays[],1,0)))","v":false},{"$f":"NOT(ISNA(VLOOKUP(NT$3,refHolidays[],1,0)))","v":false},{"$f":"NOT(ISNA(VLOOKUP(NU$3,refHolidays[],1,0)))","v":false},{"$f":"NOT(ISNA(VLOOKUP(NV$3,refHolidays[],1,0)))","v":false},{"$f":"NOT(ISNA(VLOOKUP(NW$3,refHolidays[],1,0)))","v":false},{"$f":"NOT(ISNA(VLOOKUP(NX$3,refHolidays[],1,0)))","v":false},{"$f":"NOT(ISNA(VLOOKUP(NY$3,refHolidays[],1,0)))","v":false},{"$f":"NOT(ISNA(VLOOKUP(NZ$3,refHolidays[],1,0)))","v":false},{"$f":"NOT(ISNA(VLOOKUP(OA$3,refHolidays[],1,0)))","v":false},{"$f":"NOT(ISNA(VLOOKUP(OB$3,refHolidays[],1,0)))","v":false},{"$f":"NOT(ISNA(VLOOKUP(OC$3,refHolidays[],1,0)))","v":false},{"$f":"NOT(ISNA(VLOOKUP(OD$3,refHolidays[],1,0)))","v":false},{"$f":"NOT(ISNA(VLOOKUP(OE$3,refHolidays[],1,0)))","v":false},{"$f":"NOT(ISNA(VLOOKUP(OF$3,refHolidays[],1,0)))","v":false},{"$f":"NOT(ISNA(VLOOKUP(OG$3,refHolidays[],1,0)))","v":false},{"$f":"NOT(ISNA(VLOOKUP(OH$3,refHolidays[],1,0)))","v":false},{"$f":"NOT(ISNA(VLOOKUP(OI$3,refHolidays[],1,0)))","v":false},{"$f":"NOT(ISNA(VLOOKUP(OJ$3,refHolidays[],1,0)))","v":false},{"$f":"NOT(ISNA(VLOOKUP(OK$3,refHolidays[],1,0)))","v":false},{"$f":"NOT(ISNA(VLOOKUP(OL$3,refHolidays[],1,0)))","v":false},{"$f":"NOT(ISNA(VLOOKUP(OM$3,refHolidays[],1,0)))","v":false},{"$f":"NOT(ISNA(VLOOKUP(ON$3,refHolidays[],1,0)))","v":false},{"$f":"NOT(ISNA(VLOOKUP(OO$3,refHolidays[],1,0)))","v":false},{"$f":"NOT(ISNA(VLOOKUP(OP$3,refHolidays[],1,0)))","v":false},{"$f":"NOT(ISNA(VLOOKUP(OQ$3,refHolidays[],1,0)))","v":false},{"$f":"NOT(ISNA(VLOOKUP(OR$3,refHolidays[],1,0)))","v":false},{"$f":"NOT(ISNA(VLOOKUP(OS$3,refHolidays[],1,0)))","v":false},{"$f":"NOT(ISNA(VLOOKUP(OT$3,refHolidays[],1,0)))","v":false},{"$f":"NOT(ISNA(VLOOKUP(OU$3,refHolidays[],1,0)))","v":false},{"$f":"NOT(ISNA(VLOOKUP(OV$3,refHolidays[],1,0)))","v":false},{"$f":"NOT(ISNA(VLOOKUP(OW$3,refHolidays[],1,0)))","v":false},{"$f":"NOT(ISNA(VLOOKUP(OX$3,refHolidays[],1,0)))","v":false},{"$f":"NOT(ISNA(VLOOKUP(OY$3,refHolidays[],1,0)))","v":false},{"$f":"NOT(ISNA(VLOOKUP(OZ$3,refHolidays[],1,0)))","v":false},{"$f":"NOT(ISNA(VLOOKUP(PA$3,refHolidays[],1,0)))","v":false},{"$f":"NOT(ISNA(VLOOKUP(PB$3,refHolidays[],1,0)))","v":false},{"$f":"NOT(ISNA(VLOOKUP(PC$3,refHolidays[],1,0)))","v":false},{"$f":"NOT(ISNA(VLOOKUP(PD$3,refHolidays[],1,0)))","v":false},{"$f":"NOT(ISNA(VLOOKUP(PE$3,refHolidays[],1,0)))","v":false},{"$f":"NOT(ISNA(VLOOKUP(PF$3,refHolidays[],1,0)))","v":false},{"$f":"NOT(ISNA(VLOOKUP(PG$3,refHolidays[],1,0)))","v":false},{"$f":"NOT(ISNA(VLOOKUP(PH$3,refHolidays[],1,0)))","v":false},{"$f":"NOT(ISNA(VLOOKUP(PI$3,refHolidays[],1,0)))","v":false},{"$f":"NOT(ISNA(VLOOKUP(PJ$3,refHolidays[],1,0)))","v":false},{"$f":"NOT(ISNA(VLOOKUP(PK$3,refHolidays[],1,0)))","v":false},{"$f":"NOT(ISNA(VLOOKUP(PL$3,refHolidays[],1,0)))","v":false},{"$f":"NOT(ISNA(VLOOKUP(PM$3,refHolidays[],1,0)))","v":false},{"$f":"NOT(ISNA(VLOOKUP(PN$3,refHolidays[],1,0)))","v":false},{"$f":"NOT(ISNA(VLOOKUP(PO$3,refHolidays[],1,0)))","v":false},{"$f":"NOT(ISNA(VLOOKUP(PP$3,refHolidays[],1,0)))","v":false},{"$f":"NOT(ISNA(VLOOKUP(PQ$3,refHolidays[],1,0)))","v":false},{"$f":"NOT(ISNA(VLOOKUP(PR$3,refHolidays[],1,0)))","v":false},{"$f":"NOT(ISNA(VLOOKUP(PS$3,refHolidays[],1,0)))","v":false},{"$f":"NOT(ISNA(VLOOKUP(PT$3,refHolidays[],1,0)))","v":false},{"$f":"NOT(ISNA(VLOOKUP(PU$3,refHolidays[],1,0)))","v":false},{"$f":"NOT(ISNA(VLOOKUP(PV$3,refHolidays[],1,0)))","v":false},{"$f":"NOT(ISNA(VLOOKUP(PW$3,refHolidays[],1,0)))","v":false},{"$f":"NOT(ISNA(VLOOKUP(PX$3,refHolidays[],1,0)))","v":false},{"$f":"NOT(ISNA(VLOOKUP(PY$3,refHolidays[],1,0)))","v":false},{"$f":"NOT(ISNA(VLOOKUP(PZ$3,refHolidays[],1,0)))","v":false},{"$f":"NOT(ISNA(VLOOKUP(QA$3,refHolidays[],1,0)))","v":false},{"$f":"NOT(ISNA(VLOOKUP(QB$3,refHolidays[],1,0)))","v":false},{"$f":"NOT(ISNA(VLOOKUP(QC$3,refHolidays[],1,0)))","v":false},{"$f":"NOT(ISNA(VLOOKUP(QD$3,refHolidays[],1,0)))","v":false},{"$f":"NOT(ISNA(VLOOKUP(QE$3,refHolidays[],1,0)))","v":false},{"$f":"NOT(ISNA(VLOOKUP(QF$3,refHolidays[],1,0)))","v":false},{"$f":"NOT(ISNA(VLOOKUP(QG$3,refHolidays[],1,0)))","v":false},{"$f":"NOT(ISNA(VLOOKUP(QH$3,refHolidays[],1,0)))","v":false},{"$f":"NOT(ISNA(VLOOKUP(QI$3,refHolidays[],1,0)))","v":false},{"$f":"NOT(ISNA(VLOOKUP(QJ$3,refHolidays[],1,0)))","v":false},{"$f":"NOT(ISNA(VLOOKUP(QK$3,refHolidays[],1,0)))","v":false},{"$f":"NOT(ISNA(VLOOKUP(QL$3,refHolidays[],1,0)))","v":false},{"$f":"NOT(ISNA(VLOOKUP(QM$3,refHolidays[],1,0)))","v":false},{"$f":"NOT(ISNA(VLOOKUP(QN$3,refHolidays[],1,0)))","v":false},{"$f":"NOT(ISNA(VLOOKUP(QO$3,refHolidays[],1,0)))","v":false},{"$f":"NOT(ISNA(VLOOKUP(QP$3,refHolidays[],1,0)))","v":false},{"$f":"NOT(ISNA(VLOOKUP(QQ$3,refHolidays[],1,0)))","v":false},{"$f":"NOT(ISNA(VLOOKUP(QR$3,refHolidays[],1,0)))","v":false},{"$f":"NOT(ISNA(VLOOKUP(QS$3,refHolidays[],1,0)))","v":false},{"$f":"NOT(ISNA(VLOOKUP(QT$3,refHolidays[],1,0)))","v":false},{"$f":"NOT(ISNA(VLOOKUP(QU$3,refHolidays[],1,0)))","v":false},{"$f":"NOT(ISNA(VLOOKUP(QV$3,refHolidays[],1,0)))","v":false},{"$f":"NOT(ISNA(VLOOKUP(QW$3,refHolidays[],1,0)))","v":false},{"$f":"NOT(ISNA(VLOOKUP(QX$3,refHolidays[],1,0)))","v":false},{"$f":"NOT(ISNA(VLOOKUP(QY$3,refHolidays[],1,0)))","v":false},{"$f":"NOT(ISNA(VLOOKUP(QZ$3,refHolidays[],1,0)))","v":false},{"$f":"NOT(ISNA(VLOOKUP(RA$3,refHolidays[],1,0)))","v":false},{"$f":"NOT(ISNA(VLOOKUP(RB$3,refHolidays[],1,0)))","v":false},{"$f":"NOT(ISNA(VLOOKUP(RC$3,refHolidays[],1,0)))","v":false},{"$f":"NOT(ISNA(VLOOKUP(RD$3,refHolidays[],1,0)))","v":false},{"$f":"NOT(ISNA(VLOOKUP(RE$3,refHolidays[],1,0)))","v":false},{"$f":"NOT(ISNA(VLOOKUP(RF$3,refHolidays[],1,0)))","v":false},{"$f":"NOT(ISNA(VLOOKUP(RG$3,refHolidays[],1,0)))","v":false},{"$f":"NOT(ISNA(VLOOKUP(RH$3,refHolidays[],1,0)))","v":false},{"$f":"NOT(ISNA(VLOOKUP(RI$3,refHolidays[],1,0)))","v":false},{"$f":"NOT(ISNA(VLOOKUP(RJ$3,refHolidays[],1,0)))","v":false},{"$f":"NOT(ISNA(VLOOKUP(RK$3,refHolidays[],1,0)))","v":false},{"$f":"NOT(ISNA(VLOOKUP(RL$3,refHolidays[],1,0)))","v":false},{"$f":"NOT(ISNA(VLOOKUP(RM$3,refHolidays[],1,0)))","v":false},{"$f":"NOT(ISNA(VLOOKUP(RN$3,refHolidays[],1,0)))","v":false},{"$f":"NOT(ISNA(VLOOKUP(RO$3,refHolidays[],1,0)))","v":false},{"$f":"NOT(ISNA(VLOOKUP(RP$3,refHolidays[],1,0)))","v":false},{"$f":"NOT(ISNA(VLOOKUP(RQ$3,refHolidays[],1,0)))","v":false},{"$f":"NOT(ISNA(VLOOKUP(RR$3,refHolidays[],1,0)))","v":false},{"$f":"NOT(ISNA(VLOOKUP(RS$3,refHolidays[],1,0)))","v":false},{"$f":"NOT(ISNA(VLOOKUP(RT$3,refHolidays[],1,0)))","v":false},{"$f":"NOT(ISNA(VLOOKUP(RU$3,refHolidays[],1,0)))","v":false},{"$f":"NOT(ISNA(VLOOKUP(RV$3,refHolidays[],1,0)))","v":false},{"$f":"NOT(ISNA(VLOOKUP(RW$3,refHolidays[],1,0)))","v":false},{"$f":"NOT(ISNA(VLOOKUP(RX$3,refHolidays[],1,0)))","v":false},{"$f":"NOT(ISNA(VLOOKUP(RY$3,refHolidays[],1,0)))","v":false},{"$f":"NOT(ISNA(VLOOKUP(RZ$3,refHolidays[],1,0)))","v":false},{"$f":"NOT(ISNA(VLOOKUP(SA$3,refHolidays[],1,0)))","v":false},{"$f":"NOT(ISNA(VLOOKUP(SB$3,refHolidays[],1,0)))","v":false},{"$f":"NOT(ISNA(VLOOKUP(SC$3,refHolidays[],1,0)))","v":false},{"$f":"NOT(ISNA(VLOOKUP(SD$3,refHolidays[],1,0)))","v":false},{"$f":"NOT(ISNA(VLOOKUP(SE$3,refHolidays[],1,0)))","v":false},{"$f":"NOT(ISNA(VLOOKUP(SF$3,refHolidays[],1,0)))","v":false},{"$f":"NOT(ISNA(VLOOKUP(SG$3,refHolidays[],1,0)))","v":false},{"$f":"NOT(ISNA(VLOOKUP(SH$3,refHolidays[],1,0)))","v":false},{"$f":"NOT(ISNA(VLOOKUP(SI$3,refHolidays[],1,0)))","v":false},{"$f":"NOT(ISNA(VLOOKUP(SJ$3,refHolidays[],1,0)))","v":false},{"$f":"NOT(ISNA(VLOOKUP(SK$3,refHolidays[],1,0)))","v":false},{"$f":"NOT(ISNA(VLOOKUP(SL$3,refHolidays[],1,0)))","v":false},{"$f":"NOT(ISNA(VLOOKUP(SM$3,refHolidays[],1,0)))","v":false},{"$f":"NOT(ISNA(VLOOKUP(SN$3,refHolidays[],1,0)))","v":false},{"$f":"NOT(ISNA(VLOOKUP(SO$3,refHolidays[],1,0)))","v":false},{"$f":"NOT(ISNA(VLOOKUP(SP$3,refHolidays[],1,0)))","v":false},{"$f":"NOT(ISNA(VLOOKUP(SQ$3,refHolidays[],1,0)))","v":false},null,{"$f":"IF(zzzTechVisibility,1,0)","v":0}]
[1,1,1,1,{"$f":"IF(zzzTechVisibility,1,0)","v":0},0,0,0,0,0,1,{"$f":"IF(L$1<=gLastColumnToShow,1,0)","v":1},1,1,1,1,1,1,1,1,1,1,1,1,1,1,1,1,1,1,1,1,1,1,1,1,1,1,1,1,1,1,1,1,1,1,1,1,1,1,1,1,1,1,1,1,1,1,1,1,1,1,1,1,1,1,1,1,1,1,1,1,1,1,1,{"$f":"IF(BX$1<=gLastColumnToShow,1,0)","v":1},1,1,1,1,1,1,1,1,1,1,1,1,1,1,1,1,1,0,0,0,0,0,0,0,0,0,0,0,0,0,0,0,0,0,0,0,0,0,0,0,0,0,0,0,0,0,0,0,0,0,0,0,0,0,0,0,0,0,0,0,0,0,0,{"$f":"IF(EJ$1<=gLastColumnToShow,1,0)","v":0},0,0,0,0,0,0,0,0,0,0,0,0,0,0,0,0,0,0,0,0,0,0,0,0,0,0,0,0,0,0,0,0,0,0,0,0,0,0,0,0,0,0,0,0,0,0,0,0,0,0,0,0,0,0,0,0,0,0,0,0,0,0,0,{"$f":"IF(GV$1<=gLastColumnToShow,1,0)","v":0},0,0,0,0,0,0,0,0,0,0,0,0,0,0,0,0,0,0,0,0,0,0,0,0,0,0,0,0,0,0,0,0,0,0,0,0,0,0,0,0,0,0,0,0,0,0,0,0,0,0,0,0,0,0,0,0,0,0,0,0,0,0,0,{"$f":"IF(JH$1<=gLastColumnToShow,1,0)","v":0},0,0,0,0,0,0,0,0,0,0,0,0,0,0,0,0,0,0,0,0,0,0,0,0,0,0,0,0,0,0,0,0,0,0,0,0,0,0,0,0,0,0,0,0,0,0,0,0,0,0,0,0,0,0,0,0,0,0,0,0,0,0,0,{"$f":"IF(LT$1<=gLastColumnToShow,1,0)","v":0},0,0,0,0,0,0,0,0,0,0,0,0,0,0,0,0,0,0,0,0,0,0,0,0,0,0,0,0,0,0,0,0,0,0,0,0,0,0,0,0,0,0,0,0,0,0,0,0,0,0,0,0,0,0,0,0,0,0,0,0,0,0,0,{"$f":"IF(OF$1<=gLastColumnToShow,1,0)","v":0},0,0,0,0,0,0,0,0,0,0,0,0,0,0,0,0,0,0,0,0,0,0,0,0,0,0,0,0,0,0,0,0,0,0,0,0,0,0,0,0,0,0,0,0,0,0,0,0,0,0,0,0,0,0,0,0,0,0,0,0,0,0,0,{"$f":"IF(QR$1<=gLastColumnToShow,1,0)","v":0},0,0,0,0,0,0,0,0,0,0,0,0,0,0,0,0,0,0,0,0,0,0,0,0,0,0,0,0,0,0,0,0,0,0,0,0,0,0,0,0,0,0,0,0,0,0,0,0,0,0,0,1,{"$f":"IF(zzzTechVisibility,1,0)","v":0}]

{"sheet":"Actions","index":2,"n_rows":36,"n_cols":18,"rows_kept":36,"cut":false,"hidden":false,"merged":[]}
["id","Пункт плана","Уровень","Веха","Перекрытие дней","План. Начало","План. конец","План. Длит.","Факт. Начало","Факт. Конец","Факт. Длит.","Сделано","Плановые затраты","Факт. затраты","Необходимый уровень качества","Достигнутый уровень качества","Связанная проблема","Связанный риск"]
[1,"Планирование",1,"нет",null,"2014-03-01","2014-05-13",74,"2014-05-01","2014-08-02",94,0.97872340425531912]
[2,"Выявление ремонтируемых помещений",2,"нет",null,"2014-03-01","2014-03-01",1,"2014-05-01","2014-05-02",2,1,null,null,"Хорошо","Хорошо"]
[3,"Требования к ремонту",2,"нет",null,"2014-03-02","2014-03-02",1,"2014-05-03","2014-05-04",2,1,null,null,"Отлично","Хорошо"]
[4,"Определение верхней границы затрат",2,"нет",null,"2014-03-03","2014-03-03",1,"2014-05-05","2014-05-07",3,1,null,null,"Отлично","Хорошо"]
[5,"Определение источника финансирования",2,"нет",null,"2014-03-04","2014-03-05",2,"2014-05-08","2014-05-11",4,1,null,null,"Отлично","Хорошо"]
[6,"Изучение рынка материалов",2,"нет",null,"2014-03-06","2014-03-19",14,"2014-05-12","2014-05-31",20,0.9,null,null,"Хорошо","Хорошо"]
[7,"Изучение рынка услуг",2,"нет",null,"2014-03-20","2014-04-02",14,"2014-06-01","2014-06-16",16,1,null,null,"Хорошо","Хорошо"]
[8,"Разработка дизайн-проекта",2,"нет",null,"2014-04-03","2014-04-12",10,"2014-06-17","2014-06-24",8,1,20000,25000,"Хорошо","Хорошо"]
[9,"Разработка сметы проекта",2,"Да",null,"2014-04-13","2014-04-22",10,"2014-06-25","2014-07-01",7,1,11000,10000,"Хорошо","Хорошо"]
[10,"Поиск подрядчика",2,"нет",null,"2014-04-23","2014-05-06",14,"2014-07-02","2014-07-23",22,1,null,null,"Хорошо","Хорошо"]
[11,"Заключение договора с подрядчиком",2,"Да",null,"2014-05-07","2014-05-13",7,"2014-07-24","2014-08-02",10,1,1000,1500,"Хорошо","Хорошо"]
[12,"Реализация",1,"нет",null,"2014-05-14","2014-08-06",85,"2014-08-03","2014-11-04",94,0.77978723404255312]
[13,"Подготовка помещений",2,"нет",null,"2014-05-14","2014-05-15",2,"2014-08-03","2014-08-05",3,1,20000,20000,"Хорошо","Хорошо"]
[14,"Снос стен",2,"нет",null,"2014-05-16","2014-05-22",7,"2014-08-06","2014-08-12",7,1,50000,62000,"Хорошо","Хорошо"]
[15,"Закупка материалов",2,"нет",null,"2014-05-23","2014-06-01",10,"2014-08-13","2014-08-21",9,1,87000,85500,null,null,"Плохое качество материалов","Проблемы с финансированием"]
[16,"Доставка материалов",2,"нет",null,"2014-06-02","2014-06-03",2,"2014-08-22","2014-08-26",5,1,12000,11500]
[17,"Подготовка потолков",2,"нет",null,"2014-06-04","2014-06-10",7,"2014-08-27","2014-09-03",8,1,34000,37000,"Хорошо","Хорошо",null,"Запой Михалыча"]
[18,"Подготовка стен",2,"нет",null,"2014-06-11","2014-06-20",10,"2014-09-04","2014-09-14",11,1,48500,45000,"Хорошо","Хорошо"]
[19,"Монтаж окон",2,"Да",null,"2014-06-21","2014-06-22",2,"2014-09-15","2014-09-17",3,1,120000,125000,"Отлично","Хорошо"]
[20,"Монтаж дверей",2,"нет",1,"2014-06-22","2014-06-23",2,"2014-09-17","2014-09-17",1,1,42000,45000,"Отлично","Хорошо"]
[21,"Подготовка пола",2,"нет",2,"2014-06-22","2014-07-05",14,"2014-09-16","2014-09-30",15,1,27000,30000,"Хорошо","Хорошо"]
[22,"Контроль качества",2,"нет",null,"2014-07-06","2014-07-06",1,"2014-10-01","2014-10-03",3,1,null,null,"Хорошо","Хорошо"]
[23,"Потолочные конструкции",2,"Да",null,"2014-07-07","2014-07-11",5,"2014-10-04","2014-10-09",6,0.8,92000,99000,"Хорошо","Хорошо"]
[24,"Стеновые конструкции",2,"Да",null,"2014-07-12","2014-07-18",7,"2014-10-10","2014-10-16",7,0.5,150000,125000,"Хорошо","Приемлемо"]
[25,"Покраска",2,"нет",null,"2014-07-19","2014-07-22",4,"2014-10-17","2014-10-19",3,0,32000,32000,"Отлично","Приемлемо"]
[26,"Монтаж полового покрытия",2,"Да",null,"2014-07-23","2014-07-27",5,"2014-10-20","2014-10-22",3,0,51000,64000,"Отлично","Хорошо"]
[27,"Контроль качества",2,"нет",null,"2014-07-28","2014-07-28",1,"2014-10-23","2014-10-23",1,0,null,null,"Хорошо","Хорошо"]
[28,"Доставка мебели",2,"нет",null,"2014-07-29","2014-07-30",2,"2014-10-24","2014-10-26",3,0,5000,6000,"Хорошо","Хорошо"]
[29,"Сборка мебели",2,"нет",null,"2014-07-31","2014-07-31",1,"2014-10-27","2014-10-27",1,0,2000,2500,"Хорошо","Хорошо"]
[30,"Установка мебели",2,"Да",null,"2014-08-01","2014-08-02",2,"2014-10-28","2014-10-29",2,0,500,1000,"Хорошо","Хорошо"]
[31,"Контроль качества",2,"нет",null,"2014-08-03","2014-08-03",1,"2014-10-30","2014-11-01",3,0,null,1000,"Хорошо","Хорошо"]
[32,"Завершение",1,"нет",null,"2014-08-04","2014-08-09",6,"2014-11-02","2014-11-07",6]
[33,"Приёмка работ",2,"Да",null,"2014-08-04","2014-08-04",1,"2014-11-02","2014-11-03",2,0,null,null,"Хорошо","Хорошо"]
[34,"Устранение недостатков",2,"нет",null,"2014-08-05","2014-08-07",3,"2014-11-04","2014-11-05",2,0,null,300,"Хорошо","Хорошо"]
[35,"Оплата услуг подрядчика",2,"нет",null,"2014-08-08","2014-08-09",2,"2014-11-06","2014-11-07",2,0,null,500]

{"sheet":"Act+Res","index":3,"n_rows":103,"n_cols":39,"rows_kept":103,"cut":false,"hidden":false,"merged":[[0,17,0,18],[0,1,1,1],[0,0,1,0],[0,19,0,20],[0,21,0,22],[0,7,0,8],[0,9,0,10],[0,11,0,12],[0,13,0,14],[0,15,0,16],[0,3,0,4],[0,5,0,6],[0,2,1,2],[0,23,0,24],[0,25,0,26],[0,27,0,28],[0,29,0,30],[0,31,0,32],[0,33,1,33],[0,37,1,37],[0,36,1,36],[0,35,1,35],[0,34,1,34]]}
["ID пункта","Пункт плана","Level",{"$f":"IFERROR(INDEX(tblResources[Краткое имя],(COLUMN()-1)/2),\"none\")","v":"ИС"},null,{"$f":"IFERROR(INDEX(tblResources[Краткое имя],(COLUMN()-1)/2),\"none\")","v":"КМ"},null,{"$f":"IFERROR(INDEX(tblResources[Краткое имя],(COLUMN()-1)/2),\"none\")","v":"СИ"},null,{"$f":"IFERROR(INDEX(tblResources[Краткое имя],(COLUMN()-1)/2),\"none\")","v":"ПС"},null,{"$f":"IFERROR(INDEX(tblResources[Краткое имя],(COLUMN()-1)/2),\"none\")","v":"none"},null,{"$f":"IFERROR(INDEX(tblResources[Краткое имя],(COLUMN()-1)/2),\"none\")","v":"none"},null,{"$f":"IFERROR(INDEX(tblResources[Краткое имя],(COLUMN()-1)/2),\"none\")","v":"none"},null,{"$f":"IFERROR(INDEX(tblResources[Краткое имя],(COLUMN()-1)/2),\"none\")","v":"none"},null,{"$f":"IFERROR(INDEX(tblResources[Краткое имя],(COLUMN()-1)/2),\"none\")","v":"none"},null,{"$f":"IFERROR(INDEX(tblResources[Краткое имя],(COLUMN()-1)/2),\"none\")","v":"none"},null,{"$f":"IFERROR(INDEX(tblResources[Краткое имя],(COLUMN()-1)/2),\"none\")","v":"none"},null,{"$f":"IFERROR(INDEX(tblResources[Краткое имя],(COLUMN()-1)/2),\"none\")","v":"none"},null,{"$f":"IFERROR(INDEX(tblResources[Краткое имя],(COLUMN()-1)/2),\"none\")","v":"none"},null,{"$f":"IFERROR(INDEX(tblResources[Краткое имя],(COLUMN()-1)/2),\"none\")","v":"none"},null,{"$f":"IFERROR(INDEX(tblResources[Краткое имя],(COLUMN()-1)/2),\"none\")","v":"none"},null,"SUM DIFF","SUM PLAN","PLAN DUR vs. TODAY","RES Fact vs Plan vs  DUR","TOTALS",1]
[null,null,null,"ПВ","ФВ","ПВ","ФВ","ПВ","ФВ","ПВ","ФВ","ПВ","ФВ","ПВ","ФВ","ПВ","ФВ","ПВ","ФВ","ПВ","ФВ","ПВ","ФВ","ПВ","ФВ","ПВ","ФВ","ПВ","ФВ","ПВ","ФВ","ПВ","ФВ",null,null,null,null,null,1]
[1,{"$f":"IFERROR(IF(C3=1,VLOOKUP(A3,tblActions[],2,0),\"   \"&VLOOKUP(A3,tblActions[],2,0)),\"\")","v":"Планирование"},{"$f":"IFERROR(VLOOKUP(A3,tblActions[],3,0),\"\")","v":1},null,null,null,null,null,null,null,null,null,null,null,null,null,null,null,null,null,null,null,null,null,null,null,null,null,null,null,null,null,null,{"$f":"D3-E3+F3-G3+H3-I3+J3-K3+L3-M3+N3-O3+P3-Q3+R3-S3+T3-U3+V3-W3+X3-Y3+Z3-AA3+AB3-AC3+AD3-AE3+AF3-AG3","v":0},{"$f":"D3+F3+H3+J3+L3+N3+P3+R3+T3+V3+X3+Z3+AB3+AD3+AF3","v":0},{"$f":"VLOOKUP($A3,rngSystemData,33,0)","v":0},{"$f":"IF(AND(AJ3<>0,AI3<>0),AJ3*AH3/AI3,0)","v":0},{"$f":"SUM($AJ$3:$AJ$102)","v":162},{"$f":"IF(OR($A3<>0,zzzTechVisibility),1,0)","v":1}]
[2,{"$f":"IFERROR(IF(C4=1,VLOOKUP(A4,tblActions[],2,0),\"   \"&VLOOKUP(A4,tblActions[],2,0)),\"\")","v":"   Выявление ремонтируемых помещений"},{"$f":"IFERROR(VLOOKUP(A4,tblActions[],3,0),\"\")","v":2},null,null,null,null,null,null,1,1,null,null,null,null,null,null,null,null,null,null,null,null,null,null,null,null,null,null,null,null,null,null,0,1,1,0,{"$f":"SUM($AK$3:$AK$102)","v":19.618531550551253},1]
[3,{"$f":"IFERROR(IF(C5=1,VLOOKUP(A5,tblActions[],2,0),\"   \"&VLOOKUP(A5,tblActions[],2,0)),\"\")","v":"   Требования к ремонту"},{"$f":"IFERROR(VLOOKUP(A5,tblActions[],3,0),\"\")","v":2},null,null,null,null,null,null,1,1,null,null,null,null,null,null,null,null,null,null,null,null,null,null,null,null,null,null,null,null,null,null,0,1,1,0,{"$f":"IFERROR(AL4/AL3,0)","v":0.12110204660834108},1]
[4,{"$f":"IFERROR(IF(C6=1,VLOOKUP(A6,tblActions[],2,0),\"   \"&VLOOKUP(A6,tblActions[],2,0)),\"\")","v":"   Определение верхней границы затрат"},{"$f":"IFERROR(VLOOKUP(A6,tblActions[],3,0),\"\")","v":2},null,null,null,null,null,null,1,1,null,null,null,null,null,null,null,null,null,null,null,null,null,null,null,null,null,null,null,null,null,null,0,1,1,0,null,1]
[5,{"$f":"IFERROR(IF(C7=1,VLOOKUP(A7,tblActions[],2,0),\"   \"&VLOOKUP(A7,tblActions[],2,0)),\"\")","v":"   Определение источника финансирования"},{"$f":"IFERROR(VLOOKUP(A7,tblActions[],3,0),\"\")","v":2},null,null,null,null,null,null,1,1,null,null,null,null,null,null,null,null,null,null,null,null,null,null,null,null,null,null,null,null,null,null,0,1,2,0,null,1]
[6,{"$f":"IFERROR(IF(C8=1,VLOOKUP(A8,tblActions[],2,0),\"   \"&VLOOKUP(A8,tblActions[],2,0)),\"\")","v":"   Изучение рынка материалов"},{"$f":"IFERROR(VLOOKUP(A8,tblActions[],3,0),\"\")","v":2},null,null,null,null,null,null,1,0.75,null,null,null,null,null,null,null,null,null,null,null,null,null,null,null,null,null,null,null,null,null,null,0.25,1,14,3.5,null,1]
[7,{"$f":"IFERROR(IF(C9=1,VLOOKUP(A9,tblActions[],2,0),\"   \"&VLOOKUP(A9,tblActions[],2,0)),\"\")","v":"   Изучение рынка услуг"},{"$f":"IFERROR(VLOOKUP(A9,tblActions[],3,0),\"\")","v":2},null,null,null,null,null,null,1,0.75,null,null,null,null,null,null,null,null,null,null,null,null,null,null,null,null,null,null,null,null,null,null,0.25,1,14,3.5,null,1]
[8,{"$f":"IFERROR(IF(C10=1,VLOOKUP(A10,tblActions[],2,0),\"   \"&VLOOKUP(A10,tblActions[],2,0)),\"\")","v":"   Разработка дизайн-проекта"},{"$f":"IFERROR(VLOOKUP(A10,tblActions[],3,0),\"\")","v":2},null,null,null,null,null,null,1,1,null,null,null,null,null,null,null,null,null,null,null,null,null,null,null,null,null,null,null,null,null,null,0,1,10,0,null,1]
[9,{"$f":"IFERROR(IF(C11=1,VLOOKUP(A11,tblActions[],2,0),\"   \"&VLOOKUP(A11,tblActions[],2,0)),\"\")","v":"   Разработка сметы проекта"},{"$f":"IFERROR(VLOOKUP(A11,tblActions[],3,0),\"\")","v":2},null,null,null,null,null,null,1,1,null,null,null,null,null,null,null,null,null,null,null,null,null,null,null,null,null,null,null,null,null,null,0,1,10,0,null,1]
[10,{"$f":"IFERROR(IF(C12=1,VLOOKUP(A12,tblActions[],2,0),\"   \"&VLOOKUP(A12,tblActions[],2,0)),\"\")","v":"   Поиск подрядчика"},{"$f":"IFERROR(VLOOKUP(A12,tblActions[],3,0),\"\")","v":2},null,null,null,null,null,null,1,0.8,null,null,null,null,null,null,null,null,null,null,null,null,null,null,null,null,null,null,null,null,null,null,0.19999999999999996,1,14,2.7999999999999994,null,1]
[11,{"$f":"IFERROR(IF(C13=1,VLOOKUP(A13,tblActions[],2,0),\"   \"&VLOOKUP(A13,tblActions[],2,0)),\"\")","v":"   Заключение договора с подрядчиком"},{"$f":"IFERROR(VLOOKUP(A13,tblActions[],3,0),\"\")","v":2},null,null,null,null,null,null,1,1,null,null,null,null,null,null,null,null,null,null,null,null,null,null,null,null,null,null,null,null,null,null,0,1,7,0,null,1]
[12,{"$f":"IFERROR(IF(C14=1,VLOOKUP(A14,tblActions[],2,0),\"   \"&VLOOKUP(A14,tblActions[],2,0)),\"\")","v":"Реализация"},{"$f":"IFERROR(VLOOKUP(A14,tblActions[],3,0),\"\")","v":1},null,null,null,null,null,null,null,null,null,null,null,null,null,null,null,null,null,null,null,null,null,null,null,null,null,null,null,null,null,null,0,0,0,0,null,1]
[13,{"$f":"IFERROR(IF(C15=1,VLOOKUP(A15,tblActions[],2,0),\"   \"&VLOOKUP(A15,tblActions[],2,0)),\"\")","v":"   Подготовка помещений"},{"$f":"IFERROR(VLOOKUP(A15,tblActions[],3,0),\"\")","v":2},0.5,0.35,0.5,0.45,1,0.9,null,null,null,null,null,null,null,null,null,null,null,null,null,null,null,null,null,null,null,null,null,null,null,null,0.29999999999999993,2,2,0.29999999999999993,null,1]
[14,{"$f":"IFERROR(IF(C16=1,VLOOKUP(A16,tblActions[],2,0),\"   \"&VLOOKUP(A16,tblActions[],2,0)),\"\")","v":"   Снос стен"},{"$f":"IFERROR(VLOOKUP(A16,tblActions[],3,0),\"\")","v":2},1,1,1,0.9,0.5,0.6,null,null,null,null,null,null,null,null,null,null,null,null,null,null,null,null,null,null,null,null,null,null,null,null,0,2.5,7,0,null,1]
[15,{"$f":"IFERROR(IF(C17=1,VLOOKUP(A17,tblActions[],2,0),\"   \"&VLOOKUP(A17,tblActions[],2,0)),\"\")","v":"   Закупка материалов"},{"$f":"IFERROR(VLOOKUP(A17,tblActions[],3,0),\"\")","v":2},0,1,1,1,1,1,0.5,0.5,null,null,null,null,null,null,null,null,null,null,null,null,null,null,null,null,null,null,null,null,null,null,-1,2.5,10,-4,null,1]
[16,{"$f":"IFERROR(IF(C18=1,VLOOKUP(A18,tblActions[],2,0),\"   \"&VLOOKUP(A18,tblActions[],2,0)),\"\")","v":"   Доставка материалов"},{"$f":"IFERROR(VLOOKUP(A18,tblActions[],3,0),\"\")","v":2},0,0,1,1,0.2,0.2,0.25,0.25,null,null,null,null,null,null,null,null,null,null,null,null,null,null,null,null,null,null,null,null,null,null,0,1.45,2,0,null,1]
[17,{"$f":"IFERROR(IF(C19=1,VLOOKUP(A19,tblActions[],2,0),\"   \"&VLOOKUP(A19,tblActions[],2,0)),\"\")","v":"   Подготовка потолков"},{"$f":"IFERROR(VLOOKUP(A19,tblActions[],3,0),\"\")","v":2},1,0,0,0,0.2,0.2,null,null,null,null,null,null,null,null,null,null,null,null,null,null,null,null,null,null,null,null,null,null,null,null,1,1.2,7,5.8333333333333339,null,1]
[18,{"$f":"IFERROR(IF(C20=1,VLOOKUP(A20,tblActions[],2,0),\"   \"&VLOOKUP(A20,tblActions[],2,0)),\"\")","v":"   Подготовка стен"},{"$f":"IFERROR(VLOOKUP(A20,tblActions[],3,0),\"\")","v":2},0,0,1,1,0.2,0.2,null,null,null,null,null,null,null,null,null,null,null,null,null,null,null,null,null,null,null,null,null,null,null,null,0,1.2,10,0,null,1]
[19,{"$f":"IFERROR(IF(C21=1,VLOOKUP(A21,tblActions[],2,0),\"   \"&VLOOKUP(A21,tblActions[],2,0)),\"\")","v":"   Монтаж окон"},{"$f":"IFERROR(VLOOKUP(A21,tblActions[],3,0),\"\")","v":2},0.15,0.15,0.15,0.15,0.5,0.5,null,null,null,null,null,null,null,null,null,null,null,null,null,null,null,null,null,null,null,null,null,null,null,null,0,0.8,2,0,null,1]
[20,{"$f":"IFERROR(IF(C22=1,VLOOKUP(A22,tblActions[],2,0),\"   \"&VLOOKUP(A22,tblActions[],2,0)),\"\")","v":"   Монтаж дверей"},{"$f":"IFERROR(VLOOKUP(A22,tblActions[],3,0),\"\")","v":2},0.15,0.15,0.15,0.15,0.5,0.5,null,null,null,null,null,null,null,null,null,null,null,null,null,null,null,null,null,null,null,null,null,null,null,null,0,0.8,1,0,null,1]
[21,{"$f":"IFERROR(IF(C23=1,VLOOKUP(A23,tblActions[],2,0),\"   \"&VLOOKUP(A23,tblActions[],2,0)),\"\")","v":"   Подготовка пола"},{"$f":"IFERROR(VLOOKUP(A23,tblActions[],3,0),\"\")","v":2},1,1,1,1,0.45,0.35,null,null,null,null,null,null,null,null,null,null,null,null,null,null,null,null,null,null,null,null,null,null,null,null,0.10000000000000003,2.4500000000000002,12,0.48979591836734709,null,1]
[22,{"$f":"IFERROR(IF(C24=1,VLOOKUP(A24,tblActions[],2,0),\"   \"&VLOOKUP(A24,tblActions[],2,0)),\"\")","v":"   Контроль качества"},{"$f":"IFERROR(VLOOKUP(A24,tblActions[],3,0),\"\")","v":2},0,0,0,0,1,1,1,1,null,null,null,null,null,null,null,null,null,null,null,null,null,null,null,null,null,null,null,null,null,null,0,2,1,0,null,1]
[23,{"$f":"IFERROR(IF(C25=1,VLOOKUP(A25,tblActions[],2,0),\"   \"&VLOOKUP(A25,tblActions[],2,0)),\"\")","v":"   Потолочные конструкции"},{"$f":"IFERROR(VLOOKUP(A25,tblActions[],3,0),\"\")","v":2},1,0,1,1,1,1,null,null,null,null,null,null,null,null,null,null,null,null,null,null,null,null,null,null,null,null,null,null,null,null,1,3,5,1.6666666666666667,null,1]
[24,{"$f":"IFERROR(IF(C26=1,VLOOKUP(A26,tblActions[],2,0),\"   \"&VLOOKUP(A26,tblActions[],2,0)),\"\")","v":"   Стеновые конструкции"},{"$f":"IFERROR(VLOOKUP(A26,tblActions[],3,0),\"\")","v":2},1,0,1,1,1,1,null,null,null,null,null,null,null,null,null,null,null,null,null,null,null,null,null,null,null,null,null,null,null,null,1,3,7,2.3333333333333335,null,1]
[25,{"$f":"IFERROR(IF(C27=1,VLOOKUP(A27,tblActions[],2,0),\"   \"&VLOOKUP(A27,tblActions[],2,0)),\"\")","v":"   Покраска"},{"$f":"IFERROR(VLOOKUP(A27,tblActions[],3,0),\"\")","v":2},0,0,1,1,0.45,0.5,null,null,null,null,null,null,null,null,null,null,null,null,null,null,null,null,null,null,null,null,null,null,null,null,-4.9999999999999989E-2,1.45,4,-0.13793103448275859,null,1]
[26,{"$f":"IFERROR(IF(C28=1,VLOOKUP(A28,tblActions[],2,0),\"   \"&VLOOKUP(A28,tblActions[],2,0)),\"\")","v":"   Монтаж полового покрытия"},{"$f":"IFERROR(VLOOKUP(A28,tblActions[],3,0),\"\")","v":2},1,0,0,0,0.5,0.5,null,null,null,null,null,null,null,null,null,null,null,null,null,null,null,null,null,null,null,null,null,null,null,null,1,1.5,5,3.3333333333333335,null,1]
[27,{"$f":"IFERROR(IF(C29=1,VLOOKUP(A29,tblActions[],2,0),\"   \"&VLOOKUP(A29,tblActions[],2,0)),\"\")","v":"   Контроль качества"},{"$f":"IFERROR(VLOOKUP(A29,tblActions[],3,0),\"\")","v":2},0,0,0,0,1,1,1,1,null,null,null,null,null,null,null,null,null,null,null,null,null,null,null,null,null,null,null,null,null,null,0,2,1,0,null,1]
[28,{"$f":"IFERROR(IF(C30=1,VLOOKUP(A30,tblActions[],2,0),\"   \"&VLOOKUP(A30,tblActions[],2,0)),\"\")","v":"   Доставка мебели"},{"$f":"IFERROR(VLOOKUP(A30,tblActions[],3,0),\"\")","v":2},0.1,0.1,0,0,0,0,null,null,null,null,null,null,null,null,null,null,null,null,null,null,null,null,null,null,null,null,null,null,null,null,0,0.1,2,0,null,1]
[29,{"$f":"IFERROR(IF(C31=1,VLOOKUP(A31,tblActions[],2,0),\"   \"&VLOOKUP(A31,tblActions[],2,0)),\"\")","v":"   Сборка мебели"},{"$f":"IFERROR(VLOOKUP(A31,tblActions[],3,0),\"\")","v":2},0,0,0,0,0,0,0.25,0.25,null,null,null,null,null,null,null,null,null,null,null,null,null,null,null,null,null,null,null,null,null,null,0,0.25,1,0,null,1]
[30,{"$f":"IFERROR(IF(C32=1,VLOOKUP(A32,tblActions[],2,0),\"   \"&VLOOKUP(A32,tblActions[],2,0)),\"\")","v":"   Установка мебели"},{"$f":"IFERROR(VLOOKUP(A32,tblActions[],3,0),\"\")","v":2},0,0,0,0,0,0,0.25,0.25,null,null,null,null,null,null,null,null,null,null,null,null,null,null,null,null,null,null,null,null,null,null,0,0.25,2,0,null,1]
[31,{"$f":"IFERROR(IF(C33=1,VLOOKUP(A33,tblActions[],2,0),\"   \"&VLOOKUP(A33,tblActions[],2,0)),\"\")","v":"   Контроль качества"},{"$f":"IFERROR(VLOOKUP(A33,tblActions[],3,0),\"\")","v":2},1,1,1,1,1,1,1,1,null,null,null,null,null,null,null,null,null,null,null,null,null,null,null,null,null,null,null,null,null,null,0,4,1,0,null,1]
[32,{"$f":"IFERROR(IF(C34=1,VLOOKUP(A34,tblActions[],2,0),\"   \"&VLOOKUP(A34,tblActions[],2,0)),\"\")","v":"Завершение"},{"$f":"IFERROR(VLOOKUP(A34,tblActions[],3,0),\"\")","v":1},null,null,null,null,null,null,null,null,null,null,null,null,null,null,null,null,null,null,null,null,null,null,null,null,null,null,null,null,null,null,0,0,0,0,null,1]
[33,{"$f":"IFERROR(IF(C35=1,VLOOKUP(A35,tblActions[],2,0),\"   \"&VLOOKUP(A35,tblActions[],2,0)),\"\")","v":"   Приёмка работ"},{"$f":"IFERROR(VLOOKUP(A35,tblActions[],3,0),\"\")","v":2},1,1,1,1,1,1,1,1,null,null,null,null,null,null,null,null,null,null,null,null,null,null,null,null,null,null,null,null,null,null,{"$f":"D35-E35+F35-G35+H35-I35+J35-K35+L35-M35+N35-O35+P35-Q35+R35-S35+T35-U35+V35-W35+X35-Y35+Z35-AA35+AB35-AC35+AD35-AE35+AF35-AG35","v":0},{"$f":"D35+F35+H35+J35+L35+N35+P35+R35+T35+V35+X35+Z35+AB35+AD35+AF35","v":4},{"$f":"VLOOKUP($A35,rngSystemData,33,0)","v":1},{"$f":"IF(AND(AJ35<>0,AI35<>0),AJ35*AH35/AI35,0)","v":0},null,{"$f":"IF(OR($A35<>0,zzzTechVisibility),1,0)","v":1}]
[34,{"$f":"IFERROR(IF(C36=1,VLOOKUP(A36,tblActions[],2,0),\"   \"&VLOOKUP(A36,tblActions[],2,0)),\"\")","v":"   Устранение недостатков"},{"$f":"IFERROR(VLOOKUP(A36,tblActions[],3,0),\"\")","v":2},1,1,1,1,1,1,0.25,0.25,null,null,null,null,null,null,null,null,null,null,null,null,null,null,null,null,null,null,null,null,null,null,0,3.25,3,0,null,1]
[35,{"$f":"IFERROR(IF(C37=1,VLOOKUP(A37,tblActions[],2,0),\"   \"&VLOOKUP(A37,tblActions[],2,0)),\"\")","v":"   Оплата услуг подрядчика"},{"$f":"IFERROR(VLOOKUP(A37,tblActions[],3,0),\"\")","v":2},1,1,1,1,1,1,1,1,null,null,null,null,null,null,null,null,null,null,null,null,null,null,null,null,null,null,null,null,null,null,0,4,2,0,null,1]
[null,{"$f":"IFERROR(IF(C38=1,VLOOKUP(A38,tblActions[],2,0),\"   \"&VLOOKUP(A38,tblActions[],2,0)),\"\")","v":""},{"$f":"IFERROR(VLOOKUP(A38,tblActions[],3,0),\"\")","v":""},null,null,null,null,null,null,null,null,null,null,null,null,null,null,null,null,null,null,null,null,null,null,null,null,null,null,null,null,null,null,0,0,0,0,null,0]
[null,{"$f":"IFERROR(IF(C39=1,VLOOKUP(A39,tblActions[],2,0),\"   \"&VLOOKUP(A39,tblActions[],2,0)),\"\")","v":""},{"$f":"IFERROR(VLOOKUP(A39,tblActions[],3,0),\"\")","v":""},null,null,null,null,null,null,null,null,null,null,null,null,null,null,null,null,null,null,null,null,null,null,null,null,null,null,null,null,null,null,0,0,0,0,null,0]
[null,{"$f":"IFERROR(IF(C40=1,VLOOKUP(A40,tblActions[],2,0),\"   \"&VLOOKUP(A40,tblActions[],2,0)),\"\")","v":""},{"$f":"IFERROR(VLOOKUP(A40,tblActions[],3,0),\"\")","v":""},null,null,null,null,null,null,null,null,null,null,null,null,null,null,null,null,null,null,null,null,null,null,null,null,null,null,null,null,null,null,0,0,0,0,null,0]
[null,{"$f":"IFERROR(IF(C41=1,VLOOKUP(A41,tblActions[],2,0),\"   \"&VLOOKUP(A41,tblActions[],2,0)),\"\")","v":""},{"$f":"IFERROR(VLOOKUP(A41,tblActions[],3,0),\"\")","v":""},null,null,null,null,null,null,null,null,null,null,null,null,null,null,null,null,null,null,null,null,null,null,null,null,null,null,null,null,null,null,0,0,0,0,null,0]
[null,{"$f":"IFERROR(IF(C42=1,VLOOKUP(A42,tblActions[],2,0),\"   \"&VLOOKUP(A42,tblActions[],2,0)),\"\")","v":""},{"$f":"IFERROR(VLOOKUP(A42,tblActions[],3,0),\"\")","v":""},null,null,null,null,null,null,null,null,null,null,null,null,null,null,null,null,null,null,null,null,null,null,null,null,null,null,null,null,null,null,0,0,0,0,null,0]
[null,{"$f":"IFERROR(IF(C43=1,VLOOKUP(A43,tblActions[],2,0),\"   \"&VLOOKUP(A43,tblActions[],2,0)),\"\")","v":""},{"$f":"IFERROR(VLOOKUP(A43,tblActions[],3,0),\"\")","v":""},null,null,null,null,null,null,null,null,null,null,null,null,null,null,null,null,null,null,null,null,null,null,null,null,null,null,null,null,null,null,0,0,0,0,null,0]
[null,{"$f":"IFERROR(IF(C44=1,VLOOKUP(A44,tblActions[],2,0),\"   \"&VLOOKUP(A44,tblActions[],2,0)),\"\")","v":""},{"$f":"IFERROR(VLOOKUP(A44,tblActions[],3,0),\"\")","v":""},null,null,null,null,null,null,null,null,null,null,null,null,null,null,null,null,null,null,null,null,null,null,null,null,null,null,null,null,null,null,0,0,0,0,null,0]
[null,{"$f":"IFERROR(IF(C45=1,VLOOKUP(A45,tblActions[],2,0),\"   \"&VLOOKUP(A45,tblActions[],2,0)),\"\")","v":""},{"$f":"IFERROR(VLOOKUP(A45,tblActions[],3,0),\"\")","v":""},null,null,null,null,null,null,null,null,null,null,null,null,null,null,null,null,null,null,null,null,null,null,null,null,null,null,null,null,null,null,0,0,0,0,null,0]
[null,{"$f":"IFERROR(IF(C46=1,VLOOKUP(A46,tblActions[],2,0),\"   \"&VLOOKUP(A46,tblActions[],2,0)),\"\")","v":""},{"$f":"IFERROR(VLOOKUP(A46,tblActions[],3,0),\"\")","v":""},null,null,null,null,null,null,null,null,null,null,null,null,null,null,null,null,null,null,null,null,null,null,null,null,null,null,null,null,null,null,0,0,0,0,null,0]
[null,{"$f":"IFERROR(IF(C47=1,VLOOKUP(A47,tblActions[],2,0),\"   \"&VLOOKUP(A47,tblActions[],2,0)),\"\")","v":""},{"$f":"IFERROR(VLOOKUP(A47,tblActions[],3,0),\"\")","v":""},null,null,null,null,null,null,null,null,null,null,null,null,null,null,null,null,null,null,null,null,null,null,null,null,null,null,null,null,null,null,0,0,0,0,null,0]
[null,{"$f":"IFERROR(IF(C48=1,VLOOKUP(A48,tblActions[],2,0),\"   \"&VLOOKUP(A48,tblActions[],2,0)),\"\")","v":""},{"$f":"IFERROR(VLOOKUP(A48,tblActions[],3,0),\"\")","v":""},null,null,null,null,null,null,null,null,null,null,null,null,null,null,null,null,null,null,null,null,null,null,null,null,null,null,null,null,null,null,0,0,0,0,null,0]
[null,{"$f":"IFERROR(IF(C49=1,VLOOKUP(A49,tblActions[],2,0),\"   \"&VLOOKUP(A49,tblActions[],2,0)),\"\")","v":""},{"$f":"IFERROR(VLOOKUP(A49,tblActions[],3,0),\"\")","v":""},null,null,null,null,null,null,null,null,null,null,null,null,null,null,null,null,null,null,null,null,null,null,null,null,null,null,null,null,null,null,0,0,0,0,null,0]
[null,{"$f":"IFERROR(IF(C50=1,VLOOKUP(A50,tblActions[],2,0),\"   \"&VLOOKUP(A50,tblActions[],2,0)),\"\")","v":""},{"$f":"IFERROR(VLOOKUP(A50,tblActions[],3,0),\"\")","v":""},null,null,null,null,null,null,null,null,null,null,null,null,null,null,null,null,null,null,null,null,null,null,null,null,null,null,null,null,null,null,0,0,0,0,null,0]
[null,{"$f":"IFERROR(IF(C51=1,VLOOKUP(A51,tblActions[],2,0),\"   \"&VLOOKUP(A51,tblActions[],2,0)),\"\")","v":""},{"$f":"IFERROR(VLOOKUP(A51,tblActions[],3,0),\"\")","v":""},null,null,null,null,null,null,null,null,null,null,null,null,null,null,null,null,null,null,null,null,null,null,null,null,null,null,null,null,null,null,0,0,0,0,null,0]
[null,{"$f":"IFERROR(IF(C52=1,VLOOKUP(A52,tblActions[],2,0),\"   \"&VLOOKUP(A52,tblActions[],2,0)),\"\")","v":""},{"$f":"IFERROR(VLOOKUP(A52,tblActions[],3,0),\"\")","v":""},null,null,null,null,null,null,null,null,null,null,null,null,null,null,null,null,null,null,null,null,null,null,null,null,null,null,null,null,null,null,0,0,0,0,null,0]
[null,{"$f":"IFERROR(IF(C53=1,VLOOKUP(A53,tblActions[],2,0),\"   \"&VLOOKUP(A53,tblActions[],2,0)),\"\")","v":""},{"$f":"IFERROR(VLOOKUP(A53,tblActions[],3,0),\"\")","v":""},null,null,null,null,null,null,null,null,null,null,null,null,null,null,null,null,null,null,null,null,null,null,null,null,null,null,null,null,null,null,0,0,0,0,null,0]
[null,{"$f":"IFERROR(IF(C54=1,VLOOKUP(A54,tblActions[],2,0),\"   \"&VLOOKUP(A54,tblActions[],2,0)),\"\")","v":""},{"$f":"IFERROR(VLOOKUP(A54,tblActions[],3,0),\"\")","v":""},null,null,null,null,null,null,null,null,null,null,null,null,null,null,null,null,null,null,null,null,null,null,null,null,null,null,null,null,null,null,0,0,0,0,null,0]
[null,{"$f":"IFERROR(IF(C55=1,VLOOKUP(A55,tblActions[],2,0),\"   \"&VLOOKUP(A55,tblActions[],2,0)),\"\")","v":""},{"$f":"IFERROR(VLOOKUP(A55,tblActions[],3,0),\"\")","v":""},null,null,null,null,null,null,null,null,null,null,null,null,null,null,null,null,null,null,null,null,null,null,null,null,null,null,null,null,null,null,0,0,0,0,null,0]
[null,{"$f":"IFERROR(IF(C56=1,VLOOKUP(A56,tblActions[],2,0),\"   \"&VLOOKUP(A56,tblActions[],2,0)),\"\")","v":""},{"$f":"IFERROR(VLOOKUP(A56,tblActions[],3,0),\"\")","v":""},null,null,null,null,null,null,null,null,null,null,null,null,null,null,null,null,null,null,null,null,null,null,null,null,null,null,null,null,null,null,0,0,0,0,null,0]
[null,{"$f":"IFERROR(IF(C57=1,VLOOKUP(A57,tblActions[],2,0),\"   \"&VLOOKUP(A57,tblActions[],2,0)),\"\")","v":""},{"$f":"IFERROR(VLOOKUP(A57,tblActions[],3,0),\"\")","v":""},null,null,null,null,null,null,null,null,null,null,null,null,null,null,null,null,null,null,null,null,null,null,null,null,null,null,null,null,null,null,0,0,0,0,null,0]
[null,{"$f":"IFERROR(IF(C58=1,VLOOKUP(A58,tblActions[],2,0),\"   \"&VLOOKUP(A58,tblActions[],2,0)),\"\")","v":""},{"$f":"IFERROR(VLOOKUP(A58,tblActions[],3,0),\"\")","v":""},null,null,null,null,null,null,null,null,null,null,null,null,null,null,null,null,null,null,null,null,null,null,null,null,null,null,null,null,null,null,0,0,0,0,null,0]
[null,{"$f":"IFERROR(IF(C59=1,VLOOKUP(A59,tblActions[],2,0),\"   \"&VLOOKUP(A59,tblActions[],2,0)),\"\")","v":""},{"$f":"IFERROR(VLOOKUP(A59,tblActions[],3,0),\"\")","v":""},null,null,null,null,null,null,null,null,null,null,null,null,null,null,null,null,null,null,null,null,null,null,null,null,null,null,null,null,null,null,0,0,0,0,null,0]
[null,{"$f":"IFERROR(IF(C60=1,VLOOKUP(A60,tblActions[],2,0),\"   \"&VLOOKUP(A60,tblActions[],2,0)),\"\")","v":""},{"$f":"IFERROR(VLOOKUP(A60,tblActions[],3,0),\"\")","v":""},null,null,null,null,null,null,null,null,null,null,null,null,null,null,null,null,null,null,null,null,null,null,null,null,null,null,null,null,null,null,0,0,0,0,null,0]
[null,{"$f":"IFERROR(IF(C61=1,VLOOKUP(A61,tblActions[],2,0),\"   \"&VLOOKUP(A61,tblActions[],2,0)),\"\")","v":""},{"$f":"IFERROR(VLOOKUP(A61,tblActions[],3,0),\"\")","v":""},null,null,null,null,null,null,null,null,null,null,null,null,null,null,null,null,null,null,null,null,null,null,null,null,null,null,null,null,null,null,0,0,0,0,null,0]
[null,{"$f":"IFERROR(IF(C62=1,VLOOKUP(A62,tblActions[],2,0),\"   \"&VLOOKUP(A62,tblActions[],2,0)),\"\")","v":""},{"$f":"IFERROR(VLOOKUP(A62,tblActions[],3,0),\"\")","v":""},null,null,null,null,null,null,null,null,null,null,null,null,null,null,null,null,null,null,null,null,null,null,null,null,null,null,null,null,null,null,0,0,0,0,null,0]
[null,{"$f":"IFERROR(IF(C63=1,VLOOKUP(A63,tblActions[],2,0),\"   \"&VLOOKUP(A63,tblActions[],2,0)),\"\")","v":""},{"$f":"IFERROR(VLOOKUP(A63,tblActions[],3,0),\"\")","v":""},null,null,null,null,null,null,null,null,null,null,null,null,null,null,null,null,null,null,null,null,null,null,null,null,null,null,null,null,null,null,0,0,0,0,null,0]
[null,{"$f":"IFERROR(IF(C64=1,VLOOKUP(A64,tblActions[],2,0),\"   \"&VLOOKUP(A64,tblActions[],2,0)),\"\")","v":""},{"$f":"IFERROR(VLOOKUP(A64,tblActions[],3,0),\"\")","v":""},null,null,null,null,null,null,null,null,null,null,null,null,null,null,null,null,null,null,null,null,null,null,null,null,null,null,null,null,null,null,0,0,0,0,null,0]
[null,{"$f":"IFERROR(IF(C65=1,VLOOKUP(A65,tblActions[],2,0),\"   \"&VLOOKUP(A65,tblActions[],2,0)),\"\")","v":""},{"$f":"IFERROR(VLOOKUP(A65,tblActions[],3,0),\"\")","v":""},null,null,null,null,null,null,null,null,null,null,null,null,null,null,null,null,null,null,null,null,null,null,null,null,null,null,null,null,null,null,0,0,0,0,null,0]
[null,{"$f":"IFERROR(IF(C66=1,VLOOKUP(A66,tblActions[],2,0),\"   \"&VLOOKUP(A66,tblActions[],2,0)),\"\")","v":""},{"$f":"IFERROR(VLOOKUP(A66,tblActions[],3,0),\"\")","v":""},null,null,null,null,null,null,null,null,null,null,null,null,null,null,null,null,null,null,null,null,null,null,null,null,null,null,null,null,null,null,0,0,0,0,null,0]
[null,{"$f":"IFERROR(IF(C67=1,VLOOKUP(A67,tblActions[],2,0),\"   \"&VLOOKUP(A67,tblActions[],2,0)),\"\")","v":""},{"$f":"IFERROR(VLOOKUP(A67,tblActions[],3,0),\"\")","v":""},null,null,null,null,null,null,null,null,null,null,null,null,null,null,null,null,null,null,null,null,null,null,null,null,null,null,null,null,null,null,{"$f":"D67-E67+F67-G67+H67-I67+J67-K67+L67-M67+N67-O67+P67-Q67+R67-S67+T67-U67+V67-W67+X67-Y67+Z67-AA67+AB67-AC67+AD67-AE67+AF67-AG67","v":0},{"$f":"D67+F67+H67+J67+L67+N67+P67+R67+T67+V67+X67+Z67+AB67+AD67+AF67","v":0},{"$f":"VLOOKUP($A67,rngSystemData,33,0)","v":0},{"$f":"IF(AND(AJ67<>0,AI67<>0),AJ67*AH67/AI67,0)","v":0},null,{"$f":"IF(OR($A67<>0,zzzTechVisibility),1,0)","v":0}]
[null,{"$f":"IFERROR(IF(C68=1,VLOOKUP(A68,tblActions[],2,0),\"   \"&VLOOKUP(A68,tblActions[],2,0)),\"\")","v":""},{"$f":"IFERROR(VLOOKUP(A68,tblActions[],3,0),\"\")","v":""},null,null,null,null,null,null,null,null,null,null,null,null,null,null,null,null,null,null,null,null,null,null,null,null,null,null,null,null,null,null,0,0,0,0,null,0]
[null,{"$f":"IFERROR(IF(C69=1,VLOOKUP(A69,tblActions[],2,0),\"   \"&VLOOKUP(A69,tblActions[],2,0)),\"\")","v":""},{"$f":"IFERROR(VLOOKUP(A69,tblActions[],3,0),\"\")","v":""},null,null,null,null,null,null,null,null,null,null,null,null,null,null,null,null,null,null,null,null,null,null,null,null,null,null,null,null,null,null,0,0,0,0,null,0]
[null,{"$f":"IFERROR(IF(C70=1,VLOOKUP(A70,tblActions[],2,0),\"   \"&VLOOKUP(A70,tblActions[],2,0)),\"\")","v":""},{"$f":"IFERROR(VLOOKUP(A70,tblActions[],3,0),\"\")","v":""},null,null,null,null,null,null,null,null,null,null,null,null,null,null,null,null,null,null,null,null,null,null,null,null,null,null,null,null,null,null,0,0,0,0,null,0]
[null,{"$f":"IFERROR(IF(C71=1,VLOOKUP(A71,tblActions[],2,0),\"   \"&VLOOKUP(A71,tblActions[],2,0)),\"\")","v":""},{"$f":"IFERROR(VLOOKUP(A71,tblActions[],3,0),\"\")","v":""},null,null,null,null,null,null,null,null,null,null,null,null,null,null,null,null,null,null,null,null,null,null,null,null,null,null,null,null,null,null,0,0,0,0,null,0]
[null,{"$f":"IFERROR(IF(C72=1,VLOOKUP(A72,tblActions[],2,0),\"   \"&VLOOKUP(A72,tblActions[],2,0)),\"\")","v":""},{"$f":"IFERROR(VLOOKUP(A72,tblActions[],3,0),\"\")","v":""},null,null,null,null,null,null,null,null,null,null,null,null,null,null,null,null,null,null,null,null,null,null,null,null,null,null,null,null,null,null,0,0,0,0,null,0]
[null,{"$f":"IFERROR(IF(C73=1,VLOOKUP(A73,tblActions[],2,0),\"   \"&VLOOKUP(A73,tblActions[],2,0)),\"\")","v":""},{"$f":"IFERROR(VLOOKUP(A73,tblActions[],3,0),\"\")","v":""},null,null,null,null,null,null,null,null,null,null,null,null,null,null,null,null,null,null,null,null,null,null,null,null,null,null,null,null,null,null,0,0,0,0,null,0]
[null,{"$f":"IFERROR(IF(C74=1,VLOOKUP(A74,tblActions[],2,0),\"   \"&VLOOKUP(A74,tblActions[],2,0)),\"\")","v":""},{"$f":"IFERROR(VLOOKUP(A74,tblActions[],3,0),\"\")","v":""},null,null,null,null,null,null,null,null,null,null,null,null,null,null,null,null,null,null,null,null,null,null,null,null,null,null,null,null,null,null,0,0,0,0,null,0]
[null,{"$f":"IFERROR(IF(C75=1,VLOOKUP(A75,tblActions[],2,0),\"   \"&VLOOKUP(A75,tblActions[],2,0)),\"\")","v":""},{"$f":"IFERROR(VLOOKUP(A75,tblActions[],3,0),\"\")","v":""},null,null,null,null,null,null,null,null,null,null,null,null,null,null,null,null,null,null,null,null,null,null,null,null,null,null,null,null,null,null,0,0,0,0,null,0]
[null,{"$f":"IFERROR(IF(C76=1,VLOOKUP(A76,tblActions[],2,0),\"   \"&VLOOKUP(A76,tblActions[],2,0)),\"\")","v":""},{"$f":"IFERROR(VLOOKUP(A76,tblActions[],3,0),\"\")","v":""},null,null,null,null,null,null,null,null,null,null,null,null,null,null,null,null,null,null,null,null,null,null,null,null,null,null,null,null,null,null,0,0,0,0,null,0]
[null,{"$f":"IFERROR(IF(C77=1,VLOOKUP(A77,tblActions[],2,0),\"   \"&VLOOKUP(A77,tblActions[],2,0)),\"\")","v":""},{"$f":"IFERROR(VLOOKUP(A77,tblActions[],3,0),\"\")","v":""},null,null,null,null,null,null,null,null,null,null,null,null,null,null,null,null,null,null,null,null,null,null,null,null,null,null,null,null,null,null,0,0,0,0,null,0]
[null,{"$f":"IFERROR(IF(C78=1,VLOOKUP(A78,tblActions[],2,0),\"   \"&VLOOKUP(A78,tblActions[],2,0)),\"\")","v":""},{"$f":"IFERROR(VLOOKUP(A78,tblActions[],3,0),\"\")","v":""},null,null,null,null,null,null,null,null,null,null,null,null,null,null,null,null,null,null,null,null,null,null,null,null,null,null,null,null,null,null,0,0,0,0,null,0]
[null,{"$f":"IFERROR(IF(C79=1,VLOOKUP(A79,tblActions[],2,0),\"   \"&VLOOKUP(A79,tblActions[],2,0)),\"\")","v":""},{"$f":"IFERROR(VLOOKUP(A79,tblActions[],3,0),\"\")","v":""},null,null,null,null,null,null,null,null,null,null,null,null,null,null,null,null,null,null,null,null,null,null,null,null,null,null,null,null,null,null,0,0,0,0,null,0]
[null,{"$f":"IFERROR(IF(C80=1,VLOOKUP(A80,tblActions[],2,0),\"   \"&VLOOKUP(A80,tblActions[],2,0)),\"\")","v":""},{"$f":"IFERROR(VLOOKUP(A80,tblActions[],3,0),\"\")","v":""},null,null,null,null,null,null,null,null,null,null,null,null,null,null,null,null,null,null,null,null,null,null,null,null,null,null,null,null,null,null,0,0,0,0,null,0]
[null,{"$f":"IFERROR(IF(C81=1,VLOOKUP(A81,tblActions[],2,0),\"   \"&VLOOKUP(A81,tblActions[],2,0)),\"\")","v":""},{"$f":"IFERROR(VLOOKUP(A81,tblActions[],3,0),\"\")","v":""},null,null,null,null,null,null,null,null,null,null,null,null,null,null,null,null,null,null,null,null,null,null,null,null,null,null,null,null,null,null,0,0,0,0,null,0]
[null,{"$f":"IFERROR(IF(C82=1,VLOOKUP(A82,tblActions[],2,0),\"   \"&VLOOKUP(A82,tblActions[],2,0)),\"\")","v":""},{"$f":"IFERROR(VLOOKUP(A82,tblActions[],3,0),\"\")","v":""},null,null,null,null,null,null,null,null,null,null,null,null,null,null,null,null,null,null,null,null,null,null,null,null,null,null,null,null,null,null,0,0,0,0,null,0]
[null,{"$f":"IFERROR(IF(C83=1,VLOOKUP(A83,tblActions[],2,0),\"   \"&VLOOKUP(A83,tblActions[],2,0)),\"\")","v":""},{"$f":"IFERROR(VLOOKUP(A83,tblActions[],3,0),\"\")","v":""},null,null,null,null,null,null,null,null,null,null,null,null,null,null,null,null,null,null,null,null,null,null,null,null,null,null,null,null,null,null,0,0,0,0,null,0]
[null,{"$f":"IFERROR(IF(C84=1,VLOOKUP(A84,tblActions[],2,0),\"   \"&VLOOKUP(A84,tblActions[],2,0)),\"\")","v":""},{"$f":"IFERROR(VLOOKUP(A84,tblActions[],3,0),\"\")","v":""},null,null,null,null,null,null,null,null,null,null,null,null,null,null,null,null,null,null,null,null,null,null,null,null,null,null,null,null,null,null,0,0,0,0,null,0]
[null,{"$f":"IFERROR(IF(C85=1,VLOOKUP(A85,tblActions[],2,0),\"   \"&VLOOKUP(A85,tblActions[],2,0)),\"\")","v":""},{"$f":"IFERROR(VLOOKUP(A85,tblActions[],3,0),\"\")","v":""},null,null,null,null,null,null,null,null,null,null,null,null,null,null,null,null,null,null,null,null,null,null,null,null,null,null,null,null,null,null,0,0,0,0,null,0]
[null,{"$f":"IFERROR(IF(C86=1,VLOOKUP(A86,tblActions[],2,0),\"   \"&VLOOKUP(A86,tblActions[],2,0)),\"\")","v":""},{"$f":"IFERROR(VLOOKUP(A86,tblActions[],3,0),\"\")","v":""},null,null,null,null,null,null,null,null,null,null,null,null,null,null,null,null,null,null,null,null,null,null,null,null,null,null,null,null,null,null,0,0,0,0,null,0]
[null,{"$f":"IFERROR(IF(C87=1,VLOOKUP(A87,tblActions[],2,0),\"   \"&VLOOKUP(A87,tblActions[],2,0)),\"\")","v":""},{"$f":"IFERROR(VLOOKUP(A87,tblActions[],3,0),\"\")","v":""},null,null,null,null,null,null,null,null,null,null,null,null,null,null,null,null,null,null,null,null,null,null,null,null,null,null,null,null,null,null,0,0,0,0,null,0]
[null,{"$f":"IFERROR(IF(C88=1,VLOOKUP(A88,tblActions[],2,0),\"   \"&VLOOKUP(A88,tblActions[],2,0)),\"\")","v":""},{"$f":"IFERROR(VLOOKUP(A88,tblActions[],3,0),\"\")","v":""},null,null,null,null,null,null,null,null,null,null,null,null,null,null,null,null,null,null,null,null,null,null,null,null,null,null,null,null,null,null,0,0,0,0,null,0]
[null,{"$f":"IFERROR(IF(C89=1,VLOOKUP(A89,tblActions[],2,0),\"   \"&VLOOKUP(A89,tblActions[],2,0)),\"\")","v":""},{"$f":"IFERROR(VLOOKUP(A89,tblActions[],3,0),\"\")","v":""},null,null,null,null,null,null,null,null,null,null,null,null,null,null,null,null,null,null,null,null,null,null,null,null,null,null,null,null,null,null,0,0,0,0,null,0]
[null,{"$f":"IFERROR(IF(C90=1,VLOOKUP(A90,tblActions[],2,0),\"   \"&VLOOKUP(A90,tblActions[],2,0)),\"\")","v":""},{"$f":"IFERROR(VLOOKUP(A90,tblActions[],3,0),\"\")","v":""},null,null,null,null,null,null,null,null,null,null,null,null,null,null,null,null,null,null,null,null,null,null,null,null,null,null,null,null,null,null,0,0,0,0,null,0]
[null,{"$f":"IFERROR(IF(C91=1,VLOOKUP(A91,tblActions[],2,0),\"   \"&VLOOKUP(A91,tblActions[],2,0)),\"\")","v":""},{"$f":"IFERROR(VLOOKUP(A91,tblActions[],3,0),\"\")","v":""},null,null,null,null,null,null,null,null,null,null,null,null,null,null,null,null,null,null,null,null,null,null,null,null,null,null,null,null,null,null,0,0,0,0,null,0]
[null,{"$f":"IFERROR(IF(C92=1,VLOOKUP(A92,tblActions[],2,0),\"   \"&VLOOKUP(A92,tblActions[],2,0)),\"\")","v":""},{"$f":"IFERROR(VLOOKUP(A92,tblActions[],3,0),\"\")","v":""},null,null,null,null,null,null,null,null,null,null,null,null,null,null,null,null,null,null,null,null,null,null,null,null,null,null,null,null,null,null,0,0,0,0,null,0]
[null,{"$f":"IFERROR(IF(C93=1,VLOOKUP(A93,tblActions[],2,0),\"   \"&VLOOKUP(A93,tblActions[],2,0)),\"\")","v":""},{"$f":"IFERROR(VLOOKUP(A93,tblActions[],3,0),\"\")","v":""},null,null,null,null,null,null,null,null,null,null,null,null,null,null,null,null,null,null,null,null,null,null,null,null,null,null,null,null,null,null,0,0,0,0,null,0]
[null,{"$f":"IFERROR(IF(C94=1,VLOOKUP(A94,tblActions[],2,0),\"   \"&VLOOKUP(A94,tblActions[],2,0)),\"\")","v":""},{"$f":"IFERROR(VLOOKUP(A94,tblActions[],3,0),\"\")","v":""},null,null,null,null,null,null,null,null,null,null,null,null,null,null,null,null,null,null,null,null,null,null,null,null,null,null,null,null,null,null,0,0,0,0,null,0]
[null,{"$f":"IFERROR(IF(C95=1,VLOOKUP(A95,tblActions[],2,0),\"   \"&VLOOKUP(A95,tblActions[],2,0)),\"\")","v":""},{"$f":"IFERROR(VLOOKUP(A95,tblActions[],3,0),\"\")","v":""},null,null,null,null,null,null,null,null,null,null,null,null,null,null,null,null,null,null,null,null,null,null,null,null,null,null,null,null,null,null,0,0,0,0,null,0]
[null,{"$f":"IFERROR(IF(C96=1,VLOOKUP(A96,tblActions[],2,0),\"   \"&VLOOKUP(A96,tblActions[],2,0)),\"\")","v":""},{"$f":"IFERROR(VLOOKUP(A96,tblActions[],3,0),\"\")","v":""},null,null,null,null,null,null,null,null,null,null,null,null,null,null,null,null,null,null,null,null,null,null,null,null,null,null,null,null,null,null,0,0,0,0,null,0]
[null,{"$f":"IFERROR(IF(C97=1,VLOOKUP(A97,tblActions[],2,0),\"   \"&VLOOKUP(A97,tblActions[],2,0)),\"\")","v":""},{"$f":"IFERROR(VLOOKUP(A97,tblActions[],3,0),\"\")","v":""},null,null,null,null,null,null,null,null,null,null,null,null,null,null,null,null,null,null,null,null,null,null,null,null,null,null,null,null,null,null,0,0,0,0,null,0]
[null,{"$f":"IFERROR(IF(C98=1,VLOOKUP(A98,tblActions[],2,0),\"   \"&VLOOKUP(A98,tblActions[],2,0)),\"\")","v":""},{"$f":"IFERROR(VLOOKUP(A98,tblActions[],3,0),\"\")","v":""},null,null,null,null,null,null,null,null,null,null,null,null,null,null,null,null,null,null,null,null,null,null,null,null,null,null,null,null,null,null,0,0,0,0,null,0]
[null,{"$f":"IFERROR(IF(C99=1,VLOOKUP(A99,tblActions[],2,0),\"   \"&VLOOKUP(A99,tblActions[],2,0)),\"\")","v":""},{"$f":"IFERROR(VLOOKUP(A99,tblActions[],3,0),\"\")","v":""},null,null,null,null,null,null,null,null,null,null,null,null,null,null,null,null,null,null,null,null,null,null,null,null,null,null,null,null,null,null,{"$f":"D99-E99+F99-G99+H99-I99+J99-K99+L99-M99+N99-O99+P99-Q99+R99-S99+T99-U99+V99-W99+X99-Y99+Z99-AA99+AB99-AC99+AD99-AE99+AF99-AG99","v":0},0,0,{"$f":"IF(AND(AJ99<>0,AI99<>0),AJ99*AH99/AI99,0)","v":0},null,0]
[null,{"$f":"IFERROR(IF(C100=1,VLOOKUP(A100,tblActions[],2,0),\"   \"&VLOOKUP(A100,tblActions[],2,0)),\"\")","v":""},{"$f":"IFERROR(VLOOKUP(A100,tblActions[],3,0),\"\")","v":""},null,null,null,null,null,null,null,null,null,null,null,null,null,null,null,null,null,null,null,null,null,null,null,null,null,null,null,null,null,null,0,0,0,0,null,0]
[null,{"$f":"IFERROR(IF(C101=1,VLOOKUP(A101,tblActions[],2,0),\"   \"&VLOOKUP(A101,tblActions[],2,0)),\"\")","v":""},{"$f":"IFERROR(VLOOKUP(A101,tblActions[],3,0),\"\")","v":""},null,null,null,null,null,null,null,null,null,null,null,null,null,null,null,null,null,null,null,null,null,null,null,null,null,null,null,null,null,null,0,0,0,0,null,0]
[null,{"$f":"IFERROR(IF(C102=1,VLOOKUP(A102,tblActions[],2,0),\"   \"&VLOOKUP(A102,tblActions[],2,0)),\"\")","v":""},{"$f":"IFERROR(VLOOKUP(A102,tblActions[],3,0),\"\")","v":""},null,null,null,null,null,null,null,null,null,null,null,null,null,null,null,null,null,null,null,null,null,null,null,null,null,null,null,null,null,null,0,0,0,0,null,0]
[1,1,{"$f":"IF(zzzTechVisibility,1,0)","v":0},{"$f":"IF(INDIRECT(\"R1C\"&IF(NOT(ISODD(COLUMN())),COLUMN(),COLUMN()-1),0)<>\"none\",1,0)","v":1},1,1,1,1,1,1,1,0,0,0,0,0,0,0,0,0,0,0,0,0,0,0,0,0,0,0,0,0,0,{"$f":"IF(zzzTechVisibility,1,0)","v":0},{"$f":"IF(zzzTechVisibility,1,0)","v":0},{"$f":"IF(zzzTechVisibility,1,0)","v":0},{"$f":"IF(zzzTechVisibility,1,0)","v":0},null,{"$f":"IF(zzzTechVisibility,1,0)","v":0}]

{"sheet":"Resources","index":4,"n_rows":5,"n_cols":5,"rows_kept":5,"cut":false,"hidden":false,"merged":[]}
["Сотрудник","Краткое имя","Компания","Должность","Роль"]
["Иванов Сергей","ИС","ИП Семёныч","Маляр","Рабочий"]
["Колесников Михаил","КМ","ИП Семёныч","Штукатур","Рабочий"]
["Сафронов Иммануил","СИ","ИП Семёныч","Бригадир","Руководитель"]
["Пиявкин Серёжа","ПС","-","Хозяин квартиры","Заказчик"]

{"sheet":"Issues","index":5,"n_rows":2,"n_cols":7,"rows_kept":2,"cut":false,"hidden":false,"merged":[]}
["Проблема","Серьёзность","Статус","Комментарий","seriousness","status","mult"]
["Плохое качество материалов","Умеренная","В работе",null,{"$f":"IFERROR(VLOOKUP(tblIssues[Серьёзность],refIssueDamage[],2),0)","v":0.25},{"$f":"IFERROR(VLOOKUP(tblIssues[Статус],refIssueStatus[],2),0)","v":0.25},{"$f":"tblIssues[seriousness]*tblIssues[status]","v":6.25E-2}]

{"sheet":"Risks","index":6,"n_rows":3,"n_cols":7,"rows_kept":3,"cut":false,"hidden":false,"merged":[]}
["Риск","Серьёзность","Вероятность","Комментарий","seriousness","probability","mult"]
["Запой Михалыча","Критичный","Средняя",null,{"$f":"IFERROR(VLOOKUP(tblRisks[Серьёзность],refRiskDamage[],2),0)","v":0},{"$f":"IFERROR(VLOOKUP(tblRisks[Вероятность],refRiskProb[],2),0)","v":0.25},{"$f":"tblRisks[seriousness]*tblRisks[probability]","v":0}]
["Проблемы с финансированием","Форс-мажор","Низкая",null,{"$f":"IFERROR(VLOOKUP(tblRisks[Серьёзность],refRiskDamage[],2),0)","v":0.5},{"$f":"IFERROR(VLOOKUP(tblRisks[Вероятность],refRiskProb[],2),0)","v":0.05},{"$f":"tblRisks[seriousness]*tblRisks[probability]","v":2.5000000000000001E-2}]

{"sheet":"Settings","index":7,"n_rows":16,"n_cols":14,"rows_kept":16,"cut":false,"hidden":false,"merged":[[11,2,11,3],[15,2,15,3],[13,2,13,3],[1,2,1,11],[3,2,3,11],[5,2,5,11],[7,2,7,3],[9,2,9,11]]}
[]
[null,"Название проекта","Ремонт в квартире",null,null,null,null,null,null,null,null,null,null,"Версия темплейта 1.02 от 23.12.2014"]
[]
[null,"Менеджер проекта","Пиявкин Серёжа"]
[]
[null,"Спонсор проекта","Пиявкина Раиса Марковна"]
[]
[null,"Дата отчёта по проекту","2014-10-25"]
[]
[null,"Текущая стадия проекта"]
[]
[null,"Дата окончания проекта"]
[]
[null,"Длительность по умолчанию",3]
[]
[null,"Считать, что сегодня"]

{"sheet":"Ref","index":8,"n_rows":34,"n_cols":19,"rows_kept":34,"cut":false,"hidden":false,"merged":[]}
["Уровень качества","Шкала",null,"Версия 1.03 от 24.04.2015",null,null,null,"Да/Нет",null,"Стадия проекта",null,"Праздники",null,"График - критерий","Color",null,"Светофор","Использовать","Вес"]
["Плохо",0,null,null,null,null,null,"Да",null,"Планирование",null,"2014-01-01",null,-1,"G",null,"График",1,0.2]
["Приемлемо",0.65,null,null,null,null,null,"Нет",null,"Реализация",null,"2014-01-02",null,0.05,"Y",null,"Бюджет",1,0.2]
["Хорошо",0.8,null,null,null,null,null,null,null,"Заморожен",null,"2014-01-03",null,0.2,"R",null,"Качество",1,0.15]
["Отлично",0.95,null,null,null,null,null,null,null,"Завершен",null,"2014-01-06",null,null,null,null,"Ресурсы",1,0.15]
["Неактивно",99999999.989999995,null,null,null,null,null,null,null,null,null,"2014-01-07",null,"Бюджет - критерий","Color",null,"Риски",1,0.15]
[null,null,null,null,null,null,null,null,null,null,null,"2014-01-08",null,-1,"G",null,"Проблемы",1,0.15]
[null,null,null,null,null,null,null,null,null,null,null,"2014-03-10",null,0.01,"Y",null,"Итог",null,{"$f":"SUBTOTAL(109,refTrafficLightsSettings[Вес])","v":1}]
["Вероятность риска","Шкала",null,"Статус проблемы","Шкала","Иконка",null,"Уровень",null,null,null,"2014-05-01",null,0.2,"R"]
["Низкая",0.05,null,"Решена",0.05,"a",null,1,null,null,null,"2014-05-02"]
["Средняя",0.25,null,"В работе",0.25,"@",null,2,null,null,null,"2014-05-09",null,"Качество - критерий","Color"]
["Высокая",1,null,"Открытая",0.5,"!",null,null,null,null,null,"2014-06-12",null,-1,"G"]
[null,null,null,null,null,null,null,null,null,null,null,"2014-06-13",null,0.11,"Y"]
[null,null,null,null,null,null,null,null,null,null,null,"2014-11-03",null,0.33,"R"]
[null,null,null,null,null,null,null,null,null,null,null,"2014-11-04"]
["Серьёзность риска","Шкала",null,"Серьёзность проблемы","Шкала",null,null,null,null,null,null,null,null,"Ресурсы - критерий","Color"]
["Не критичный",0.05,null,"Лёгкая",0.05,null,null,null,null,null,null,null,null,-1,"G"]
["Умеренный",0.15,null,"Умеренная",0.25,null,null,null,null,null,null,null,null,0.1,"Y"]
["Критичный",0.25,null,"Критичная",0.5,null,null,null,null,null,null,null,null,0.25,"R"]
["Форс-мажор",0.5]
[null,null,null,null,null,null,null,null,null,null,null,null,null,"Риски - критерий","Color"]
[null,null,null,null,null,null,null,null,null,null,null,null,null,-1,"G"]
[null,null,null,null,null,null,null,null,null,null,null,null,null,0.05,"Y"]
[null,null,null,null,null,null,null,null,null,null,null,null,null,0.2,"R"]
[]
[null,null,null,null,null,null,null,null,null,null,null,null,null,"Проблемы - критерий","Color"]
[null,null,null,null,null,null,null,null,null,null,null,null,null,-1,"G"]
[null,null,null,null,null,null,null,null,null,null,null,null,null,0.05,"Y"]
[null,null,null,null,null,null,null,null,null,null,null,null,null,0.2,"R"]
[]
[null,null,null,null,null,null,null,null,null,null,null,null,null,"Общий - критерий","Color"]
[null,null,null,null,null,null,null,null,null,null,null,null,null,-1,"G"]
[null,null,null,null,null,null,null,null,null,null,null,null,null,0.1,"Y"]
[null,null,null,null,null,null,null,null,null,null,null,null,null,0.2,"R"]

{"sheet":"System","index":9,"n_rows":113,"n_cols":42,"rows_kept":113,"cut":false,"hidden":true,"merged":[[104,1,104,4],[105,1,105,4],[106,1,106,4],[107,1,107,4],[108,1,108,4],[109,1,109,4],[110,1,110,4],[111,1,111,4],[112,1,112,4],[113,1,113,4]]}
["id","Пункт плана","Уровень","Веха","Перекрытие дней","План. Начало","План. конец","План. Длит.","Факт. Начало","Факт. Конец","Факт. Длит.","Сделано","Плановые затраты","Факт. затраты","Необходимый уровень качества","Достигнутый уровень качества","Связанная проблема","Связанный риск","Reserved","Reserved","Reserved","Reserved","Reserved","Reserved","Reserved","Active","Plan Exists","Fact Exists","L1","Count dur condition","PLAN DUR","FACT DUR","PLAN DUR vs. TODAY","FACT DUR vs. TODAY","plan same + finished %","fact same + finished %","PLAN BDG vs. TODAY","FACT BDG vs. TODAY","PLAN QA LVL","FACT QA LVL","RISKS","ISSUES"]
[{"$f":"Actions!A2","v":1},{"$f":"Actions!B2","v":"Планирование"},{"$f":"Actions!C2","v":1},{"$f":"Actions!D2","v":"нет"},{"$f":"Actions!E2","v":0},{"$f":"Actions!F2","v":"2014-03-01"},{"$f":"Actions!G2","v":"2014-05-13"},{"$f":"Actions!H2","v":74},{"$f":"Actions!I2","v":"2014-05-01"},{"$f":"Actions!J2","v":"2014-08-02"},{"$f":"Actions!K2","v":94},{"$f":"Actions!L2","v":0.97872340425531912},{"$f":"Actions!M2","v":0},{"$f":"Actions!N2","v":0},{"$f":"Actions!O2","v":0},{"$f":"Actions!P2","v":0},{"$f":"Actions!Q2","v":0},{"$f":"Actions!R2","v":0},null,null,null,null,null,null,null,{"$f":"IF($A2>0,1,0)","v":1},{"$f":"IF(F2>0,1,0)","v":1},{"$f":"IF(I2>0,1,0)","v":1},{"$f":"IF(C2=1,ROW(),\"\")","v":2},{"$f":"IF($Z2=1,IF($C2=2,TRUE,IF($C3<>2,TRUE,FALSE)),\"\")","v":false},{"$f":"IF($Z2=1,IF($AD2,$H2,0),0)","v":0},{"$f":"IF($Z2=1,IF($AD2,$K2,0),0)","v":0},{"$f":"IF($Z2=1,IF($AD2,IF(AND($F2<=gToday,$G2>=gToday),gToday-$F2+1,IF($F2>gToday,0,$H2))-$E2,0),0)","v":0},{"$f":"IF($Z2=1,IF($AD2,IF(AND($I2<=gToday,$J2>=gToday),gToday-$I2+1,IF($I2>gToday,0,$K2))-$E2,0),0)","v":0},{"$f":"IF($Z2=1,IF($AD2,IF(AND($F2<=gToday,$G2>=gToday),IF(gToday-$F2>$H2*$L2,gToday-$F2-$H2*$L2,0),IF($G2>gToday,0,$H2*(1-$L2)))-$E2,0),0)","v":0},{"$f":"IF($Z2=1,IF($AD2,IF(AND($I2<=gToday,$J2>=gToday),IF(gToday-$I2>$K2*$L2,gToday-$I2-$K2*$L2,0),IF($J2>gToday,0,$K2*(1-$L2)))-$E2,0),0)","v":0},{"$f":"IF($Z2=1,IF(AND($F2>=gToday,$G2<=gToday),$M2,IF($F2>gToday,0,$M2)),\"\")","v":0},{"$f":"IF($Z2=1,IF(AND($I2>=gToday,$J2<=gToday),$N2,IF($I2>gToday,0,$N2)),\"\")","v":0},{"$f":"IFERROR(VLOOKUP(O2,refQualityLevel[],2,0)*AG2,\"\")","v":""},{"$f":"IFERROR(VLOOKUP(P2,refQualityLevel[],2,0)*IF(AH2<>0,AH2,AG2),\"\")","v":""},{"$f":"IFERROR(VLOOKUP($R2,tblRisks[],7),0)","v":0},{"$f":"IFERROR(VLOOKUP(Q2,tblIssues[],7),0)","v":0}]
[{"$f":"Actions!A3","v":2},{"$f":"Actions!B3","v":"Выявление ремонтируемых помещений"},{"$f":"Actions!C3","v":2},{"$f":"Actions!D3","v":"нет"},{"$f":"Actions!E3","v":0},{"$f":"Actions!F3","v":"2014-03-01"},{"$f":"Actions!G3","v":"2014-03-01"},{"$f":"Actions!H3","v":1},{"$f":"Actions!I3","v":"2014-05-01"},{"$f":"Actions!J3","v":"2014-05-02"},{"$f":"Actions!K3","v":2},{"$f":"Actions!L3","v":1},{"$f":"Actions!M3","v":0},{"$f":"Actions!N3","v":0},{"$f":"Actions!O3","v":"Хорошо"},{"$f":"Actions!P3","v":"Хорошо"},{"$f":"Actions!Q3","v":0},{"$f":"Actions!R3","v":0},null,null,null,null,null,null,null,{"$f":"IF($A3>0,1,0)","v":1},{"$f":"IF(F3>0,1,0)","v":1},{"$f":"IF(I3>0,1,0)","v":1},{"$f":"IF(C3=1,ROW(),\"\")","v":""},{"$f":"IF($Z3=1,IF($C3=2,TRUE,IF($C4<>2,TRUE,FALSE)),\"\")","v":true},{"$f":"IF($Z3=1,IF($AD3,$H3,0),0)","v":1},{"$f":"IF($Z3=1,IF($AD3,$K3,0),0)","v":2},1,2,0,0,0,0,{"$f":"IFERROR(VLOOKUP(O3,refQualityLevel[],2,0)*AG3,\"\")","v":0.8},{"$f":"IFERROR(VLOOKUP(P3,refQualityLevel[],2,0)*IF(AH3<>0,AH3,AG3),\"\")","v":1.6},{"$f":"IFERROR(VLOOKUP($R3,tblRisks[],7),0)","v":0},{"$f":"IFERROR(VLOOKUP(Q3,tblIssues[],7),0)","v":0}]
[{"$f":"Actions!A4","v":3},{"$f":"Actions!B4","v":"Требования к ремонту"},{"$f":"Actions!C4","v":2},{"$f":"Actions!D4","v":"нет"},{"$f":"Actions!E4","v":0},{"$f":"Actions!F4","v":"2014-03-02"},{"$f":"Actions!G4","v":"2014-03-02"},{"$f":"Actions!H4","v":1},{"$f":"Actions!I4","v":"2014-05-03"},{"$f":"Actions!J4","v":"2014-05-04"},{"$f":"Actions!K4","v":2},{"$f":"Actions!L4","v":1},{"$f":"Actions!M4","v":0},{"$f":"Actions!N4","v":0},{"$f":"Actions!O4","v":"Отлично"},{"$f":"Actions!P4","v":"Хорошо"},{"$f":"Actions!Q4","v":0},{"$f":"Actions!R4","v":0},null,null,null,null,null,null,null,1,1,1,"",true,1,2,1,2,0,0,0,0,{"$f":"IFERROR(VLOOKUP(O4,refQualityLevel[],2,0)*AG4,\"\")","v":0.95},{"$f":"IFERROR(VLOOKUP(P4,refQualityLevel[],2,0)*IF(AH4<>0,AH4,AG4),\"\")","v":1.6},{"$f":"IFERROR(VLOOKUP($R4,tblRisks[],7),0)","v":0},{"$f":"IFERROR(VLOOKUP(Q4,tblIssues[],7),0)","v":0}]
[{"$f":"Actions!A5","v":4},{"$f":"Actions!B5","v":"Определение верхней границы затрат"},{"$f":"Actions!C5","v":2},{"$f":"Actions!D5","v":"нет"},{"$f":"Actions!E5","v":0},{"$f":"Actions!F5","v":"2014-03-03"},{"$f":"Actions!G5","v":"2014-03-03"},{"$f":"Actions!H5","v":1},{"$f":"Actions!I5","v":"2014-05-05"},{"$f":"Actions!J5","v":"2014-05-07"},{"$f":"Actions!K5","v":3},{"$f":"Actions!L5","v":1},{"$f":"Actions!M5","v":0},{"$f":"Actions!N5","v":0},{"$f":"Actions!O5","v":"Отлично"},{"$f":"Actions!P5","v":"Хорошо"},{"$f":"Actions!Q5","v":0},{"$f":"Actions!R5","v":0},null,null,null,null,null,null,null,1,1,1,"",true,1,3,1,3,0,0,0,0,{"$f":"IFERROR(VLOOKUP(O5,refQualityLevel[],2,0)*AG5,\"\")","v":0.95},{"$f":"IFERROR(VLOOKUP(P5,refQualityLevel[],2,0)*IF(AH5<>0,AH5,AG5),\"\")","v":2.4000000000000004},{"$f":"IFERROR(VLOOKUP($R5,tblRisks[],7),0)","v":0},{"$f":"IFERROR(VLOOKUP(Q5,tblIssues[],7),0)","v":0}]
[{"$f":"Actions!A6","v":5},{"$f":"Actions!B6","v":"Определение источника финансирования"},{"$f":"Actions!C6","v":2},{"$f":"Actions!D6","v":"нет"},{"$f":"Actions!E6","v":0},{"$f":"Actions!F6","v":"2014-03-04"},{"$f":"Actions!G6","v":"2014-03-05"},{"$f":"Actions!H6","v":2},{"$f":"Actions!I6","v":"2014-05-08"},{"$f":"Actions!J6","v":"2014-05-11"},{"$f":"Actions!K6","v":4},{"$f":"Actions!L6","v":1},{"$f":"Actions!M6","v":0},{"$f":"Actions!N6","v":0},{"$f":"Actions!O6","v":"Отлично"},{"$f":"Actions!P6","v":"Хорошо"},{"$f":"Actions!Q6","v":0},{"$f":"Actions!R6","v":0},null,null,null,null,null,null,null,1,1,1,"",true,2,4,2,4,0,0,0,0,{"$f":"IFERROR(VLOOKUP(O6,refQualityLevel[],2,0)*AG6,\"\")","v":1.9},{"$f":"IFERROR(VLOOKUP(P6,refQualityLevel[],2,0)*IF(AH6<>0,AH6,AG6),\"\")","v":3.2},{"$f":"IFERROR(VLOOKUP($R6,tblRisks[],7),0)","v":0},{"$f":"IFERROR(VLOOKUP(Q6,tblIssues[],7),0)","v":0}]
[{"$f":"Actions!A7","v":6},{"$f":"Actions!B7","v":"Изучение рынка материалов"},{"$f":"Actions!C7","v":2},{"$f":"Actions!D7","v":"нет"},{"$f":"Actions!E7","v":0},{"$f":"Actions!F7","v":"2014-03-06"},{"$f":"Actions!G7","v":"2014-03-19"},{"$f":"Actions!H7","v":14},{"$f":"Actions!I7","v":"2014-05-12"},{"$f":"Actions!J7","v":"2014-05-31"},{"$f":"Actions!K7","v":20},{"$f":"Actions!L7","v":0.9},{"$f":"Actions!M7","v":0},{"$f":"Actions!N7","v":0},{"$f":"Actions!O7","v":"Хорошо"},{"$f":"Actions!P7","v":"Хорошо"},{"$f":"Actions!Q7","v":0},{"$f":"Actions!R7","v":0},null,null,null,null,null,null,null,1,1,1,"",true,14,20,14,20,1.3999999999999997,1.9999999999999996,0,0,{"$f":"IFERROR(VLOOKUP(O7,refQualityLevel[],2,0)*AG7,\"\")","v":11.200000000000001},{"$f":"IFERROR(VLOOKUP(P7,refQualityLevel[],2,0)*IF(AH7<>0,AH7,AG7),\"\")","v":16},{"$f":"IFERROR(VLOOKUP($R7,tblRisks[],7),0)","v":0},{"$f":"IFERROR(VLOOKUP(Q7,tblIssues[],7),0)","v":0}]
[{"$f":"Actions!A8","v":7},{"$f":"Actions!B8","v":"Изучение рынка услуг"},{"$f":"Actions!C8","v":2},{"$f":"Actions!D8","v":"нет"},{"$f":"Actions!E8","v":0},{"$f":"Actions!F8","v":"2014-03-20"},{"$f":"Actions!G8","v":"2014-04-02"},{"$f":"Actions!H8","v":14},{"$f":"Actions!I8","v":"2014-06-01"},{"$f":"Actions!J8","v":"2014-06-16"},{"$f":"Actions!K8","v":16},{"$f":"Actions!L8","v":1},{"$f":"Actions!M8","v":0},{"$f":"Actions!N8","v":0},{"$f":"Actions!O8","v":"Хорошо"},{"$f":"Actions!P8","v":"Хорошо"},{"$f":"Actions!Q8","v":0},{"$f":"Actions!R8","v":0},null,null,null,null,null,null,null,1,1,1,"",true,14,16,14,16,0,0,0,0,{"$f":"IFERROR(VLOOKUP(O8,refQualityLevel[],2,0)*AG8,\"\")","v":11.200000000000001},{"$f":"IFERROR(VLOOKUP(P8,refQualityLevel[],2,0)*IF(AH8<>0,AH8,AG8),\"\")","v":12.8},{"$f":"IFERROR(VLOOKUP($R8,tblRisks[],7),0)","v":0},{"$f":"IFERROR(VLOOKUP(Q8,tblIssues[],7),0)","v":0}]
[{"$f":"Actions!A9","v":8},{"$f":"Actions!B9","v":"Разработка дизайн-проекта"},{"$f":"Actions!C9","v":2},{"$f":"Actions!D9","v":"нет"},{"$f":"Actions!E9","v":0},{"$f":"Actions!F9","v":"2014-04-03"},{"$f":"Actions!G9","v":"2014-04-12"},{"$f":"Actions!H9","v":10},{"$f":"Actions!I9","v":"2014-06-17"},{"$f":"Actions!J9","v":"2014-06-24"},{"$f":"Actions!K9","v":8},{"$f":"Actions!L9","v":1},{"$f":"Actions!M9","v":20000},{"$f":"Actions!N9","v":25000},{"$f":"Actions!O9","v":"Хорошо"},{"$f":"Actions!P9","v":"Хорошо"},{"$f":"Actions!Q9","v":0},{"$f":"Actions!R9","v":0},null,null,null,null,null,null,null,1,1,1,"",true,10,8,10,8,0,0,20000,25000,{"$f":"IFERROR(VLOOKUP(O9,refQualityLevel[],2,0)*AG9,\"\")","v":8},{"$f":"IFERROR(VLOOKUP(P9,refQualityLevel[],2,0)*IF(AH9<>0,AH9,AG9),\"\")","v":6.4},{"$f":"IFERROR(VLOOKUP($R9,tblRisks[],7),0)","v":0},{"$f":"IFERROR(VLOOKUP(Q9,tblIssues[],7),0)","v":0}]
[{"$f":"Actions!A10","v":9},{"$f":"Actions!B10","v":"Разработка сметы проекта"},{"$f":"Actions!C10","v":2},{"$f":"Actions!D10","v":"Да"},{"$f":"Actions!E10","v":0},{"$f":"Actions!F10","v":"2014-04-13"},{"$f":"Actions!G10","v":"2014-04-22"},{"$f":"Actions!H10","v":10},{"$f":"Actions!I10","v":"2014-06-25"},{"$f":"Actions!J10","v":"2014-07-01"},{"$f":"Actions!K10","v":7},{"$f":"Actions!L10","v":1},{"$f":"Actions!M10","v":11000},{"$f":"Actions!N10","v":10000},{"$f":"Actions!O10","v":"Хорошо"},{"$f":"Actions!P10","v":"Хорошо"},{"$f":"Actions!Q10","v":0},{"$f":"Actions!R10","v":0},null,null,null,null,null,null,null,1,1,1,"",true,10,7,10,7,0,0,11000,10000,{"$f":"IFERROR(VLOOKUP(O10,refQualityLevel[],2,0)*AG10,\"\")","v":8},{"$f":"IFERROR(VLOOKUP(P10,refQualityLevel[],2,0)*IF(AH10<>0,AH10,AG10),\"\")","v":5.6000000000000005},{"$f":"IFERROR(VLOOKUP($R10,tblRisks[],7),0)","v":0},{"$f":"IFERROR(VLOOKUP(Q10,tblIssues[],7),0)","v":0}]
[{"$f":"Actions!A11","v":10},{"$f":"Actions!B11","v":"Поиск подрядчика"},{"$f":"Actions!C11","v":2},{"$f":"Actions!D11","v":"нет"},{"$f":"Actions!E11","v":0},{"$f":"Actions!F11","v":"2014-04-23"},{"$f":"Actions!G11","v":"2014-05-06"},{"$f":"Actions!H11","v":14},{"$f":"Actions!I11","v":"2014-07-02"},{"$f":"Actions!J11","v":"2014-07-23"},{"$f":"Actions!K11","v":22},{"$f":"Actions!L11","v":1},{"$f":"Actions!M11","v":0},{"$f":"Actions!N11","v":0},{"$f":"Actions!O11","v":"Хорошо"},{"$f":"Actions!P11","v":"Хорошо"},{"$f":"Actions!Q11","v":0},{"$f":"Actions!R11","v":0},null,null,null,null,null,null,null,1,1,1,"",true,14,22,14,22,0,0,0,0,{"$f":"IFERROR(VLOOKUP(O11,refQualityLevel[],2,0)*AG11,\"\")","v":11.200000000000001},{"$f":"IFERROR(VLOOKUP(P11,refQualityLevel[],2,0)*IF(AH11<>0,AH11,AG11),\"\")","v":17.600000000000001},{"$f":"IFERROR(VLOOKUP($R11,tblRisks[],7),0)","v":0},{"$f":"IFERROR(VLOOKUP(Q11,tblIssues[],7),0)","v":0}]
[{"$f":"Actions!A12","v":11},{"$f":"Actions!B12","v":"Заключение договора с подрядчиком"},{"$f":"Actions!C12","v":2},{"$f":"Actions!D12","v":"Да"},{"$f":"Actions!E12","v":0},{"$f":"Actions!F12","v":"2014-05-07"},{"$f":"Actions!G12","v":"2014-05-13"},{"$f":"Actions!H12","v":7},{"$f":"Actions!I12","v":"2014-07-24"},{"$f":"Actions!J12","v":"2014-08-02"},{"$f":"Actions!K12","v":10},{"$f":"Actions!L12","v":1},{"$f":"Actions!M12","v":1000},{"$f":"Actions!N12","v":1500},{"$f":"Actions!O12","v":"Хорошо"},{"$f":"Actions!P12","v":"Хорошо"},{"$f":"Actions!Q12","v":0},{"$f":"Actions!R12","v":0},null,null,null,null,null,null,null,1,1,1,"",true,7,10,7,10,0,0,1000,1500,{"$f":"IFERROR(VLOOKUP(O12,refQualityLevel[],2,0)*AG12,\"\")","v":5.6000000000000005},{"$f":"IFERROR(VLOOKUP(P12,refQualityLevel[],2,0)*IF(AH12<>0,AH12,AG12),\"\")","v":8},{"$f":"IFERROR(VLOOKUP($R12,tblRisks[],7),0)","v":0},{"$f":"IFERROR(VLOOKUP(Q12,tblIssues[],7),0)","v":0}]
[{"$f":"Actions!A13","v":12},{"$f":"Actions!B13","v":"Реализация"},{"$f":"Actions!C13","v":1},{"$f":"Actions!D13","v":"нет"},{"$f":"Actions!E13","v":0},{"$f":"Actions!F13","v":"2014-05-14"},{"$f":"Actions!G13","v":"2014-08-06"},{"$f":"Actions!H13","v":85},{"$f":"Actions!I13","v":"2014-08-03"},{"$f":"Actions!J13","v":"2014-11-04"},{"$f":"Actions!K13","v":94},{"$f":"Actions!L13","v":0.77978723404255312},{"$f":"Actions!M13","v":0},{"$f":"Actions!N13","v":0},{"$f":"Actions!O13","v":0},{"$f":"Actions!P13","v":0},{"$f":"Actions!Q13","v":0},{"$f":"Actions!R13","v":0},null,null,null,null,null,null,null,1,1,1,13,false,0,0,0,0,0,0,0,0,{"$f":"IFERROR(VLOOKUP(O13,refQualityLevel[],2,0)*AG13,\"\")","v":""},{"$f":"IFERROR(VLOOKUP(P13,refQualityLevel[],2,0)*IF(AH13<>0,AH13,AG13),\"\")","v":""},{"$f":"IFERROR(VLOOKUP($R13,tblRisks[],7),0)","v":0},{"$f":"IFERROR(VLOOKUP(Q13,tblIssues[],7),0)","v":0}]
[{"$f":"Actions!A14","v":13},{"$f":"Actions!B14","v":"Подготовка помещений"},{"$f":"Actions!C14","v":2},{"$f":"Actions!D14","v":"нет"},{"$f":"Actions!E14","v":0},{"$f":"Actions!F14","v":"2014-05-14"},{"$f":"Actions!G14","v":"2014-05-15"},{"$f":"Actions!H14","v":2},{"$f":"Actions!I14","v":"2014-08-03"},{"$f":"Actions!J14","v":"2014-08-05"},{"$f":"Actions!K14","v":3},{"$f":"Actions!L14","v":1},{"$f":"Actions!M14","v":20000},{"$f":"Actions!N14","v":20000},{"$f":"Actions!O14","v":"Хорошо"},{"$f":"Actions!P14","v":"Хорошо"},{"$f":"Actions!Q14","v":0},{"$f":"Actions!R14","v":0},null,null,null,null,null,null,null,1,1,1,"",true,2,3,2,3,0,0,20000,20000,{"$f":"IFERROR(VLOOKUP(O14,refQualityLevel[],2,0)*AG14,\"\")","v":1.6},{"$f":"IFERROR(VLOOKUP(P14,refQualityLevel[],2,0)*IF(AH14<>0,AH14,AG14),\"\")","v":2.4000000000000004},{"$f":"IFERROR(VLOOKUP($R14,tblRisks[],7),0)","v":0},{"$f":"IFERROR(VLOOKUP(Q14,tblIssues[],7),0)","v":0}]
[{"$f":"Actions!A15","v":14},{"$f":"Actions!B15","v":"Снос стен"},{"$f":"Actions!C15","v":2},{"$f":"Actions!D15","v":"нет"},{"$f":"Actions!E15","v":0},{"$f":"Actions!F15","v":"2014-05-16"},{"$f":"Actions!G15","v":"2014-05-22"},{"$f":"Actions!H15","v":7},{"$f":"Actions!I15","v":"2014-08-06"},{"$f":"Actions!J15","v":"2014-08-12"},{"$f":"Actions!K15","v":7},{"$f":"Actions!L15","v":1},{"$f":"Actions!M15","v":50000},{"$f":"Actions!N15","v":62000},{"$f":"Actions!O15","v":"Хорошо"},{"$f":"Actions!P15","v":"Хорошо"},{"$f":"Actions!Q15","v":0},{"$f":"Actions!R15","v":0},null,null,null,null,null,null,null,1,1,1,"",true,7,7,7,7,0,0,50000,62000,{"$f":"IFERROR(VLOOKUP(O15,refQualityLevel[],2,0)*AG15,\"\")","v":5.6000000000000005},{"$f":"IFERROR(VLOOKUP(P15,refQualityLevel[],2,0)*IF(AH15<>0,AH15,AG15),\"\")","v":5.6000000000000005},{"$f":"IFERROR(VLOOKUP($R15,tblRisks[],7),0)","v":0},{"$f":"IFERROR(VLOOKUP(Q15,tblIssues[],7),0)","v":0}]
[{"$f":"Actions!A16","v":15},{"$f":"Actions!B16","v":"Закупка материалов"},{"$f":"Actions!C16","v":2},{"$f":"Actions!D16","v":"нет"},{"$f":"Actions!E16","v":0},{"$f":"Actions!F16","v":"2014-05-23"},{"$f":"Actions!G16","v":"2014-06-01"},{"$f":"Actions!H16","v":10},{"$f":"Actions!I16","v":"2014-08-13"},{"$f":"Actions!J16","v":"2014-08-21"},{"$f":"Actions!K16","v":9},{"$f":"Actions!L16","v":1},{"$f":"Actions!M16","v":87000},{"$f":"Actions!N16","v":85500},{"$f":"Actions!O16","v":0},{"$f":"Actions!P16","v":0},{"$f":"Actions!Q16","v":"Плохое качество материалов"},{"$f":"Actions!R16","v":"Проблемы с финансированием"},null,null,null,null,null,null,null,1,1,1,"",true,10,9,10,9,0,0,87000,85500,{"$f":"IFERROR(VLOOKUP(O16,refQualityLevel[],2,0)*AG16,\"\")","v":""},{"$f":"IFERROR(VLOOKUP(P16,refQualityLevel[],2,0)*IF(AH16<>0,AH16,AG16),\"\")","v":""},{"$f":"IFERROR(VLOOKUP($R16,tblRisks[],7),0)","v":2.5000000000000001E-2},{"$f":"IFERROR(VLOOKUP(Q16,tblIssues[],7),0)","v":6.25E-2}]
[{"$f":"Actions!A17","v":16},{"$f":"Actions!B17","v":"Доставка материалов"},{"$f":"Actions!C17","v":2},{"$f":"Actions!D17","v":"нет"},{"$f":"Actions!E17","v":0},{"$f":"Actions!F17","v":"2014-06-02"},{"$f":"Actions!G17","v":"2014-06-03"},{"$f":"Actions!H17","v":2},{"$f":"Actions!I17","v":"2014-08-22"},{"$f":"Actions!J17","v":"2014-08-26"},{"$f":"Actions!K17","v":5},{"$f":"Actions!L17","v":1},{"$f":"Actions!M17","v":12000},{"$f":"Actions!N17","v":11500},{"$f":"Actions!O17","v":0},{"$f":"Actions!P17","v":0},{"$f":"Actions!Q17","v":0},{"$f":"Actions!R17","v":0},null,null,null,null,null,null,null,1,1,1,"",true,2,5,2,5,0,0,12000,11500,{"$f":"IFERROR(VLOOKUP(O17,refQualityLevel[],2,0)*AG17,\"\")","v":""},{"$f":"IFERROR(VLOOKUP(P17,refQualityLevel[],2,0)*IF(AH17<>0,AH17,AG17),\"\")","v":""},{"$f":"IFERROR(VLOOKUP($R17,tblRisks[],7),0)","v":0},{"$f":"IFERROR(VLOOKUP(Q17,tblIssues[],7),0)","v":0}]
[{"$f":"Actions!A18","v":17},{"$f":"Actions!B18","v":"Подготовка потолков"},{"$f":"Actions!C18","v":2},{"$f":"Actions!D18","v":"нет"},{"$f":"Actions!E18","v":0},{"$f":"Actions!F18","v":"2014-06-04"},{"$f":"Actions!G18","v":"2014-06-10"},{"$f":"Actions!H18","v":7},{"$f":"Actions!I18","v":"2014-08-27"},{"$f":"Actions!J18","v":"2014-09-03"},{"$f":"Actions!K18","v":8},{"$f":"Actions!L18","v":1},{"$f":"Actions!M18","v":34000},{"$f":"Actions!N18","v":37000},{"$f":"Actions!O18","v":"Хорошо"},{"$f":"Actions!P18","v":"Хорошо"},{"$f":"Actions!Q18","v":0},{"$f":"Actions!R18","v":"Запой Михалыча"},null,null,null,null,null,null,null,1,1,1,"",true,7,8,7,8,0,0,34000,37000,{"$f":"IFERROR(VLOOKUP(O18,refQualityLevel[],2,0)*AG18,\"\")","v":5.6000000000000005},{"$f":"IFERROR(VLOOKUP(P18,refQualityLevel[],2,0)*IF(AH18<>0,AH18,AG18),\"\")","v":6.4},{"$f":"IFERROR(VLOOKUP($R18,tblRisks[],7),0)","v":0},{"$f":"IFERROR(VLOOKUP(Q18,tblIssues[],7),0)","v":0}]
[{"$f":"Actions!A19","v":18},{"$f":"Actions!B19","v":"Подготовка стен"},{"$f":"Actions!C19","v":2},{"$f":"Actions!D19","v":"нет"},{"$f":"Actions!E19","v":0},{"$f":"Actions!F19","v":"2014-06-11"},{"$f":"Actions!G19","v":"2014-06-20"},{"$f":"Actions!H19","v":10},{"$f":"Actions!I19","v":"2014-09-04"},{"$f":"Actions!J19","v":"2014-09-14"},{"$f":"Actions!K19","v":11},{"$f":"Actions!L19","v":1},{"$f":"Actions!M19","v":48500},{"$f":"Actions!N19","v":45000},{"$f":"Actions!O19","v":"Хорошо"},{"$f":"Actions!P19","v":"Хорошо"},{"$f":"Actions!Q19","v":0},{"$f":"Actions!R19","v":0},null,null,null,null,null,null,null,1,1,1,"",true,10,11,10,11,0,0,48500,45000,{"$f":"IFERROR(VLOOKUP(O19,refQualityLevel[],2,0)*AG19,\"\")","v":8},{"$f":"IFERROR(VLOOKUP(P19,refQualityLevel[],2,0)*IF(AH19<>0,AH19,AG19),\"\")","v":8.8000000000000007},{"$f":"IFERROR(VLOOKUP($R19,tblRisks[],7),0)","v":0},{"$f":"IFERROR(VLOOKUP(Q19,tblIssues[],7),0)","v":0}]
[{"$f":"Actions!A20","v":19},{"$f":"Actions!B20","v":"Монтаж окон"},{"$f":"Actions!C20","v":2},{"$f":"Actions!D20","v":"Да"},{"$f":"Actions!E20","v":0},{"$f":"Actions!F20","v":"2014-06-21"},{"$f":"Actions!G20","v":"2014-06-22"},{"$f":"Actions!H20","v":2},{"$f":"Actions!I20","v":"2014-09-15"},{"$f":"Actions!J20","v":"2014-09-17"},{"$f":"Actions!K20","v":3},{"$f":"Actions!L20","v":1},{"$f":"Actions!M20","v":120000},{"$f":"Actions!N20","v":125000},{"$f":"Actions!O20","v":"Отлично"},{"$f":"Actions!P20","v":"Хорошо"},{"$f":"Actions!Q20","v":0},{"$f":"Actions!R20","v":0},null,null,null,null,null,null,null,1,1,1,"",true,2,3,2,3,0,0,120000,125000,{"$f":"IFERROR(VLOOKUP(O20,refQualityLevel[],2,0)*AG20,\"\")","v":1.9},{"$f":"IFERROR(VLOOKUP(P20,refQualityLevel[],2,0)*IF(AH20<>0,AH20,AG20),\"\")","v":2.4000000000000004},{"$f":"IFERROR(VLOOKUP($R20,tblRisks[],7),0)","v":0},{"$f":"IFERROR(VLOOKUP(Q20,tblIssues[],7),0)","v":0}]
[{"$f":"Actions!A21","v":20},{"$f":"Actions!B21","v":"Монтаж дверей"},{"$f":"Actions!C21","v":2},{"$f":"Actions!D21","v":"нет"},{"$f":"Actions!E21","v":1},{"$f":"Actions!F21","v":"2014-06-22"},{"$f":"Actions!G21","v":"2014-06-23"},{"$f":"Actions!H21","v":2},{"$f":"Actions!I21","v":"2014-09-17"},{"$f":"Actions!J21","v":"2014-09-17"},{"$f":"Actions!K21","v":1},{"$f":"Actions!L21","v":1},{"$f":"Actions!M21","v":42000},{"$f":"Actions!N21","v":45000},{"$f":"Actions!O21","v":"Отлично"},{"$f":"Actions!P21","v":"Хорошо"},{"$f":"Actions!Q21","v":0},{"$f":"Actions!R21","v":0},null,null,null,null,null,null,null,1,1,1,"",true,2,1,1,0,-1,-1,42000,45000,{"$f":"IFERROR(VLOOKUP(O21,refQualityLevel[],2,0)*AG21,\"\")","v":0.95},{"$f":"IFERROR(VLOOKUP(P21,refQualityLevel[],2,0)*IF(AH21<>0,AH21,AG21),\"\")","v":0.8},{"$f":"IFERROR(VLOOKUP($R21,tblRisks[],7),0)","v":0},{"$f":"IFERROR(VLOOKUP(Q21,tblIssues[],7),0)","v":0}]
[{"$f":"Actions!A22","v":21},{"$f":"Actions!B22","v":"Подготовка пола"},{"$f":"Actions!C22","v":2},{"$f":"Actions!D22","v":"нет"},{"$f":"Actions!E22","v":2},{"$f":"Actions!F22","v":"2014-06-22"},{"$f":"Actions!G22","v":"2014-07-05"},{"$f":"Actions!H22","v":14},{"$f":"Actions!I22","v":"2014-09-16"},{"$f":"Actions!J22","v":"2014-09-30"},{"$f":"Actions!K22","v":15},{"$f":"Actions!L22","v":1},{"$f":"Actions!M22","v":27000},{"$f":"Actions!N22","v":30000},{"$f":"Actions!O22","v":"Хорошо"},{"$f":"Actions!P22","v":"Хорошо"},{"$f":"Actions!Q22","v":0},{"$f":"Actions!R22","v":0},null,null,null,null,null,null,null,1,1,1,"",true,14,15,12,13,-2,-2,27000,30000,{"$f":"IFERROR(VLOOKUP(O22,refQualityLevel[],2,0)*AG22,\"\")","v":9.6000000000000014},{"$f":"IFERROR(VLOOKUP(P22,refQualityLevel[],2,0)*IF(AH22<>0,AH22,AG22),\"\")","v":10.4},{"$f":"IFERROR(VLOOKUP($R22,tblRisks[],7),0)","v":0},{"$f":"IFERROR(VLOOKUP(Q22,tblIssues[],7),0)","v":0}]
[{"$f":"Actions!A23","v":22},{"$f":"Actions!B23","v":"Контроль качества"},{"$f":"Actions!C23","v":2},{"$f":"Actions!D23","v":"нет"},{"$f":"Actions!E23","v":0},{"$f":"Actions!F23","v":"2014-07-06"},{"$f":"Actions!G23","v":"2014-07-06"},{"$f":"Actions!H23","v":1},{"$f":"Actions!I23","v":"2014-10-01"},{"$f":"Actions!J23","v":"2014-10-03"},{"$f":"Actions!K23","v":3},{"$f":"Actions!L23","v":1},{"$f":"Actions!M23","v":0},{"$f":"Actions!N23","v":0},{"$f":"Actions!O23","v":"Хорошо"},{"$f":"Actions!P23","v":"Хорошо"},{"$f":"Actions!Q23","v":0},{"$f":"Actions!R23","v":0},null,null,null,null,null,null,null,1,1,1,"",true,1,3,1,3,0,0,0,0,{"$f":"IFERROR(VLOOKUP(O23,refQualityLevel[],2,0)*AG23,\"\")","v":0.8},{"$f":"IFERROR(VLOOKUP(P23,refQualityLevel[],2,0)*IF(AH23<>0,AH23,AG23),\"\")","v":2.4000000000000004},{"$f":"IFERROR(VLOOKUP($R23,tblRisks[],7),0)","v":0},{"$f":"IFERROR(VLOOKUP(Q23,tblIssues[],7),0)","v":0}]
[{"$f":"Actions!A24","v":23},{"$f":"Actions!B24","v":"Потолочные конструкции"},{"$f":"Actions!C24","v":2},{"$f":"Actions!D24","v":"Да"},{"$f":"Actions!E24","v":0},{"$f":"Actions!F24","v":"2014-07-07"},{"$f":"Actions!G24","v":"2014-07-11"},{"$f":"Actions!H24","v":5},{"$f":"Actions!I24","v":"2014-10-04"},{"$f":"Actions!J24","v":"2014-10-09"},{"$f":"Actions!K24","v":6},{"$f":"Actions!L24","v":0.8},{"$f":"Actions!M24","v":92000},{"$f":"Actions!N24","v":99000},{"$f":"Actions!O24","v":"Хорошо"},{"$f":"Actions!P24","v":"Хорошо"},{"$f":"Actions!Q24","v":0},{"$f":"Actions!R24","v":0},null,null,null,null,null,null,null,1,1,1,"",true,5,6,5,6,0.99999999999999978,1.1999999999999997,92000,99000,{"$f":"IFERROR(VLOOKUP(O24,refQualityLevel[],2,0)*AG24,\"\")","v":4},{"$f":"IFERROR(VLOOKUP(P24,refQualityLevel[],2,0)*IF(AH24<>0,AH24,AG24),\"\")","v":4.8000000000000007},{"$f":"IFERROR(VLOOKUP($R24,tblRisks[],7),0)","v":0},{"$f":"IFERROR(VLOOKUP(Q24,tblIssues[],7),0)","v":0}]
[{"$f":"Actions!A25","v":24},{"$f":"Actions!B25","v":"Стеновые конструкции"},{"$f":"Actions!C25","v":2},{"$f":"Actions!D25","v":"Да"},{"$f":"Actions!E25","v":0},{"$f":"Actions!F25","v":"2014-07-12"},{"$f":"Actions!G25","v":"2014-07-18"},{"$f":"Actions!H25","v":7},{"$f":"Actions!I25","v":"2014-10-10"},{"$f":"Actions!J25","v":"2014-10-16"},{"$f":"Actions!K25","v":7},{"$f":"Actions!L25","v":0.5},{"$f":"Actions!M25","v":150000},{"$f":"Actions!N25","v":125000},{"$f":"Actions!O25","v":"Хорошо"},{"$f":"Actions!P25","v":"Приемлемо"},{"$f":"Actions!Q25","v":0},{"$f":"Actions!R25","v":0},null,null,null,null,null,null,null,1,1,1,"",true,7,7,7,7,3.5,3.5,150000,125000,{"$f":"IFERROR(VLOOKUP(O25,refQualityLevel[],2,0)*AG25,\"\")","v":5.6000000000000005},{"$f":"IFERROR(VLOOKUP(P25,refQualityLevel[],2,0)*IF(AH25<>0,AH25,AG25),\"\")","v":4.55},{"$f":"IFERROR(VLOOKUP($R25,tblRisks[],7),0)","v":0},{"$f":"IFERROR(VLOOKUP(Q25,tblIssues[],7),0)","v":0}]
[{"$f":"Actions!A26","v":25},{"$f":"Actions!B26","v":"Покраска"},{"$f":"Actions!C26","v":2},{"$f":"Actions!D26","v":"нет"},{"$f":"Actions!E26","v":0},{"$f":"Actions!F26","v":"2014-07-19"},{"$f":"Actions!G26","v":"2014-07-22"},{"$f":"Actions!H26","v":4},{"$f":"Actions!I26","v":"2014-10-17"},{"$f":"Actions!J26","v":"2014-10-19"},{"$f":"Actions!K26","v":3},{"$f":"Actions!L26","v":0},{"$f":"Actions!M26","v":32000},{"$f":"Actions!N26","v":32000},{"$f":"Actions!O26","v":"Отлично"},{"$f":"Actions!P26","v":"Приемлемо"},{"$f":"Actions!Q26","v":0},{"$f":"Actions!R26","v":0},null,null,null,null,null,null,null,1,1,1,"",true,4,3,4,3,4,3,32000,32000,{"$f":"IFERROR(VLOOKUP(O26,refQualityLevel[],2,0)*AG26,\"\")","v":3.8},{"$f":"IFERROR(VLOOKUP(P26,refQualityLevel[],2,0)*IF(AH26<>0,AH26,AG26),\"\")","v":1.9500000000000002},{"$f":"IFERROR(VLOOKUP($R26,tblRisks[],7),0)","v":0},{"$f":"IFERROR(VLOOKUP(Q26,tblIssues[],7),0)","v":0}]
[{"$f":"Actions!A27","v":26},{"$f":"Actions!B27","v":"Монтаж полового покрытия"},{"$f":"Actions!C27","v":2},{"$f":"Actions!D27","v":"Да"},{"$f":"Actions!E27","v":0},{"$f":"Actions!F27","v":"2014-07-23"},{"$f":"Actions!G27","v":"2014-07-27"},{"$f":"Actions!H27","v":5},{"$f":"Actions!I27","v":"2014-10-20"},{"$f":"Actions!J27","v":"2014-10-22"},{"$f":"Actions!K27","v":3},{"$f":"Actions!L27","v":0},{"$f":"Actions!M27","v":51000},{"$f":"Actions!N27","v":64000},{"$f":"Actions!O27","v":"Отлично"},{"$f":"Actions!P27","v":"Хорошо"},{"$f":"Actions!Q27","v":0},{"$f":"Actions!R27","v":0},null,null,null,null,null,null,null,1,1,1,"",true,5,3,5,3,5,3,51000,64000,{"$f":"IFERROR(VLOOKUP(O27,refQualityLevel[],2,0)*AG27,\"\")","v":4.75},{"$f":"IFERROR(VLOOKUP(P27,refQualityLevel[],2,0)*IF(AH27<>0,AH27,AG27),\"\")","v":2.4000000000000004},{"$f":"IFERROR(VLOOKUP($R27,tblRisks[],7),0)","v":0},{"$f":"IFERROR(VLOOKUP(Q27,tblIssues[],7),0)","v":0}]
[{"$f":"Actions!A28","v":27},{"$f":"Actions!B28","v":"Контроль качества"},{"$f":"Actions!C28","v":2},{"$f":"Actions!D28","v":"нет"},{"$f":"Actions!E28","v":0},{"$f":"Actions!F28","v":"2014-07-28"},{"$f":"Actions!G28","v":"2014-07-28"},{"$f":"Actions!H28","v":1},{"$f":"Actions!I28","v":"2014-10-23"},{"$f":"Actions!J28","v":"2014-10-23"},{"$f":"Actions!K28","v":1},{"$f":"Actions!L28","v":0},{"$f":"Actions!M28","v":0},{"$f":"Actions!N28","v":0},{"$f":"Actions!O28","v":"Хорошо"},{"$f":"Actions!P28","v":"Хорошо"},{"$f":"Actions!Q28","v":0},{"$f":"Actions!R28","v":0},null,null,null,null,null,null,null,1,1,1,"",true,1,1,1,1,1,1,0,0,{"$f":"IFERROR(VLOOKUP(O28,refQualityLevel[],2,0)*AG28,\"\")","v":0.8},{"$f":"IFERROR(VLOOKUP(P28,refQualityLevel[],2,0)*IF(AH28<>0,AH28,AG28),\"\")","v":0.8},{"$f":"IFERROR(VLOOKUP($R28,tblRisks[],7),0)","v":0},{"$f":"IFERROR(VLOOKUP(Q28,tblIssues[],7),0)","v":0}]
[{"$f":"Actions!A29","v":28},{"$f":"Actions!B29","v":"Доставка мебели"},{"$f":"Actions!C29","v":2},{"$f":"Actions!D29","v":"нет"},{"$f":"Actions!E29","v":0},{"$f":"Actions!F29","v":"2014-07-29"},{"$f":"Actions!G29","v":"2014-07-30"},{"$f":"Actions!H29","v":2},{"$f":"Actions!I29","v":"2014-10-24"},{"$f":"Actions!J29","v":"2014-10-26"},{"$f":"Actions!K29","v":3},{"$f":"Actions!L29","v":0},{"$f":"Actions!M29","v":5000},{"$f":"Actions!N29","v":6000},{"$f":"Actions!O29","v":"Хорошо"},{"$f":"Actions!P29","v":"Хорошо"},{"$f":"Actions!Q29","v":0},{"$f":"Actions!R29","v":0},null,null,null,null,null,null,null,1,1,1,"",true,2,3,2,3,2,3,5000,6000,{"$f":"IFERROR(VLOOKUP(O29,refQualityLevel[],2,0)*AG29,\"\")","v":1.6},{"$f":"IFERROR(VLOOKUP(P29,refQualityLevel[],2,0)*IF(AH29<>0,AH29,AG29),\"\")","v":2.4000000000000004},{"$f":"IFERROR(VLOOKUP($R29,tblRisks[],7),0)","v":0},{"$f":"IFERROR(VLOOKUP(Q29,tblIssues[],7),0)","v":0}]
[{"$f":"Actions!A30","v":29},{"$f":"Actions!B30","v":"Сборка мебели"},{"$f":"Actions!C30","v":2},{"$f":"Actions!D30","v":"нет"},{"$f":"Actions!E30","v":0},{"$f":"Actions!F30","v":"2014-07-31"},{"$f":"Actions!G30","v":"2014-07-31"},{"$f":"Actions!H30","v":1},{"$f":"Actions!I30","v":"2014-10-27"},{"$f":"Actions!J30","v":"2014-10-27"},{"$f":"Actions!K30","v":1},{"$f":"Actions!L30","v":0},{"$f":"Actions!M30","v":2000},{"$f":"Actions!N30","v":2500},{"$f":"Actions!O30","v":"Хорошо"},{"$f":"Actions!P30","v":"Хорошо"},{"$f":"Actions!Q30","v":0},{"$f":"Actions!R30","v":0},null,null,null,null,null,null,null,1,1,1,"",true,1,1,1,1,1,1,2000,2500,{"$f":"IFERROR(VLOOKUP(O30,refQualityLevel[],2,0)*AG30,\"\")","v":0.8},{"$f":"IFERROR(VLOOKUP(P30,refQualityLevel[],2,0)*IF(AH30<>0,AH30,AG30),\"\")","v":0.8},{"$f":"IFERROR(VLOOKUP($R30,tblRisks[],7),0)","v":0},{"$f":"IFERROR(VLOOKUP(Q30,tblIssues[],7),0)","v":0}]
[{"$f":"Actions!A31","v":30},{"$f":"Actions!B31","v":"Установка мебели"},{"$f":"Actions!C31","v":2},{"$f":"Actions!D31","v":"Да"},{"$f":"Actions!E31","v":0},{"$f":"Actions!F31","v":"2014-08-01"},{"$f":"Actions!G31","v":"2014-08-02"},{"$f":"Actions!H31","v":2},{"$f":"Actions!I31","v":"2014-10-28"},{"$f":"Actions!J31","v":"2014-10-29"},{"$f":"Actions!K31","v":2},{"$f":"Actions!L31","v":0},{"$f":"Actions!M31","v":500},{"$f":"Actions!N31","v":1000},{"$f":"Actions!O31","v":"Хорошо"},{"$f":"Actions!P31","v":"Хорошо"},{"$f":"Actions!Q31","v":0},{"$f":"Actions!R31","v":0},null,null,null,null,null,null,null,1,1,1,"",true,2,2,2,2,2,2,500,1000,{"$f":"IFERROR(VLOOKUP(O31,refQualityLevel[],2,0)*AG31,\"\")","v":1.6},{"$f":"IFERROR(VLOOKUP(P31,refQualityLevel[],2,0)*IF(AH31<>0,AH31,AG31),\"\")","v":1.6},{"$f":"IFERROR(VLOOKUP($R31,tblRisks[],7),0)","v":0},{"$f":"IFERROR(VLOOKUP(Q31,tblIssues[],7),0)","v":0}]
[{"$f":"Actions!A32","v":31},{"$f":"Actions!B32","v":"Контроль качества"},{"$f":"Actions!C32","v":2},{"$f":"Actions!D32","v":"нет"},{"$f":"Actions!E32","v":0},{"$f":"Actions!F32","v":"2014-08-03"},{"$f":"Actions!G32","v":"2014-08-03"},{"$f":"Actions!H32","v":1},{"$f":"Actions!I32","v":"2014-10-30"},{"$f":"Actions!J32","v":"2014-11-01"},{"$f":"Actions!K32","v":3},{"$f":"Actions!L32","v":0},{"$f":"Actions!M32","v":0},{"$f":"Actions!N32","v":1000},{"$f":"Actions!O32","v":"Хорошо"},{"$f":"Actions!P32","v":"Хорошо"},{"$f":"Actions!Q32","v":0},{"$f":"Actions!R32","v":0},null,null,null,null,null,null,null,1,1,1,"",true,1,3,1,3,1,3,0,1000,{"$f":"IFERROR(VLOOKUP(O32,refQualityLevel[],2,0)*AG32,\"\")","v":0.8},{"$f":"IFERROR(VLOOKUP(P32,refQualityLevel[],2,0)*IF(AH32<>0,AH32,AG32),\"\")","v":2.4000000000000004},{"$f":"IFERROR(VLOOKUP($R32,tblRisks[],7),0)","v":0},{"$f":"IFERROR(VLOOKUP(Q32,tblIssues[],7),0)","v":0}]
[{"$f":"Actions!A33","v":32},{"$f":"Actions!B33","v":"Завершение"},{"$f":"Actions!C33","v":1},{"$f":"Actions!D33","v":"нет"},{"$f":"Actions!E33","v":0},{"$f":"Actions!F33","v":"2014-08-04"},{"$f":"Actions!G33","v":"2014-08-09"},{"$f":"Actions!H33","v":6},{"$f":"Actions!I33","v":"2014-11-02"},{"$f":"Actions!J33","v":"2014-11-07"},{"$f":"Actions!K33","v":6},{"$f":"Actions!L33","v":0},{"$f":"Actions!M33","v":0},{"$f":"Actions!N33","v":0},{"$f":"Actions!O33","v":0},{"$f":"Actions!P33","v":0},{"$f":"Actions!Q33","v":0},{"$f":"Actions!R33","v":0},null,null,null,null,null,null,null,1,1,1,33,false,0,0,0,0,0,0,0,0,{"$f":"IFERROR(VLOOKUP(O33,refQualityLevel[],2,0)*AG33,\"\")","v":""},{"$f":"IFERROR(VLOOKUP(P33,refQualityLevel[],2,0)*IF(AH33<>0,AH33,AG33),\"\")","v":""},{"$f":"IFERROR(VLOOKUP($R33,tblRisks[],7),0)","v":0},{"$f":"IFERROR(VLOOKUP(Q33,tblIssues[],7),0)","v":0}]
[{"$f":"Actions!A34","v":33},{"$f":"Actions!B34","v":"Приёмка работ"},{"$f":"Actions!C34","v":2},{"$f":"Actions!D34","v":"Да"},{"$f":"Actions!E34","v":0},{"$f":"Actions!F34","v":"2014-08-04"},{"$f":"Actions!G34","v":"2014-08-04"},{"$f":"Actions!H34","v":1},{"$f":"Actions!I34","v":"2014-11-02"},{"$f":"Actions!J34","v":"2014-11-03"},{"$f":"Actions!K34","v":2},{"$f":"Actions!L34","v":0},{"$f":"Actions!M34","v":0},{"$f":"Actions!N34","v":0},{"$f":"Actions!O34","v":"Хорошо"},{"$f":"Actions!P34","v":"Хорошо"},{"$f":"Actions!Q34","v":0},{"$f":"Actions!R34","v":0},null,null,null,null,null,null,null,1,1,1,"",true,1,2,{"$f":"IF($Z34=1,IF($AD34,IF(AND($F34<=gToday,$G34>=gToday),gToday-$F34+1,IF($F34>gToday,0,$H34))-$E34,0),0)","v":1},{"$f":"IF($Z34=1,IF($AD34,IF(AND($I34<=gToday,$J34>=gToday),gToday-$I34+1,IF($I34>gToday,0,$K34))-$E34,0),0)","v":2},{"$f":"IF($Z34=1,IF($AD34,IF(AND($F34<=gToday,$G34>=gToday),IF(gToday-$F34>$H34*$L34,gToday-$F34-$H34*$L34,0),IF($G34>gToday,0,$H34*(1-$L34)))-$E34,0),0)","v":1},{"$f":"IF($Z34=1,IF($AD34,IF(AND($I34<=gToday,$J34>=gToday),IF(gToday-$I34>$K34*$L34,gToday-$I34-$K34*$L34,0),IF($J34>gToday,0,$K34*(1-$L34)))-$E34,0),0)","v":2},{"$f":"IF($Z34=1,IF(AND($F34>=gToday,$G34<=gToday),$M34,IF($F34>gToday,0,$M34)),\"\")","v":0},{"$f":"IF($Z34=1,IF(AND($I34>=gToday,$J34<=gToday),$N34,IF($I34>gToday,0,$N34)),\"\")","v":0},{"$f":"IFERROR(VLOOKUP(O34,refQualityLevel[],2,0)*AG34,\"\")","v":0.8},{"$f":"IFERROR(VLOOKUP(P34,refQualityLevel[],2,0)*IF(AH34<>0,AH34,AG34),\"\")","v":1.6},{"$f":"IFERROR(VLOOKUP($R34,tblRisks[],7),0)","v":0},{"$f":"IFERROR(VLOOKUP(Q34,tblIssues[],7),0)","v":0}]
[{"$f":"Actions!A35","v":34},{"$f":"Actions!B35","v":"Устранение недостатков"},{"$f":"Actions!C35","v":2},{"$f":"Actions!D35","v":"нет"},{"$f":"Actions!E35","v":0},{"$f":"Actions!F35","v":"2014-08-05"},{"$f":"Actions!G35","v":"2014-08-07"},{"$f":"Actions!H35","v":3},{"$f":"Actions!I35","v":"2014-11-04"},{"$f":"Actions!J35","v":"2014-11-05"},{"$f":"Actions!K35","v":2},{"$f":"Actions!L35","v":0},{"$f":"Actions!M35","v":0},{"$f":"Actions!N35","v":300},{"$f":"Actions!O35","v":"Хорошо"},{"$f":"Actions!P35","v":"Хорошо"},{"$f":"Actions!Q35","v":0},{"$f":"Actions!R35","v":0},null,null,null,null,null,null,null,1,1,1,"",true,3,2,3,2,3,2,0,300,{"$f":"IFERROR(VLOOKUP(O35,refQualityLevel[],2,0)*AG35,\"\")","v":2.4000000000000004},{"$f":"IFERROR(VLOOKUP(P35,refQualityLevel[],2,0)*IF(AH35<>0,AH35,AG35),\"\")","v":1.6},{"$f":"IFERROR(VLOOKUP($R35,tblRisks[],7),0)","v":0},{"$f":"IFERROR(VLOOKUP(Q35,tblIssues[],7),0)","v":0}]
[{"$f":"Actions!A36","v":35},{"$f":"Actions!B36","v":"Оплата услуг подрядчика"},{"$f":"Actions!C36","v":2},{"$f":"Actions!D36","v":"нет"},{"$f":"Actions!E36","v":0},{"$f":"Actions!F36","v":"2014-08-08"},{"$f":"Actions!G36","v":"2014-08-09"},{"$f":"Actions!H36","v":2},{"$f":"Actions!I36","v":"2014-11-06"},{"$f":"Actions!J36","v":"2014-11-07"},{"$f":"Actions!K36","v":2},{"$f":"Actions!L36","v":0},{"$f":"Actions!M36","v":0},{"$f":"Actions!N36","v":500},{"$f":"Actions!O36","v":0},{"$f":"Actions!P36","v":0},{"$f":"Actions!Q36","v":0},{"$f":"Actions!R36","v":0},null,null,null,null,null,null,null,1,1,1,"",true,2,2,2,2,2,2,0,500,{"$f":"IFERROR(VLOOKUP(O36,refQualityLevel[],2,0)*AG36,\"\")","v":""},{"$f":"IFERROR(VLOOKUP(P36,refQualityLevel[],2,0)*IF(AH36<>0,AH36,AG36),\"\")","v":""},{"$f":"IFERROR(VLOOKUP($R36,tblRisks[],7),0)","v":0},{"$f":"IFERROR(VLOOKUP(Q36,tblIssues[],7),0)","v":0}]
[{"$f":"Actions!A37","v":0},{"$f":"Actions!B37","v":0},{"$f":"Actions!C37","v":0},{"$f":"Actions!D37","v":0},{"$f":"Actions!E37","v":0},{"$f":"Actions!F37","v":"00:00:00"},{"$f":"Actions!G37","v":"00:00:00"},{"$f":"Actions!H37","v":0},{"$f":"Actions!I37","v":"00:00:00"},{"$f":"Actions!J37","v":"00:00:00"},{"$f":"Actions!K37","v":0},{"$f":"Actions!L37","v":0},{"$f":"Actions!M37","v":0},{"$f":"Actions!N37","v":0},{"$f":"Actions!O37","v":0},{"$f":"Actions!P37","v":0},{"$f":"Actions!Q37","v":0},{"$f":"Actions!R37","v":0},null,null,null,null,null,null,null,0,0,0,"","",0,0,0,0,0,0,"","",{"$f":"IFERROR(VLOOKUP(O37,refQualityLevel[],2,0)*AG37,\"\")","v":""},{"$f":"IFERROR(VLOOKUP(P37,refQualityLevel[],2,0)*IF(AH37<>0,AH37,AG37),\"\")","v":""},{"$f":"IFERROR(VLOOKUP($R37,tblRisks[],7),0)","v":0},{"$f":"IFERROR(VLOOKUP(Q37,tblIssues[],7),0)","v":0}]
[{"$f":"Actions!A38","v":0},{"$f":"Actions!B38","v":0},{"$f":"Actions!C38","v":0},{"$f":"Actions!D38","v":0},{"$f":"Actions!E38","v":0},{"$f":"Actions!F38","v":"00:00:00"},{"$f":"Actions!G38","v":"00:00:00"},{"$f":"Actions!H38","v":0},{"$f":"Actions!I38","v":"00:00:00"},{"$f":"Actions!J38","v":"00:00:00"},{"$f":"Actions!K38","v":0},{"$f":"Actions!L38","v":0},{"$f":"Actions!M38","v":0},{"$f":"Actions!N38","v":0},{"$f":"Actions!O38","v":0},{"$f":"Actions!P38","v":0},{"$f":"Actions!Q38","v":0},{"$f":"Actions!R38","v":0},null,null,null,null,null,null,null,0,0,0,"","",0,0,0,0,0,0,"","",{"$f":"IFERROR(VLOOKUP(O38,refQualityLevel[],2,0)*AG38,\"\")","v":""},{"$f":"IFERROR(VLOOKUP(P38,refQualityLevel[],2,0)*IF(AH38<>0,AH38,AG38),\"\")","v":""},{"$f":"IFERROR(VLOOKUP($R38,tblRisks[],7),0)","v":0},{"$f":"IFERROR(VLOOKUP(Q38,tblIssues[],7),0)","v":0}]
[{"$f":"Actions!A39","v":0},{"$f":"Actions!B39","v":0},{"$f":"Actions!C39","v":0},{"$f":"Actions!D39","v":0},{"$f":"Actions!E39","v":0},{"$f":"Actions!F39","v":"00:00:00"},{"$f":"Actions!G39","v":"00:00:00"},{"$f":"Actions!H39","v":0},{"$f":"Actions!I39","v":"00:00:00"},{"$f":"Actions!J39","v":"00:00:00"},{"$f":"Actions!K39","v":0},{"$f":"Actions!L39","v":0},{"$f":"Actions!M39","v":0},{"$f":"Actions!N39","v":0},{"$f":"Actions!O39","v":0},{"$f":"Actions!P39","v":0},{"$f":"Actions!Q39","v":0},{"$f":"Actions!R39","v":0},null,null,null,null,null,null,null,0,0,0,"","",0,0,0,0,0,0,"","",{"$f":"IFERROR(VLOOKUP(O39,refQualityLevel[],2,0)*AG39,\"\")","v":""},{"$f":"IFERROR(VLOOKUP(P39,refQualityLevel[],2,0)*IF(AH39<>0,AH39,AG39),\"\")","v":""},{"$f":"IFERROR(VLOOKUP($R39,tblRisks[],7),0)","v":0},{"$f":"IFERROR(VLOOKUP(Q39,tblIssues[],7),0)","v":0}]
[{"$f":"Actions!A40","v":0},{"$f":"Actions!B40","v":0},{"$f":"Actions!C40","v":0},{"$f":"Actions!D40","v":0},{"$f":"Actions!E40","v":0},{"$f":"Actions!F40","v":"00:00:00"},{"$f":"Actions!G40","v":"00:00:00"},{"$f":"Actions!H40","v":0},{"$f":"Actions!I40","v":"00:00:00"},{"$f":"Actions!J40","v":"00:00:00"},{"$f":"Actions!K40","v":0},{"$f":"Actions!L40","v":0},{"$f":"Actions!M40","v":0},{"$f":"Actions!N40","v":0},{"$f":"Actions!O40","v":0},{"$f":"Actions!P40","v":0},{"$f":"Actions!Q40","v":0},{"$f":"Actions!R40","v":0},null,null,null,null,null,null,null,0,0,0,"","",0,0,0,0,0,0,"","",{"$f":"IFERROR(VLOOKUP(O40,refQualityLevel[],2,0)*AG40,\"\")","v":""},{"$f":"IFERROR(VLOOKUP(P40,refQualityLevel[],2,0)*IF(AH40<>0,AH40,AG40),\"\")","v":""},{"$f":"IFERROR(VLOOKUP($R40,tblRisks[],7),0)","v":0},{"$f":"IFERROR(VLOOKUP(Q40,tblIssues[],7),0)","v":0}]
[{"$f":"Actions!A41","v":0},{"$f":"Actions!B41","v":0},{"$f":"Actions!C41","v":0},{"$f":"Actions!D41","v":0},{"$f":"Actions!E41","v":0},{"$f":"Actions!F41","v":"00:00:00"},{"$f":"Actions!G41","v":"00:00:00"},{"$f":"Actions!H41","v":0},{"$f":"Actions!I41","v":"00:00:00"},{"$f":"Actions!J41","v":"00:00:00"},{"$f":"Actions!K41","v":0},{"$f":"Actions!L41","v":0},{"$f":"Actions!M41","v":0},{"$f":"Actions!N41","v":0},{"$f":"Actions!O41","v":0},{"$f":"Actions!P41","v":0},{"$f":"Actions!Q41","v":0},{"$f":"Actions!R41","v":0},null,null,null,null,null,null,null,0,0,0,"","",0,0,0,0,0,0,"","",{"$f":"IFERROR(VLOOKUP(O41,refQualityLevel[],2,0)*AG41,\"\")","v":""},{"$f":"IFERROR(VLOOKUP(P41,refQualityLevel[],2,0)*IF(AH41<>0,AH41,AG41),\"\")","v":""},{"$f":"IFERROR(VLOOKUP($R41,tblRisks[],7),0)","v":0},{"$f":"IFERROR(VLOOKUP(Q41,tblIssues[],7),0)","v":0}]
[{"$f":"Actions!A42","v":0},{"$f":"Actions!B42","v":0},{"$f":"Actions!C42","v":0},{"$f":"Actions!D42","v":0},{"$f":"Actions!E42","v":0},{"$f":"Actions!F42","v":"00:00:00"},{"$f":"Actions!G42","v":"00:00:00"},{"$f":"Actions!H42","v":0},{"$f":"Actions!I42","v":"00:00:00"},{"$f":"Actions!J42","v":"00:00:00"},{"$f":"Actions!K42","v":0},{"$f":"Actions!L42","v":0},{"$f":"Actions!M42","v":0},{"$f":"Actions!N42","v":0},{"$f":"Actions!O42","v":0},{"$f":"Actions!P42","v":0},{"$f":"Actions!Q42","v":0},{"$f":"Actions!R42","v":0},null,null,null,null,null,null,null,0,0,0,"","",0,0,0,0,0,0,"","",{"$f":"IFERROR(VLOOKUP(O42,refQualityLevel[],2,0)*AG42,\"\")","v":""},{"$f":"IFERROR(VLOOKUP(P42,refQualityLevel[],2,0)*IF(AH42<>0,AH42,AG42),\"\")","v":""},{"$f":"IFERROR(VLOOKUP($R42,tblRisks[],7),0)","v":0},{"$f":"IFERROR(VLOOKUP(Q42,tblIssues[],7),0)","v":0}]
[{"$f":"Actions!A43","v":0},{"$f":"Actions!B43","v":0},{"$f":"Actions!C43","v":0},{"$f":"Actions!D43","v":0},{"$f":"Actions!E43","v":0},{"$f":"Actions!F43","v":"00:00:00"},{"$f":"Actions!G43","v":"00:00:00"},{"$f":"Actions!H43","v":0},{"$f":"Actions!I43","v":"00:00:00"},{"$f":"Actions!J43","v":"00:00:00"},{"$f":"Actions!K43","v":0},{"$f":"Actions!L43","v":0},{"$f":"Actions!M43","v":0},{"$f":"Actions!N43","v":0},{"$f":"Actions!O43","v":0},{"$f":"Actions!P43","v":0},{"$f":"Actions!Q43","v":0},{"$f":"Actions!R43","v":0},null,null,null,null,null,null,null,0,0,0,"","",0,0,0,0,0,0,"","",{"$f":"IFERROR(VLOOKUP(O43,refQualityLevel[],2,0)*AG43,\"\")","v":""},{"$f":"IFERROR(VLOOKUP(P43,refQualityLevel[],2,0)*IF(AH43<>0,AH43,AG43),\"\")","v":""},{"$f":"IFERROR(VLOOKUP($R43,tblRisks[],7),0)","v":0},{"$f":"IFERROR(VLOOKUP(Q43,tblIssues[],7),0)","v":0}]
[{"$f":"Actions!A44","v":0},{"$f":"Actions!B44","v":0},{"$f":"Actions!C44","v":0},{"$f":"Actions!D44","v":0},{"$f":"Actions!E44","v":0},{"$f":"Actions!F44","v":"00:00:00"},{"$f":"Actions!G44","v":"00:00:00"},{"$f":"Actions!H44","v":0},{"$f":"Actions!I44","v":"00:00:00"},{"$f":"Actions!J44","v":"00:00:00"},{"$f":"Actions!K44","v":0},{"$f":"Actions!L44","v":0},{"$f":"Actions!M44","v":0},{"$f":"Actions!N44","v":0},{"$f":"Actions!O44","v":0},{"$f":"Actions!P44","v":0},{"$f":"Actions!Q44","v":0},{"$f":"Actions!R44","v":0},null,null,null,null,null,null,null,0,0,0,"","",0,0,0,0,0,0,"","",{"$f":"IFERROR(VLOOKUP(O44,refQualityLevel[],2,0)*AG44,\"\")","v":""},{"$f":"IFERROR(VLOOKUP(P44,refQualityLevel[],2,0)*IF(AH44<>0,AH44,AG44),\"\")","v":""},{"$f":"IFERROR(VLOOKUP($R44,tblRisks[],7),0)","v":0},{"$f":"IFERROR(VLOOKUP(Q44,tblIssues[],7),0)","v":0}]
[{"$f":"Actions!A45","v":0},{"$f":"Actions!B45","v":0},{"$f":"Actions!C45","v":0},{"$f":"Actions!D45","v":0},{"$f":"Actions!E45","v":0},{"$f":"Actions!F45","v":"00:00:00"},{"$f":"Actions!G45","v":"00:00:00"},{"$f":"Actions!H45","v":0},{"$f":"Actions!I45","v":"00:00:00"},{"$f":"Actions!J45","v":"00:00:00"},{"$f":"Actions!K45","v":0},{"$f":"Actions!L45","v":0},{"$f":"Actions!M45","v":0},{"$f":"Actions!N45","v":0},{"$f":"Actions!O45","v":0},{"$f":"Actions!P45","v":0},{"$f":"Actions!Q45","v":0},{"$f":"Actions!R45","v":0},null,null,null,null,null,null,null,0,0,0,"","",0,0,0,0,0,0,"","",{"$f":"IFERROR(VLOOKUP(O45,refQualityLevel[],2,0)*AG45,\"\")","v":""},{"$f":"IFERROR(VLOOKUP(P45,refQualityLevel[],2,0)*IF(AH45<>0,AH45,AG45),\"\")","v":""},{"$f":"IFERROR(VLOOKUP($R45,tblRisks[],7),0)","v":0},{"$f":"IFERROR(VLOOKUP(Q45,tblIssues[],7),0)","v":0}]
[{"$f":"Actions!A46","v":0},{"$f":"Actions!B46","v":0},{"$f":"Actions!C46","v":0},{"$f":"Actions!D46","v":0},{"$f":"Actions!E46","v":0},{"$f":"Actions!F46","v":"00:00:00"},{"$f":"Actions!G46","v":"00:00:00"},{"$f":"Actions!H46","v":0},{"$f":"Actions!I46","v":"00:00:00"},{"$f":"Actions!J46","v":"00:00:00"},{"$f":"Actions!K46","v":0},{"$f":"Actions!L46","v":0},{"$f":"Actions!M46","v":0},{"$f":"Actions!N46","v":0},{"$f":"Actions!O46","v":0},{"$f":"Actions!P46","v":0},{"$f":"Actions!Q46","v":0},{"$f":"Actions!R46","v":0},null,null,null,null,null,null,null,0,0,0,"","",0,0,0,0,0,0,"","",{"$f":"IFERROR(VLOOKUP(O46,refQualityLevel[],2,0)*AG46,\"\")","v":""},{"$f":"IFERROR(VLOOKUP(P46,refQualityLevel[],2,0)*IF(AH46<>0,AH46,AG46),\"\")","v":""},{"$f":"IFERROR(VLOOKUP($R46,tblRisks[],7),0)","v":0},{"$f":"IFERROR(VLOOKUP(Q46,tblIssues[],7),0)","v":0}]
[{"$f":"Actions!A47","v":0},{"$f":"Actions!B47","v":0},{"$f":"Actions!C47","v":0},{"$f":"Actions!D47","v":0},{"$f":"Actions!E47","v":0},{"$f":"Actions!F47","v":"00:00:00"},{"$f":"Actions!G47","v":"00:00:00"},{"$f":"Actions!H47","v":0},{"$f":"Actions!I47","v":"00:00:00"},{"$f":"Actions!J47","v":"00:00:00"},{"$f":"Actions!K47","v":0},{"$f":"Actions!L47","v":0},{"$f":"Actions!M47","v":0},{"$f":"Actions!N47","v":0},{"$f":"Actions!O47","v":0},{"$f":"Actions!P47","v":0},{"$f":"Actions!Q47","v":0},{"$f":"Actions!R47","v":0},null,null,null,null,null,null,null,0,0,0,"","",0,0,0,0,0,0,"","",{"$f":"IFERROR(VLOOKUP(O47,refQualityLevel[],2,0)*AG47,\"\")","v":""},{"$f":"IFERROR(VLOOKUP(P47,refQualityLevel[],2,0)*IF(AH47<>0,AH47,AG47),\"\")","v":""},{"$f":"IFERROR(VLOOKUP($R47,tblRisks[],7),0)","v":0},{"$f":"IFERROR(VLOOKUP(Q47,tblIssues[],7),0)","v":0}]
[{"$f":"Actions!A48","v":0},{"$f":"Actions!B48","v":0},{"$f":"Actions!C48","v":0},{"$f":"Actions!D48","v":0},{"$f":"Actions!E48","v":0},{"$f":"Actions!F48","v":"00:00:00"},{"$f":"Actions!G48","v":"00:00:00"},{"$f":"Actions!H48","v":0},{"$f":"Actions!I48","v":"00:00:00"},{"$f":"Actions!J48","v":"00:00:00"},{"$f":"Actions!K48","v":0},{"$f":"Actions!L48","v":0},{"$f":"Actions!M48","v":0},{"$f":"Actions!N48","v":0},{"$f":"Actions!O48","v":0},{"$f":"Actions!P48","v":0},{"$f":"Actions!Q48","v":0},{"$f":"Actions!R48","v":0},null,null,null,null,null,null,null,0,0,0,"","",0,0,0,0,0,0,"","",{"$f":"IFERROR(VLOOKUP(O48,refQualityLevel[],2,0)*AG48,\"\")","v":""},{"$f":"IFERROR(VLOOKUP(P48,refQualityLevel[],2,0)*IF(AH48<>0,AH48,AG48),\"\")","v":""},{"$f":"IFERROR(VLOOKUP($R48,tblRisks[],7),0)","v":0},{"$f":"IFERROR(VLOOKUP(Q48,tblIssues[],7),0)","v":0}]
[{"$f":"Actions!A49","v":0},{"$f":"Actions!B49","v":0},{"$f":"Actions!C49","v":0},{"$f":"Actions!D49","v":0},{"$f":"Actions!E49","v":0},{"$f":"Actions!F49","v":"00:00:00"},{"$f":"Actions!G49","v":"00:00:00"},{"$f":"Actions!H49","v":0},{"$f":"Actions!I49","v":"00:00:00"},{"$f":"Actions!J49","v":"00:00:00"},{"$f":"Actions!K49","v":0},{"$f":"Actions!L49","v":0},{"$f":"Actions!M49","v":0},{"$f":"Actions!N49","v":0},{"$f":"Actions!O49","v":0},{"$f":"Actions!P49","v":0},{"$f":"Actions!Q49","v":0},{"$f":"Actions!R49","v":0},null,null,null,null,null,null,null,0,0,0,"","",0,0,0,0,0,0,"","",{"$f":"IFERROR(VLOOKUP(O49,refQualityLevel[],2,0)*AG49,\"\")","v":""},{"$f":"IFERROR(VLOOKUP(P49,refQualityLevel[],2,0)*IF(AH49<>0,AH49,AG49),\"\")","v":""},{"$f":"IFERROR(VLOOKUP($R49,tblRisks[],7),0)","v":0},{"$f":"IFERROR(VLOOKUP(Q49,tblIssues[],7),0)","v":0}]
[{"$f":"Actions!A50","v":0},{"$f":"Actions!B50","v":0},{"$f":"Actions!C50","v":0},{"$f":"Actions!D50","v":0},{"$f":"Actions!E50","v":0},{"$f":"Actions!F50","v":"00:00:00"},{"$f":"Actions!G50","v":"00:00:00"},{"$f":"Actions!H50","v":0},{"$f":"Actions!I50","v":"00:00:00"},{"$f":"Actions!J50","v":"00:00:00"},{"$f":"Actions!K50","v":0},{"$f":"Actions!L50","v":0},{"$f":"Actions!M50","v":0},{"$f":"Actions!N50","v":0},{"$f":"Actions!O50","v":0},{"$f":"Actions!P50","v":0},{"$f":"Actions!Q50","v":0},{"$f":"Actions!R50","v":0},null,null,null,null,null,null,null,0,0,0,"","",0,0,0,0,0,0,"","",{"$f":"IFERROR(VLOOKUP(O50,refQualityLevel[],2,0)*AG50,\"\")","v":""},{"$f":"IFERROR(VLOOKUP(P50,refQualityLevel[],2,0)*IF(AH50<>0,AH50,AG50),\"\")","v":""},{"$f":"IFERROR(VLOOKUP($R50,tblRisks[],7),0)","v":0},{"$f":"IFERROR(VLOOKUP(Q50,tblIssues[],7),0)","v":0}]
[{"$f":"Actions!A51","v":0},{"$f":"Actions!B51","v":0},{"$f":"Actions!C51","v":0},{"$f":"Actions!D51","v":0},{"$f":"Actions!E51","v":0},{"$f":"Actions!F51","v":"00:00:00"},{"$f":"Actions!G51","v":"00:00:00"},{"$f":"Actions!H51","v":0},{"$f":"Actions!I51","v":"00:00:00"},{"$f":"Actions!J51","v":"00:00:00"},{"$f":"Actions!K51","v":0},{"$f":"Actions!L51","v":0},{"$f":"Actions!M51","v":0},{"$f":"Actions!N51","v":0},{"$f":"Actions!O51","v":0},{"$f":"Actions!P51","v":0},{"$f":"Actions!Q51","v":0},{"$f":"Actions!R51","v":0},null,null,null,null,null,null,null,0,0,0,"","",0,0,0,0,0,0,"","",{"$f":"IFERROR(VLOOKUP(O51,refQualityLevel[],2,0)*AG51,\"\")","v":""},{"$f":"IFERROR(VLOOKUP(P51,refQualityLevel[],2,0)*IF(AH51<>0,AH51,AG51),\"\")","v":""},{"$f":"IFERROR(VLOOKUP($R51,tblRisks[],7),0)","v":0},{"$f":"IFERROR(VLOOKUP(Q51,tblIssues[],7),0)","v":0}]
[{"$f":"Actions!A52","v":0},{"$f":"Actions!B52","v":0},{"$f":"Actions!C52","v":0},{"$f":"Actions!D52","v":0},{"$f":"Actions!E52","v":0},{"$f":"Actions!F52","v":"00:00:00"},{"$f":"Actions!G52","v":"00:00:00"},{"$f":"Actions!H52","v":0},{"$f":"Actions!I52","v":"00:00:00"},{"$f":"Actions!J52","v":"00:00:00"},{"$f":"Actions!K52","v":0},{"$f":"Actions!L52","v":0},{"$f":"Actions!M52","v":0},{"$f":"Actions!N52","v":0},{"$f":"Actions!O52","v":0},{"$f":"Actions!P52","v":0},{"$f":"Actions!Q52","v":0},{"$f":"Actions!R52","v":0},null,null,null,null,null,null,null,0,0,0,"","",0,0,0,0,0,0,"","",{"$f":"IFERROR(VLOOKUP(O52,refQualityLevel[],2,0)*AG52,\"\")","v":""},{"$f":"IFERROR(VLOOKUP(P52,refQualityLevel[],2,0)*IF(AH52<>0,AH52,AG52),\"\")","v":""},{"$f":"IFERROR(VLOOKUP($R52,tblRisks[],7),0)","v":0},{"$f":"IFERROR(VLOOKUP(Q52,tblIssues[],7),0)","v":0}]
[{"$f":"Actions!A53","v":0},{"$f":"Actions!B53","v":0},{"$f":"Actions!C53","v":0},{"$f":"Actions!D53","v":0},{"$f":"Actions!E53","v":0},{"$f":"Actions!F53","v":"00:00:00"},{"$f":"Actions!G53","v":"00:00:00"},{"$f":"Actions!H53","v":0},{"$f":"Actions!I53","v":"00:00:00"},{"$f":"Actions!J53","v":"00:00:00"},{"$f":"Actions!K53","v":0},{"$f":"Actions!L53","v":0},{"$f":"Actions!M53","v":0},{"$f":"Actions!N53","v":0},{"$f":"Actions!O53","v":0},{"$f":"Actions!P53","v":0},{"$f":"Actions!Q53","v":0},{"$f":"Actions!R53","v":0},null,null,null,null,null,null,null,0,0,0,"","",0,0,0,0,0,0,"","",{"$f":"IFERROR(VLOOKUP(O53,refQualityLevel[],2,0)*AG53,\"\")","v":""},{"$f":"IFERROR(VLOOKUP(P53,refQualityLevel[],2,0)*IF(AH53<>0,AH53,AG53),\"\")","v":""},{"$f":"IFERROR(VLOOKUP($R53,tblRisks[],7),0)","v":0},{"$f":"IFERROR(VLOOKUP(Q53,tblIssues[],7),0)","v":0}]
[{"$f":"Actions!A54","v":0},{"$f":"Actions!B54","v":0},{"$f":"Actions!C54","v":0},{"$f":"Actions!D54","v":0},{"$f":"Actions!E54","v":0},{"$f":"Actions!F54","v":"00:00:00"},{"$f":"Actions!G54","v":"00:00:00"},{"$f":"Actions!H54","v":0},{"$f":"Actions!I54","v":"00:00:00"},{"$f":"Actions!J54","v":"00:00:00"},{"$f":"Actions!K54","v":0},{"$f":"Actions!L54","v":0},{"$f":"Actions!M54","v":0},{"$f":"Actions!N54","v":0},{"$f":"Actions!O54","v":0},{"$f":"Actions!P54","v":0},{"$f":"Actions!Q54","v":0},{"$f":"Actions!R54","v":0},null,null,null,null,null,null,null,0,0,0,"","",0,0,0,0,0,0,"","",{"$f":"IFERROR(VLOOKUP(O54,refQualityLevel[],2,0)*AG54,\"\")","v":""},{"$f":"IFERROR(VLOOKUP(P54,refQualityLevel[],2,0)*IF(AH54<>0,AH54,AG54),\"\")","v":""},{"$f":"IFERROR(VLOOKUP($R54,tblRisks[],7),0)","v":0},{"$f":"IFERROR(VLOOKUP(Q54,tblIssues[],7),0)","v":0}]
[{"$f":"Actions!A55","v":0},{"$f":"Actions!B55","v":0},{"$f":"Actions!C55","v":0},{"$f":"Actions!D55","v":0},{"$f":"Actions!E55","v":0},{"$f":"Actions!F55","v":"00:00:00"},{"$f":"Actions!G55","v":"00:00:00"},{"$f":"Actions!H55","v":0},{"$f":"Actions!I55","v":"00:00:00"},{"$f":"Actions!J55","v":"00:00:00"},{"$f":"Actions!K55","v":0},{"$f":"Actions!L55","v":0},{"$f":"Actions!M55","v":0},{"$f":"Actions!N55","v":0},{"$f":"Actions!O55","v":0},{"$f":"Actions!P55","v":0},{"$f":"Actions!Q55","v":0},{"$f":"Actions!R55","v":0},null,null,null,null,null,null,null,0,0,0,"","",0,0,0,0,0,0,"","",{"$f":"IFERROR(VLOOKUP(O55,refQualityLevel[],2,0)*AG55,\"\")","v":""},{"$f":"IFERROR(VLOOKUP(P55,refQualityLevel[],2,0)*IF(AH55<>0,AH55,AG55),\"\")","v":""},{"$f":"IFERROR(VLOOKUP($R55,tblRisks[],7),0)","v":0},{"$f":"IFERROR(VLOOKUP(Q55,tblIssues[],7),0)","v":0}]
[{"$f":"Actions!A56","v":0},{"$f":"Actions!B56","v":0},{"$f":"Actions!C56","v":0},{"$f":"Actions!D56","v":0},{"$f":"Actions!E56","v":0},{"$f":"Actions!F56","v":"00:00:00"},{"$f":"Actions!G56","v":"00:00:00"},{"$f":"Actions!H56","v":0},{"$f":"Actions!I56","v":"00:00:00"},{"$f":"Actions!J56","v":"00:00:00"},{"$f":"Actions!K56","v":0},{"$f":"Actions!L56","v":0},{"$f":"Actions!M56","v":0},{"$f":"Actions!N56","v":0},{"$f":"Actions!O56","v":0},{"$f":"Actions!P56","v":0},{"$f":"Actions!Q56","v":0},{"$f":"Actions!R56","v":0},null,null,null,null,null,null,null,0,0,0,"","",0,0,0,0,0,0,"","",{"$f":"IFERROR(VLOOKUP(O56,refQualityLevel[],2,0)*AG56,\"\")","v":""},{"$f":"IFERROR(VLOOKUP(P56,refQualityLevel[],2,0)*IF(AH56<>0,AH56,AG56),\"\")","v":""},{"$f":"IFERROR(VLOOKUP($R56,tblRisks[],7),0)","v":0},{"$f":"IFERROR(VLOOKUP(Q56,tblIssues[],7),0)","v":0}]
[{"$f":"Actions!A57","v":0},{"$f":"Actions!B57","v":0},{"$f":"Actions!C57","v":0},{"$f":"Actions!D57","v":0},{"$f":"Actions!E57","v":0},{"$f":"Actions!F57","v":"00:00:00"},{"$f":"Actions!G57","v":"00:00:00"},{"$f":"Actions!H57","v":0},{"$f":"Actions!I57","v":"00:00:00"},{"$f":"Actions!J57","v":"00:00:00"},{"$f":"Actions!K57","v":0},{"$f":"Actions!L57","v":0},{"$f":"Actions!M57","v":0},{"$f":"Actions!N57","v":0},{"$f":"Actions!O57","v":0},{"$f":"Actions!P57","v":0},{"$f":"Actions!Q57","v":0},{"$f":"Actions!R57","v":0},null,null,null,null,null,null,null,0,0,0,"","",0,0,0,0,0,0,"","",{"$f":"IFERROR(VLOOKUP(O57,refQualityLevel[],2,0)*AG57,\"\")","v":""},{"$f":"IFERROR(VLOOKUP(P57,refQualityLevel[],2,0)*IF(AH57<>0,AH57,AG57),\"\")","v":""},{"$f":"IFERROR(VLOOKUP($R57,tblRisks[],7),0)","v":0},{"$f":"IFERROR(VLOOKUP(Q57,tblIssues[],7),0)","v":0}]
[{"$f":"Actions!A58","v":0},{"$f":"Actions!B58","v":0},{"$f":"Actions!C58","v":0},{"$f":"Actions!D58","v":0},{"$f":"Actions!E58","v":0},{"$f":"Actions!F58","v":"00:00:00"},{"$f":"Actions!G58","v":"00:00:00"},{"$f":"Actions!H58","v":0},{"$f":"Actions!I58","v":"00:00:00"},{"$f":"Actions!J58","v":"00:00:00"},{"$f":"Actions!K58","v":0},{"$f":"Actions!L58","v":0},{"$f":"Actions!M58","v":0},{"$f":"Actions!N58","v":0},{"$f":"Actions!O58","v":0},{"$f":"Actions!P58","v":0},{"$f":"Actions!Q58","v":0},{"$f":"Actions!R58","v":0},null,null,null,null,null,null,null,0,0,0,"","",0,0,0,0,0,0,"","",{"$f":"IFERROR(VLOOKUP(O58,refQualityLevel[],2,0)*AG58,\"\")","v":""},{"$f":"IFERROR(VLOOKUP(P58,refQualityLevel[],2,0)*IF(AH58<>0,AH58,AG58),\"\")","v":""},{"$f":"IFERROR(VLOOKUP($R58,tblRisks[],7),0)","v":0},{"$f":"IFERROR(VLOOKUP(Q58,tblIssues[],7),0)","v":0}]
[{"$f":"Actions!A59","v":0},{"$f":"Actions!B59","v":0},{"$f":"Actions!C59","v":0},{"$f":"Actions!D59","v":0},{"$f":"Actions!E59","v":0},{"$f":"Actions!F59","v":"00:00:00"},{"$f":"Actions!G59","v":"00:00:00"},{"$f":"Actions!H59","v":0},{"$f":"Actions!I59","v":"00:00:00"},{"$f":"Actions!J59","v":"00:00:00"},{"$f":"Actions!K59","v":0},{"$f":"Actions!L59","v":0},{"$f":"Actions!M59","v":0},{"$f":"Actions!N59","v":0},{"$f":"Actions!O59","v":0},{"$f":"Actions!P59","v":0},{"$f":"Actions!Q59","v":0},{"$f":"Actions!R59","v":0},null,null,null,null,null,null,null,0,0,0,"","",0,0,0,0,0,0,"","",{"$f":"IFERROR(VLOOKUP(O59,refQualityLevel[],2,0)*AG59,\"\")","v":""},{"$f":"IFERROR(VLOOKUP(P59,refQualityLevel[],2,0)*IF(AH59<>0,AH59,AG59),\"\")","v":""},{"$f":"IFERROR(VLOOKUP($R59,tblRisks[],7),0)","v":0},{"$f":"IFERROR(VLOOKUP(Q59,tblIssues[],7),0)","v":0}]
[{"$f":"Actions!A60","v":0},{"$f":"Actions!B60","v":0},{"$f":"Actions!C60","v":0},{"$f":"Actions!D60","v":0},{"$f":"Actions!E60","v":0},{"$f":"Actions!F60","v":"00:00:00"},{"$f":"Actions!G60","v":"00:00:00"},{"$f":"Actions!H60","v":0},{"$f":"Actions!I60","v":"00:00:00"},{"$f":"Actions!J60","v":"00:00:00"},{"$f":"Actions!K60","v":0},{"$f":"Actions!L60","v":0},{"$f":"Actions!M60","v":0},{"$f":"Actions!N60","v":0},{"$f":"Actions!O60","v":0},{"$f":"Actions!P60","v":0},{"$f":"Actions!Q60","v":0},{"$f":"Actions!R60","v":0},null,null,null,null,null,null,null,0,0,0,"","",0,0,0,0,0,0,"","",{"$f":"IFERROR(VLOOKUP(O60,refQualityLevel[],2,0)*AG60,\"\")","v":""},{"$f":"IFERROR(VLOOKUP(P60,refQualityLevel[],2,0)*IF(AH60<>0,AH60,AG60),\"\")","v":""},{"$f":"IFERROR(VLOOKUP($R60,tblRisks[],7),0)","v":0},{"$f":"IFERROR(VLOOKUP(Q60,tblIssues[],7),0)","v":0}]
[{"$f":"Actions!A61","v":0},{"$f":"Actions!B61","v":0},{"$f":"Actions!C61","v":0},{"$f":"Actions!D61","v":0},{"$f":"Actions!E61","v":0},{"$f":"Actions!F61","v":"00:00:00"},{"$f":"Actions!G61","v":"00:00:00"},{"$f":"Actions!H61","v":0},{"$f":"Actions!I61","v":"00:00:00"},{"$f":"Actions!J61","v":"00:00:00"},{"$f":"Actions!K61","v":0},{"$f":"Actions!L61","v":0},{"$f":"Actions!M61","v":0},{"$f":"Actions!N61","v":0},{"$f":"Actions!O61","v":0},{"$f":"Actions!P61","v":0},{"$f":"Actions!Q61","v":0},{"$f":"Actions!R61","v":0},null,null,null,null,null,null,null,0,0,0,"","",0,0,0,0,0,0,"","",{"$f":"IFERROR(VLOOKUP(O61,refQualityLevel[],2,0)*AG61,\"\")","v":""},{"$f":"IFERROR(VLOOKUP(P61,refQualityLevel[],2,0)*IF(AH61<>0,AH61,AG61),\"\")","v":""},{"$f":"IFERROR(VLOOKUP($R61,tblRisks[],7),0)","v":0},{"$f":"IFERROR(VLOOKUP(Q61,tblIssues[],7),0)","v":0}]
[{"$f":"Actions!A62","v":0},{"$f":"Actions!B62","v":0},{"$f":"Actions!C62","v":0},{"$f":"Actions!D62","v":0},{"$f":"Actions!E62","v":0},{"$f":"Actions!F62","v":"00:00:00"},{"$f":"Actions!G62","v":"00:00:00"},{"$f":"Actions!H62","v":0},{"$f":"Actions!I62","v":"00:00:00"},{"$f":"Actions!J62","v":"00:00:00"},{"$f":"Actions!K62","v":0},{"$f":"Actions!L62","v":0},{"$f":"Actions!M62","v":0},{"$f":"Actions!N62","v":0},{"$f":"Actions!O62","v":0},{"$f":"Actions!P62","v":0},{"$f":"Actions!Q62","v":0},{"$f":"Actions!R62","v":0},null,null,null,null,null,null,null,0,0,0,"","",0,0,0,0,0,0,"","",{"$f":"IFERROR(VLOOKUP(O62,refQualityLevel[],2,0)*AG62,\"\")","v":""},{"$f":"IFERROR(VLOOKUP(P62,refQualityLevel[],2,0)*IF(AH62<>0,AH62,AG62),\"\")","v":""},{"$f":"IFERROR(VLOOKUP($R62,tblRisks[],7),0)","v":0},{"$f":"IFERROR(VLOOKUP(Q62,tblIssues[],7),0)","v":0}]
[{"$f":"Actions!A63","v":0},{"$f":"Actions!B63","v":0},{"$f":"Actions!C63","v":0},{"$f":"Actions!D63","v":0},{"$f":"Actions!E63","v":0},{"$f":"Actions!F63","v":"00:00:00"},{"$f":"Actions!G63","v":"00:00:00"},{"$f":"Actions!H63","v":0},{"$f":"Actions!I63","v":"00:00:00"},{"$f":"Actions!J63","v":"00:00:00"},{"$f":"Actions!K63","v":0},{"$f":"Actions!L63","v":0},{"$f":"Actions!M63","v":0},{"$f":"Actions!N63","v":0},{"$f":"Actions!O63","v":0},{"$f":"Actions!P63","v":0},{"$f":"Actions!Q63","v":0},{"$f":"Actions!R63","v":0},null,null,null,null,null,null,null,0,0,0,"","",0,0,0,0,0,0,"","",{"$f":"IFERROR(VLOOKUP(O63,refQualityLevel[],2,0)*AG63,\"\")","v":""},{"$f":"IFERROR(VLOOKUP(P63,refQualityLevel[],2,0)*IF(AH63<>0,AH63,AG63),\"\")","v":""},{"$f":"IFERROR(VLOOKUP($R63,tblRisks[],7),0)","v":0},{"$f":"IFERROR(VLOOKUP(Q63,tblIssues[],7),0)","v":0}]
[{"$f":"Actions!A64","v":0},{"$f":"Actions!B64","v":0},{"$f":"Actions!C64","v":0},{"$f":"Actions!D64","v":0},{"$f":"Actions!E64","v":0},{"$f":"Actions!F64","v":"00:00:00"},{"$f":"Actions!G64","v":"00:00:00"},{"$f":"Actions!H64","v":0},{"$f":"Actions!I64","v":"00:00:00"},{"$f":"Actions!J64","v":"00:00:00"},{"$f":"Actions!K64","v":0},{"$f":"Actions!L64","v":0},{"$f":"Actions!M64","v":0},{"$f":"Actions!N64","v":0},{"$f":"Actions!O64","v":0},{"$f":"Actions!P64","v":0},{"$f":"Actions!Q64","v":0},{"$f":"Actions!R64","v":0},null,null,null,null,null,null,null,0,0,0,"","",0,0,0,0,0,0,"","",{"$f":"IFERROR(VLOOKUP(O64,refQualityLevel[],2,0)*AG64,\"\")","v":""},{"$f":"IFERROR(VLOOKUP(P64,refQualityLevel[],2,0)*IF(AH64<>0,AH64,AG64),\"\")","v":""},{"$f":"IFERROR(VLOOKUP($R64,tblRisks[],7),0)","v":0},{"$f":"IFERROR(VLOOKUP(Q64,tblIssues[],7),0)","v":0}]
[{"$f":"Actions!A65","v":0},{"$f":"Actions!B65","v":0},{"$f":"Actions!C65","v":0},{"$f":"Actions!D65","v":0},{"$f":"Actions!E65","v":0},{"$f":"Actions!F65","v":"00:00:00"},{"$f":"Actions!G65","v":"00:00:00"},{"$f":"Actions!H65","v":0},{"$f":"Actions!I65","v":"00:00:00"},{"$f":"Actions!J65","v":"00:00:00"},{"$f":"Actions!K65","v":0},{"$f":"Actions!L65","v":0},{"$f":"Actions!M65","v":0},{"$f":"Actions!N65","v":0},{"$f":"Actions!O65","v":0},{"$f":"Actions!P65","v":0},{"$f":"Actions!Q65","v":0},{"$f":"Actions!R65","v":0},null,null,null,null,null,null,null,0,0,0,"","",0,0,0,0,0,0,"","",{"$f":"IFERROR(VLOOKUP(O65,refQualityLevel[],2,0)*AG65,\"\")","v":""},{"$f":"IFERROR(VLOOKUP(P65,refQualityLevel[],2,0)*IF(AH65<>0,AH65,AG65),\"\")","v":""},{"$f":"IFERROR(VLOOKUP($R65,tblRisks[],7),0)","v":0},{"$f":"IFERROR(VLOOKUP(Q65,tblIssues[],7),0)","v":0}]
[{"$f":"Actions!A66","v":0},{"$f":"Actions!B66","v":0},{"$f":"Actions!C66","v":0},{"$f":"Actions!D66","v":0},{"$f":"Actions!E66","v":0},{"$f":"Actions!F66","v":"00:00:00"},{"$f":"Actions!G66","v":"00:00:00"},{"$f":"Actions!H66","v":0},{"$f":"Actions!I66","v":"00:00:00"},{"$f":"Actions!J66","v":"00:00:00"},{"$f":"Actions!K66","v":0},{"$f":"Actions!L66","v":0},{"$f":"Actions!M66","v":0},{"$f":"Actions!N66","v":0},{"$f":"Actions!O66","v":0},{"$f":"Actions!P66","v":0},{"$f":"Actions!Q66","v":0},{"$f":"Actions!R66","v":0},null,null,null,null,null,null,null,0,0,0,"","",0,0,{"$f":"IF($Z66=1,IF($AD66,IF(AND($F66<=gToday,$G66>=gToday),gToday-$F66+1,IF($F66>gToday,0,$H66))-$E66,0),0)","v":0},{"$f":"IF($Z66=1,IF($AD66,IF(AND($I66<=gToday,$J66>=gToday),gToday-$I66+1,IF($I66>gToday,0,$K66))-$E66,0),0)","v":0},{"$f":"IF($Z66=1,IF($AD66,IF(AND($F66<=gToday,$G66>=gToday),IF(gToday-$F66>$H66*$L66,gToday-$F66-$H66*$L66,0),IF($G66>gToday,0,$H66*(1-$L66)))-$E66,0),0)","v":0},{"$f":"IF($Z66=1,IF($AD66,IF(AND($I66<=gToday,$J66>=gToday),IF(gToday-$I66>$K66*$L66,gToday-$I66-$K66*$L66,0),IF($J66>gToday,0,$K66*(1-$L66)))-$E66,0),0)","v":0},{"$f":"IF($Z66=1,IF(AND($F66>=gToday,$G66<=gToday),$M66,IF($F66>gToday,0,$M66)),\"\")","v":""},{"$f":"IF($Z66=1,IF(AND($I66>=gToday,$J66<=gToday),$N66,IF($I66>gToday,0,$N66)),\"\")","v":""},{"$f":"IFERROR(VLOOKUP(O66,refQualityLevel[],2,0)*AG66,\"\")","v":""},{"$f":"IFERROR(VLOOKUP(P66,refQualityLevel[],2,0)*IF(AH66<>0,AH66,AG66),\"\")","v":""},{"$f":"IFERROR(VLOOKUP($R66,tblRisks[],7),0)","v":0},{"$f":"IFERROR(VLOOKUP(Q66,tblIssues[],7),0)","v":0}]
[{"$f":"Actions!A67","v":0},{"$f":"Actions!B67","v":0},{"$f":"Actions!C67","v":0},{"$f":"Actions!D67","v":0},{"$f":"Actions!E67","v":0},{"$f":"Actions!F67","v":"00:00:00"},{"$f":"Actions!G67","v":"00:00:00"},{"$f":"Actions!H67","v":0},{"$f":"Actions!I67","v":"00:00:00"},{"$f":"Actions!J67","v":"00:00:00"},{"$f":"Actions!K67","v":0},{"$f":"Actions!L67","v":0},{"$f":"Actions!M67","v":0},{"$f":"Actions!N67","v":0},{"$f":"Actions!O67","v":0},{"$f":"Actions!P67","v":0},{"$f":"Actions!Q67","v":0},{"$f":"Actions!R67","v":0},null,null,null,null,null,null,null,{"$f":"IF($A67>0,1,0)","v":0},{"$f":"IF(F67>0,1,0)","v":0},{"$f":"IF(I67>0,1,0)","v":0},{"$f":"IF(C67=1,ROW(),\"\")","v":""},{"$f":"IF($Z67=1,IF($C67=2,TRUE,IF($C68<>2,TRUE,FALSE)),\"\")","v":""},{"$f":"IF($Z67=1,IF($AD67,$H67,0),0)","v":0},{"$f":"IF($Z67=1,IF($AD67,$K67,0),0)","v":0},0,0,0,0,"","",{"$f":"IFERROR(VLOOKUP(O67,refQualityLevel[],2,0)*AG67,\"\")","v":""},{"$f":"IFERROR(VLOOKUP(P67,refQualityLevel[],2,0)*IF(AH67<>0,AH67,AG67),\"\")","v":""},{"$f":"IFERROR(VLOOKUP($R67,tblRisks[],7),0)","v":0},{"$f":"IFERROR(VLOOKUP(Q67,tblIssues[],7),0)","v":0}]
[{"$f":"Actions!A68","v":0},{"$f":"Actions!B68","v":0},{"$f":"Actions!C68","v":0},{"$f":"Actions!D68","v":0},{"$f":"Actions!E68","v":0},{"$f":"Actions!F68","v":"00:00:00"},{"$f":"Actions!G68","v":"00:00:00"},{"$f":"Actions!H68","v":0},{"$f":"Actions!I68","v":"00:00:00"},{"$f":"Actions!J68","v":"00:00:00"},{"$f":"Actions!K68","v":0},{"$f":"Actions!L68","v":0},{"$f":"Actions!M68","v":0},{"$f":"Actions!N68","v":0},{"$f":"Actions!O68","v":0},{"$f":"Actions!P68","v":0},{"$f":"Actions!Q68","v":0},{"$f":"Actions!R68","v":0},null,null,null,null,null,null,null,0,0,0,"","",0,0,0,0,0,0,"","",{"$f":"IFERROR(VLOOKUP(O68,refQualityLevel[],2,0)*AG68,\"\")","v":""},{"$f":"IFERROR(VLOOKUP(P68,refQualityLevel[],2,0)*IF(AH68<>0,AH68,AG68),\"\")","v":""},{"$f":"IFERROR(VLOOKUP($R68,tblRisks[],7),0)","v":0},{"$f":"IFERROR(VLOOKUP(Q68,tblIssues[],7),0)","v":0}]
[{"$f":"Actions!A69","v":0},{"$f":"Actions!B69","v":0},{"$f":"Actions!C69","v":0},{"$f":"Actions!D69","v":0},{"$f":"Actions!E69","v":0},{"$f":"Actions!F69","v":"00:00:00"},{"$f":"Actions!G69","v":"00:00:00"},{"$f":"Actions!H69","v":0},{"$f":"Actions!I69","v":"00:00:00"},{"$f":"Actions!J69","v":"00:00:00"},{"$f":"Actions!K69","v":0},{"$f":"Actions!L69","v":0},{"$f":"Actions!M69","v":0},{"$f":"Actions!N69","v":0},{"$f":"Actions!O69","v":0},{"$f":"Actions!P69","v":0},{"$f":"Actions!Q69","v":0},{"$f":"Actions!R69","v":0},null,null,null,null,null,null,null,0,0,0,"","",0,0,0,0,0,0,"","",{"$f":"IFERROR(VLOOKUP(O69,refQualityLevel[],2,0)*AG69,\"\")","v":""},{"$f":"IFERROR(VLOOKUP(P69,refQualityLevel[],2,0)*IF(AH69<>0,AH69,AG69),\"\")","v":""},{"$f":"IFERROR(VLOOKUP($R69,tblRisks[],7),0)","v":0},{"$f":"IFERROR(VLOOKUP(Q69,tblIssues[],7),0)","v":0}]
[{"$f":"Actions!A70","v":0},{"$f":"Actions!B70","v":0},{"$f":"Actions!C70","v":0},{"$f":"Actions!D70","v":0},{"$f":"Actions!E70","v":0},{"$f":"Actions!F70","v":"00:00:00"},{"$f":"Actions!G70","v":"00:00:00"},{"$f":"Actions!H70","v":0},{"$f":"Actions!I70","v":"00:00:00"},{"$f":"Actions!J70","v":"00:00:00"},{"$f":"Actions!K70","v":0},{"$f":"Actions!L70","v":0},{"$f":"Actions!M70","v":0},{"$f":"Actions!N70","v":0},{"$f":"Actions!O70","v":0},{"$f":"Actions!P70","v":0},{"$f":"Actions!Q70","v":0},{"$f":"Actions!R70","v":0},null,null,null,null,null,null,null,0,0,0,"","",0,0,0,0,0,0,"","",{"$f":"IFERROR(VLOOKUP(O70,refQualityLevel[],2,0)*AG70,\"\")","v":""},{"$f":"IFERROR(VLOOKUP(P70,refQualityLevel[],2,0)*IF(AH70<>0,AH70,AG70),\"\")","v":""},{"$f":"IFERROR(VLOOKUP($R70,tblRisks[],7),0)","v":0},{"$f":"IFERROR(VLOOKUP(Q70,tblIssues[],7),0)","v":0}]
[{"$f":"Actions!A71","v":0},{"$f":"Actions!B71","v":0},{"$f":"Actions!C71","v":0},{"$f":"Actions!D71","v":0},{"$f":"Actions!E71","v":0},{"$f":"Actions!F71","v":"00:00:00"},{"$f":"Actions!G71","v":"00:00:00"},{"$f":"Actions!H71","v":0},{"$f":"Actions!I71","v":"00:00:00"},{"$f":"Actions!J71","v":"00:00:00"},{"$f":"Actions!K71","v":0},{"$f":"Actions!L71","v":0},{"$f":"Actions!M71","v":0},{"$f":"Actions!N71","v":0},{"$f":"Actions!O71","v":0},{"$f":"Actions!P71","v":0},{"$f":"Actions!Q71","v":0},{"$f":"Actions!R71","v":0},null,null,null,null,null,null,null,0,0,0,"","",0,0,0,0,0,0,"","",{"$f":"IFERROR(VLOOKUP(O71,refQualityLevel[],2,0)*AG71,\"\")","v":""},{"$f":"IFERROR(VLOOKUP(P71,refQualityLevel[],2,0)*IF(AH71<>0,AH71,AG71),\"\")","v":""},{"$f":"IFERROR(VLOOKUP($R71,tblRisks[],7),0)","v":0},{"$f":"IFERROR(VLOOKUP(Q71,tblIssues[],7),0)","v":0}]
[{"$f":"Actions!A72","v":0},{"$f":"Actions!B72","v":0},{"$f":"Actions!C72","v":0},{"$f":"Actions!D72","v":0},{"$f":"Actions!E72","v":0},{"$f":"Actions!F72","v":"00:00:00"},{"$f":"Actions!G72","v":"00:00:00"},{"$f":"Actions!H72","v":0},{"$f":"Actions!I72","v":"00:00:00"},{"$f":"Actions!J72","v":"00:00:00"},{"$f":"Actions!K72","v":0},{"$f":"Actions!L72","v":0},{"$f":"Actions!M72","v":0},{"$f":"Actions!N72","v":0},{"$f":"Actions!O72","v":0},{"$f":"Actions!P72","v":0},{"$f":"Actions!Q72","v":0},{"$f":"Actions!R72","v":0},null,null,null,null,null,null,null,0,0,0,"","",0,0,0,0,0,0,"","",{"$f":"IFERROR(VLOOKUP(O72,refQualityLevel[],2,0)*AG72,\"\")","v":""},{"$f":"IFERROR(VLOOKUP(P72,refQualityLevel[],2,0)*IF(AH72<>0,AH72,AG72),\"\")","v":""},{"$f":"IFERROR(VLOOKUP($R72,tblRisks[],7),0)","v":0},{"$f":"IFERROR(VLOOKUP(Q72,tblIssues[],7),0)","v":0}]
[{"$f":"Actions!A73","v":0},{"$f":"Actions!B73","v":0},{"$f":"Actions!C73","v":0},{"$f":"Actions!D73","v":0},{"$f":"Actions!E73","v":0},{"$f":"Actions!F73","v":"00:00:00"},{"$f":"Actions!G73","v":"00:00:00"},{"$f":"Actions!H73","v":0},{"$f":"Actions!I73","v":"00:00:00"},{"$f":"Actions!J73","v":"00:00:00"},{"$f":"Actions!K73","v":0},{"$f":"Actions!L73","v":0},{"$f":"Actions!M73","v":0},{"$f":"Actions!N73","v":0},{"$f":"Actions!O73","v":0},{"$f":"Actions!P73","v":0},{"$f":"Actions!Q73","v":0},{"$f":"Actions!R73","v":0},null,null,null,null,null,null,null,0,0,0,"","",0,0,0,0,0,0,"","",{"$f":"IFERROR(VLOOKUP(O73,refQualityLevel[],2,0)*AG73,\"\")","v":""},{"$f":"IFERROR(VLOOKUP(P73,refQualityLevel[],2,0)*IF(AH73<>0,AH73,AG73),\"\")","v":""},{"$f":"IFERROR(VLOOKUP($R73,tblRisks[],7),0)","v":0},{"$f":"IFERROR(VLOOKUP(Q73,tblIssues[],7),0)","v":0}]
[{"$f":"Actions!A74","v":0},{"$f":"Actions!B74","v":0},{"$f":"Actions!C74","v":0},{"$f":"Actions!D74","v":0},{"$f":"Actions!E74","v":0},{"$f":"Actions!F74","v":"00:00:00"},{"$f":"Actions!G74","v":"00:00:00"},{"$f":"Actions!H74","v":0},{"$f":"Actions!I74","v":"00:00:00"},{"$f":"Actions!J74","v":"00:00:00"},{"$f":"Actions!K74","v":0},{"$f":"Actions!L74","v":0},{"$f":"Actions!M74","v":0},{"$f":"Actions!N74","v":0},{"$f":"Actions!O74","v":0},{"$f":"Actions!P74","v":0},{"$f":"Actions!Q74","v":0},{"$f":"Actions!R74","v":0},null,null,null,null,null,null,null,0,0,0,"","",0,0,0,0,0,0,"","",{"$f":"IFERROR(VLOOKUP(O74,refQualityLevel[],2,0)*AG74,\"\")","v":""},{"$f":"IFERROR(VLOOKUP(P74,refQualityLevel[],2,0)*IF(AH74<>0,AH74,AG74),\"\")","v":""},{"$f":"IFERROR(VLOOKUP($R74,tblRisks[],7),0)","v":0},{"$f":"IFERROR(VLOOKUP(Q74,tblIssues[],7),0)","v":0}]
[{"$f":"Actions!A75","v":0},{"$f":"Actions!B75","v":0},{"$f":"Actions!C75","v":0},{"$f":"Actions!D75","v":0},{"$f":"Actions!E75","v":0},{"$f":"Actions!F75","v":"00:00:00"},{"$f":"Actions!G75","v":"00:00:00"},{"$f":"Actions!H75","v":0},{"$f":"Actions!I75","v":"00:00:00"},{"$f":"Actions!J75","v":"00:00:00"},{"$f":"Actions!K75","v":0},{"$f":"Actions!L75","v":0},{"$f":"Actions!M75","v":0},{"$f":"Actions!N75","v":0},{"$f":"Actions!O75","v":0},{"$f":"Actions!P75","v":0},{"$f":"Actions!Q75","v":0},{"$f":"Actions!R75","v":0},null,null,null,null,null,null,null,0,0,0,"","",0,0,0,0,0,0,"","",{"$f":"IFERROR(VLOOKUP(O75,refQualityLevel[],2,0)*AG75,\"\")","v":""},{"$f":"IFERROR(VLOOKUP(P75,refQualityLevel[],2,0)*IF(AH75<>0,AH75,AG75),\"\")","v":""},{"$f":"IFERROR(VLOOKUP($R75,tblRisks[],7),0)","v":0},{"$f":"IFERROR(VLOOKUP(Q75,tblIssues[],7),0)","v":0}]
[{"$f":"Actions!A76","v":0},{"$f":"Actions!B76","v":0},{"$f":"Actions!C76","v":0},{"$f":"Actions!D76","v":0},{"$f":"Actions!E76","v":0},{"$f":"Actions!F76","v":"00:00:00"},{"$f":"Actions!G76","v":"00:00:00"},{"$f":"Actions!H76","v":0},{"$f":"Actions!I76","v":"00:00:00"},{"$f":"Actions!J76","v":"00:00:00"},{"$f":"Actions!K76","v":0},{"$f":"Actions!L76","v":0},{"$f":"Actions!M76","v":0},{"$f":"Actions!N76","v":0},{"$f":"Actions!O76","v":0},{"$f":"Actions!P76","v":0},{"$f":"Actions!Q76","v":0},{"$f":"Actions!R76","v":0},null,null,null,null,null,null,null,0,0,0,"","",0,0,0,0,0,0,"","",{"$f":"IFERROR(VLOOKUP(O76,refQualityLevel[],2,0)*AG76,\"\")","v":""},{"$f":"IFERROR(VLOOKUP(P76,refQualityLevel[],2,0)*IF(AH76<>0,AH76,AG76),\"\")","v":""},{"$f":"IFERROR(VLOOKUP($R76,tblRisks[],7),0)","v":0},{"$f":"IFERROR(VLOOKUP(Q76,tblIssues[],7),0)","v":0}]
[{"$f":"Actions!A77","v":0},{"$f":"Actions!B77","v":0},{"$f":"Actions!C77","v":0},{"$f":"Actions!D77","v":0},{"$f":"Actions!E77","v":0},{"$f":"Actions!F77","v":"00:00:00"},{"$f":"Actions!G77","v":"00:00:00"},{"$f":"Actions!H77","v":0},{"$f":"Actions!I77","v":"00:00:00"},{"$f":"Actions!J77","v":"00:00:00"},{"$f":"Actions!K77","v":0},{"$f":"Actions!L77","v":0},{"$f":"Actions!M77","v":0},{"$f":"Actions!N77","v":0},{"$f":"Actions!O77","v":0},{"$f":"Actions!P77","v":0},{"$f":"Actions!Q77","v":0},{"$f":"Actions!R77","v":0},null,null,null,null,null,null,null,0,0,0,"","",0,0,0,0,0,0,"","",{"$f":"IFERROR(VLOOKUP(O77,refQualityLevel[],2,0)*AG77,\"\")","v":""},{"$f":"IFERROR(VLOOKUP(P77,refQualityLevel[],2,0)*IF(AH77<>0,AH77,AG77),\"\")","v":""},{"$f":"IFERROR(VLOOKUP($R77,tblRisks[],7),0)","v":0},{"$f":"IFERROR(VLOOKUP(Q77,tblIssues[],7),0)","v":0}]
[{"$f":"Actions!A78","v":0},{"$f":"Actions!B78","v":0},{"$f":"Actions!C78","v":0},{"$f":"Actions!D78","v":0},{"$f":"Actions!E78","v":0},{"$f":"Actions!F78","v":"00:00:00"},{"$f":"Actions!G78","v":"00:00:00"},{"$f":"Actions!H78","v":0},{"$f":"Actions!I78","v":"00:00:00"},{"$f":"Actions!J78","v":"00:00:00"},{"$f":"Actions!K78","v":0},{"$f":"Actions!L78","v":0},{"$f":"Actions!M78","v":0},{"$f":"Actions!N78","v":0},{"$f":"Actions!O78","v":0},{"$f":"Actions!P78","v":0},{"$f":"Actions!Q78","v":0},{"$f":"Actions!R78","v":0},null,null,null,null,null,null,null,0,0,0,"","",0,0,0,0,0,0,"","",{"$f":"IFERROR(VLOOKUP(O78,refQualityLevel[],2,0)*AG78,\"\")","v":""},{"$f":"IFERROR(VLOOKUP(P78,refQualityLevel[],2,0)*IF(AH78<>0,AH78,AG78),\"\")","v":""},{"$f":"IFERROR(VLOOKUP($R78,tblRisks[],7),0)","v":0},{"$f":"IFERROR(VLOOKUP(Q78,tblIssues[],7),0)","v":0}]
[{"$f":"Actions!A79","v":0},{"$f":"Actions!B79","v":0},{"$f":"Actions!C79","v":0},{"$f":"Actions!D79","v":0},{"$f":"Actions!E79","v":0},{"$f":"Actions!F79","v":"00:00:00"},{"$f":"Actions!G79","v":"00:00:00"},{"$f":"Actions!H79","v":0},{"$f":"Actions!I79","v":"00:00:00"},{"$f":"Actions!J79","v":"00:00:00"},{"$f":"Actions!K79","v":0},{"$f":"Actions!L79","v":0},{"$f":"Actions!M79","v":0},{"$f":"Actions!N79","v":0},{"$f":"Actions!O79","v":0},{"$f":"Actions!P79","v":0},{"$f":"Actions!Q79","v":0},{"$f":"Actions!R79","v":0},null,null,null,null,null,null,null,0,0,0,"","",0,0,0,0,0,0,"","",{"$f":"IFERROR(VLOOKUP(O79,refQualityLevel[],2,0)*AG79,\"\")","v":""},{"$f":"IFERROR(VLOOKUP(P79,refQualityLevel[],2,0)*IF(AH79<>0,AH79,AG79),\"\")","v":""},{"$f":"IFERROR(VLOOKUP($R79,tblRisks[],7),0)","v":0},{"$f":"IFERROR(VLOOKUP(Q79,tblIssues[],7),0)","v":0}]
[{"$f":"Actions!A80","v":0},{"$f":"Actions!B80","v":0},{"$f":"Actions!C80","v":0},{"$f":"Actions!D80","v":0},{"$f":"Actions!E80","v":0},{"$f":"Actions!F80","v":"00:00:00"},{"$f":"Actions!G80","v":"00:00:00"},{"$f":"Actions!H80","v":0},{"$f":"Actions!I80","v":"00:00:00"},{"$f":"Actions!J80","v":"00:00:00"},{"$f":"Actions!K80","v":0},{"$f":"Actions!L80","v":0},{"$f":"Actions!M80","v":0},{"$f":"Actions!N80","v":0},{"$f":"Actions!O80","v":0},{"$f":"Actions!P80","v":0},{"$f":"Actions!Q80","v":0},{"$f":"Actions!R80","v":0},null,null,null,null,null,null,null,0,0,0,"","",0,0,0,0,0,0,"","",{"$f":"IFERROR(VLOOKUP(O80,refQualityLevel[],2,0)*AG80,\"\")","v":""},{"$f":"IFERROR(VLOOKUP(P80,refQualityLevel[],2,0)*IF(AH80<>0,AH80,AG80),\"\")","v":""},{"$f":"IFERROR(VLOOKUP($R80,tblRisks[],7),0)","v":0},{"$f":"IFERROR(VLOOKUP(Q80,tblIssues[],7),0)","v":0}]
[{"$f":"Actions!A81","v":0},{"$f":"Actions!B81","v":0},{"$f":"Actions!C81","v":0},{"$f":"Actions!D81","v":0},{"$f":"Actions!E81","v":0},{"$f":"Actions!F81","v":"00:00:00"},{"$f":"Actions!G81","v":"00:00:00"},{"$f":"Actions!H81","v":0},{"$f":"Actions!I81","v":"00:00:00"},{"$f":"Actions!J81","v":"00:00:00"},{"$f":"Actions!K81","v":0},{"$f":"Actions!L81","v":0},{"$f":"Actions!M81","v":0},{"$f":"Actions!N81","v":0},{"$f":"Actions!O81","v":0},{"$f":"Actions!P81","v":0},{"$f":"Actions!Q81","v":0},{"$f":"Actions!R81","v":0},null,null,null,null,null,null,null,0,0,0,"","",0,0,0,0,0,0,"","",{"$f":"IFERROR(VLOOKUP(O81,refQualityLevel[],2,0)*AG81,\"\")","v":""},{"$f":"IFERROR(VLOOKUP(P81,refQualityLevel[],2,0)*IF(AH81<>0,AH81,AG81),\"\")","v":""},{"$f":"IFERROR(VLOOKUP($R81,tblRisks[],7),0)","v":0},{"$f":"IFERROR(VLOOKUP(Q81,tblIssues[],7),0)","v":0}]
[{"$f":"Actions!A82","v":0},{"$f":"Actions!B82","v":0},{"$f":"Actions!C82","v":0},{"$f":"Actions!D82","v":0},{"$f":"Actions!E82","v":0},{"$f":"Actions!F82","v":"00:00:00"},{"$f":"Actions!G82","v":"00:00:00"},{"$f":"Actions!H82","v":0},{"$f":"Actions!I82","v":"00:00:00"},{"$f":"Actions!J82","v":"00:00:00"},{"$f":"Actions!K82","v":0},{"$f":"Actions!L82","v":0},{"$f":"Actions!M82","v":0},{"$f":"Actions!N82","v":0},{"$f":"Actions!O82","v":0},{"$f":"Actions!P82","v":0},{"$f":"Actions!Q82","v":0},{"$f":"Actions!R82","v":0},null,null,null,null,null,null,null,0,0,0,"","",0,0,0,0,0,0,"","",{"$f":"IFERROR(VLOOKUP(O82,refQualityLevel[],2,0)*AG82,\"\")","v":""},{"$f":"IFERROR(VLOOKUP(P82,refQualityLevel[],2,0)*IF(AH82<>0,AH82,AG82),\"\")","v":""},{"$f":"IFERROR(VLOOKUP($R82,tblRisks[],7),0)","v":0},{"$f":"IFERROR(VLOOKUP(Q82,tblIssues[],7),0)","v":0}]
[{"$f":"Actions!A83","v":0},{"$f":"Actions!B83","v":0},{"$f":"Actions!C83","v":0},{"$f":"Actions!D83","v":0},{"$f":"Actions!E83","v":0},{"$f":"Actions!F83","v":"00:00:00"},{"$f":"Actions!G83","v":"00:00:00"},{"$f":"Actions!H83","v":0},{"$f":"Actions!I83","v":"00:00:00"},{"$f":"Actions!J83","v":"00:00:00"},{"$f":"Actions!K83","v":0},{"$f":"Actions!L83","v":0},{"$f":"Actions!M83","v":0},{"$f":"Actions!N83","v":0},{"$f":"Actions!O83","v":0},{"$f":"Actions!P83","v":0},{"$f":"Actions!Q83","v":0},{"$f":"Actions!R83","v":0},null,null,null,null,null,null,null,0,0,0,"","",0,0,0,0,0,0,"","",{"$f":"IFERROR(VLOOKUP(O83,refQualityLevel[],2,0)*AG83,\"\")","v":""},{"$f":"IFERROR(VLOOKUP(P83,refQualityLevel[],2,0)*IF(AH83<>0,AH83,AG83),\"\")","v":""},{"$f":"IFERROR(VLOOKUP($R83,tblRisks[],7),0)","v":0},{"$f":"IFERROR(VLOOKUP(Q83,tblIssues[],7),0)","v":0}]
[{"$f":"Actions!A84","v":0},{"$f":"Actions!B84","v":0},{"$f":"Actions!C84","v":0},{"$f":"Actions!D84","v":0},{"$f":"Actions!E84","v":0},{"$f":"Actions!F84","v":"00:00:00"},{"$f":"Actions!G84","v":"00:00:00"},{"$f":"Actions!H84","v":0},{"$f":"Actions!I84","v":"00:00:00"},{"$f":"Actions!J84","v":"00:00:00"},{"$f":"Actions!K84","v":0},{"$f":"Actions!L84","v":0},{"$f":"Actions!M84","v":0},{"$f":"Actions!N84","v":0},{"$f":"Actions!O84","v":0},{"$f":"Actions!P84","v":0},{"$f":"Actions!Q84","v":0},{"$f":"Actions!R84","v":0},null,null,null,null,null,null,null,0,0,0,"","",0,0,0,0,0,0,"","",{"$f":"IFERROR(VLOOKUP(O84,refQualityLevel[],2,0)*AG84,\"\")","v":""},{"$f":"IFERROR(VLOOKUP(P84,refQualityLevel[],2,0)*IF(AH84<>0,AH84,AG84),\"\")","v":""},{"$f":"IFERROR(VLOOKUP($R84,tblRisks[],7),0)","v":0},{"$f":"IFERROR(VLOOKUP(Q84,tblIssues[],7),0)","v":0}]
[{"$f":"Actions!A85","v":0},{"$f":"Actions!B85","v":0},{"$f":"Actions!C85","v":0},{"$f":"Actions!D85","v":0},{"$f":"Actions!E85","v":0},{"$f":"Actions!F85","v":"00:00:00"},{"$f":"Actions!G85","v":"00:00:00"},{"$f":"Actions!H85","v":0},{"$f":"Actions!I85","v":"00:00:00"},{"$f":"Actions!J85","v":"00:00:00"},{"$f":"Actions!K85","v":0},{"$f":"Actions!L85","v":0},{"$f":"Actions!M85","v":0},{"$f":"Actions!N85","v":0},{"$f":"Actions!O85","v":0},{"$f":"Actions!P85","v":0},{"$f":"Actions!Q85","v":0},{"$f":"Actions!R85","v":0},null,null,null,null,null,null,null,0,0,0,"","",0,0,0,0,0,0,"","",{"$f":"IFERROR(VLOOKUP(O85,refQualityLevel[],2,0)*AG85,\"\")","v":""},{"$f":"IFERROR(VLOOKUP(P85,refQualityLevel[],2,0)*IF(AH85<>0,AH85,AG85),\"\")","v":""},{"$f":"IFERROR(VLOOKUP($R85,tblRisks[],7),0)","v":0},{"$f":"IFERROR(VLOOKUP(Q85,tblIssues[],7),0)","v":0}]
[{"$f":"Actions!A86","v":0},{"$f":"Actions!B86","v":0},{"$f":"Actions!C86","v":0},{"$f":"Actions!D86","v":0},{"$f":"Actions!E86","v":0},{"$f":"Actions!F86","v":"00:00:00"},{"$f":"Actions!G86","v":"00:00:00"},{"$f":"Actions!H86","v":0},{"$f":"Actions!I86","v":"00:00:00"},{"$f":"Actions!J86","v":"00:00:00"},{"$f":"Actions!K86","v":0},{"$f":"Actions!L86","v":0},{"$f":"Actions!M86","v":0},{"$f":"Actions!N86","v":0},{"$f":"Actions!O86","v":0},{"$f":"Actions!P86","v":0},{"$f":"Actions!Q86","v":0},{"$f":"Actions!R86","v":0},null,null,null,null,null,null,null,0,0,0,"","",0,0,0,0,0,0,"","",{"$f":"IFERROR(VLOOKUP(O86,refQualityLevel[],2,0)*AG86,\"\")","v":""},{"$f":"IFERROR(VLOOKUP(P86,refQualityLevel[],2,0)*IF(AH86<>0,AH86,AG86),\"\")","v":""},{"$f":"IFERROR(VLOOKUP($R86,tblRisks[],7),0)","v":0},{"$f":"IFERROR(VLOOKUP(Q86,tblIssues[],7),0)","v":0}]
[{"$f":"Actions!A87","v":0},{"$f":"Actions!B87","v":0},{"$f":"Actions!C87","v":0},{"$f":"Actions!D87","v":0},{"$f":"Actions!E87","v":0},{"$f":"Actions!F87","v":"00:00:00"},{"$f":"Actions!G87","v":"00:00:00"},{"$f":"Actions!H87","v":0},{"$f":"Actions!I87","v":"00:00:00"},{"$f":"Actions!J87","v":"00:00:00"},{"$f":"Actions!K87","v":0},{"$f":"Actions!L87","v":0},{"$f":"Actions!M87","v":0},{"$f":"Actions!N87","v":0},{"$f":"Actions!O87","v":0},{"$f":"Actions!P87","v":0},{"$f":"Actions!Q87","v":0},{"$f":"Actions!R87","v":0},null,null,null,null,null,null,null,0,0,0,"","",0,0,0,0,0,0,"","",{"$f":"IFERROR(VLOOKUP(O87,refQualityLevel[],2,0)*AG87,\"\")","v":""},{"$f":"IFERROR(VLOOKUP(P87,refQualityLevel[],2,0)*IF(AH87<>0,AH87,AG87),\"\")","v":""},{"$f":"IFERROR(VLOOKUP($R87,tblRisks[],7),0)","v":0},{"$f":"IFERROR(VLOOKUP(Q87,tblIssues[],7),0)","v":0}]
[{"$f":"Actions!A88","v":0},{"$f":"Actions!B88","v":0},{"$f":"Actions!C88","v":0},{"$f":"Actions!D88","v":0},{"$f":"Actions!E88","v":0},{"$f":"Actions!F88","v":"00:00:00"},{"$f":"Actions!G88","v":"00:00:00"},{"$f":"Actions!H88","v":0},{"$f":"Actions!I88","v":"00:00:00"},{"$f":"Actions!J88","v":"00:00:00"},{"$f":"Actions!K88","v":0},{"$f":"Actions!L88","v":0},{"$f":"Actions!M88","v":0},{"$f":"Actions!N88","v":0},{"$f":"Actions!O88","v":0},{"$f":"Actions!P88","v":0},{"$f":"Actions!Q88","v":0},{"$f":"Actions!R88","v":0},null,null,null,null,null,null,null,0,0,0,"","",0,0,0,0,0,0,"","",{"$f":"IFERROR(VLOOKUP(O88,refQualityLevel[],2,0)*AG88,\"\")","v":""},{"$f":"IFERROR(VLOOKUP(P88,refQualityLevel[],2,0)*IF(AH88<>0,AH88,AG88),\"\")","v":""},{"$f":"IFERROR(VLOOKUP($R88,tblRisks[],7),0)","v":0},{"$f":"IFERROR(VLOOKUP(Q88,tblIssues[],7),0)","v":0}]
[{"$f":"Actions!A89","v":0},{"$f":"Actions!B89","v":0},{"$f":"Actions!C89","v":0},{"$f":"Actions!D89","v":0},{"$f":"Actions!E89","v":0},{"$f":"Actions!F89","v":"00:00:00"},{"$f":"Actions!G89","v":"00:00:00"},{"$f":"Actions!H89","v":0},{"$f":"Actions!I89","v":"00:00:00"},{"$f":"Actions!J89","v":"00:00:00"},{"$f":"Actions!K89","v":0},{"$f":"Actions!L89","v":0},{"$f":"Actions!M89","v":0},{"$f":"Actions!N89","v":0},{"$f":"Actions!O89","v":0},{"$f":"Actions!P89","v":0},{"$f":"Actions!Q89","v":0},{"$f":"Actions!R89","v":0},null,null,null,null,null,null,null,0,0,0,"","",0,0,0,0,0,0,"","",{"$f":"IFERROR(VLOOKUP(O89,refQualityLevel[],2,0)*AG89,\"\")","v":""},{"$f":"IFERROR(VLOOKUP(P89,refQualityLevel[],2,0)*IF(AH89<>0,AH89,AG89),\"\")","v":""},{"$f":"IFERROR(VLOOKUP($R89,tblRisks[],7),0)","v":0},{"$f":"IFERROR(VLOOKUP(Q89,tblIssues[],7),0)","v":0}]
[{"$f":"Actions!A90","v":0},{"$f":"Actions!B90","v":0},{"$f":"Actions!C90","v":0},{"$f":"Actions!D90","v":0},{"$f":"Actions!E90","v":0},{"$f":"Actions!F90","v":"00:00:00"},{"$f":"Actions!G90","v":"00:00:00"},{"$f":"Actions!H90","v":0},{"$f":"Actions!I90","v":"00:00:00"},{"$f":"Actions!J90","v":"00:00:00"},{"$f":"Actions!K90","v":0},{"$f":"Actions!L90","v":0},{"$f":"Actions!M90","v":0},{"$f":"Actions!N90","v":0},{"$f":"Actions!O90","v":0},{"$f":"Actions!P90","v":0},{"$f":"Actions!Q90","v":0},{"$f":"Actions!R90","v":0},null,null,null,null,null,null,null,0,0,0,"","",0,0,0,0,0,0,"","",{"$f":"IFERROR(VLOOKUP(O90,refQualityLevel[],2,0)*AG90,\"\")","v":""},{"$f":"IFERROR(VLOOKUP(P90,refQualityLevel[],2,0)*IF(AH90<>0,AH90,AG90),\"\")","v":""},{"$f":"IFERROR(VLOOKUP($R90,tblRisks[],7),0)","v":0},{"$f":"IFERROR(VLOOKUP(Q90,tblIssues[],7),0)","v":0}]
[{"$f":"Actions!A91","v":0},{"$f":"Actions!B91","v":0},{"$f":"Actions!C91","v":0},{"$f":"Actions!D91","v":0},{"$f":"Actions!E91","v":0},{"$f":"Actions!F91","v":"00:00:00"},{"$f":"Actions!G91","v":"00:00:00"},{"$f":"Actions!H91","v":0},{"$f":"Actions!I91","v":"00:00:00"},{"$f":"Actions!J91","v":"00:00:00"},{"$f":"Actions!K91","v":0},{"$f":"Actions!L91","v":0},{"$f":"Actions!M91","v":0},{"$f":"Actions!N91","v":0},{"$f":"Actions!O91","v":0},{"$f":"Actions!P91","v":0},{"$f":"Actions!Q91","v":0},{"$f":"Actions!R91","v":0},null,null,null,null,null,null,null,0,0,0,"","",0,0,0,0,0,0,"","",{"$f":"IFERROR(VLOOKUP(O91,refQualityLevel[],2,0)*AG91,\"\")","v":""},{"$f":"IFERROR(VLOOKUP(P91,refQualityLevel[],2,0)*IF(AH91<>0,AH91,AG91),\"\")","v":""},{"$f":"IFERROR(VLOOKUP($R91,tblRisks[],7),0)","v":0},{"$f":"IFERROR(VLOOKUP(Q91,tblIssues[],7),0)","v":0}]
[{"$f":"Actions!A92","v":0},{"$f":"Actions!B92","v":0},{"$f":"Actions!C92","v":0},{"$f":"Actions!D92","v":0},{"$f":"Actions!E92","v":0},{"$f":"Actions!F92","v":"00:00:00"},{"$f":"Actions!G92","v":"00:00:00"},{"$f":"Actions!H92","v":0},{"$f":"Actions!I92","v":"00:00:00"},{"$f":"Actions!J92","v":"00:00:00"},{"$f":"Actions!K92","v":0},{"$f":"Actions!L92","v":0},{"$f":"Actions!M92","v":0},{"$f":"Actions!N92","v":0},{"$f":"Actions!O92","v":0},{"$f":"Actions!P92","v":0},{"$f":"Actions!Q92","v":0},{"$f":"Actions!R92","v":0},null,null,null,null,null,null,null,0,0,0,"","",0,0,0,0,0,0,"","",{"$f":"IFERROR(VLOOKUP(O92,refQualityLevel[],2,0)*AG92,\"\")","v":""},{"$f":"IFERROR(VLOOKUP(P92,refQualityLevel[],2,0)*IF(AH92<>0,AH92,AG92),\"\")","v":""},{"$f":"IFERROR(VLOOKUP($R92,tblRisks[],7),0)","v":0},{"$f":"IFERROR(VLOOKUP(Q92,tblIssues[],7),0)","v":0}]
[{"$f":"Actions!A93","v":0},{"$f":"Actions!B93","v":0},{"$f":"Actions!C93","v":0},{"$f":"Actions!D93","v":0},{"$f":"Actions!E93","v":0},{"$f":"Actions!F93","v":"00:00:00"},{"$f":"Actions!G93","v":"00:00:00"},{"$f":"Actions!H93","v":0},{"$f":"Actions!I93","v":"00:00:00"},{"$f":"Actions!J93","v":"00:00:00"},{"$f":"Actions!K93","v":0},{"$f":"Actions!L93","v":0},{"$f":"Actions!M93","v":0},{"$f":"Actions!N93","v":0},{"$f":"Actions!O93","v":0},{"$f":"Actions!P93","v":0},{"$f":"Actions!Q93","v":0},{"$f":"Actions!R93","v":0},null,null,null,null,null,null,null,0,0,0,"","",0,0,0,0,0,0,"","",{"$f":"IFERROR(VLOOKUP(O93,refQualityLevel[],2,0)*AG93,\"\")","v":""},{"$f":"IFERROR(VLOOKUP(P93,refQualityLevel[],2,0)*IF(AH93<>0,AH93,AG93),\"\")","v":""},{"$f":"IFERROR(VLOOKUP($R93,tblRisks[],7),0)","v":0},{"$f":"IFERROR(VLOOKUP(Q93,tblIssues[],7),0)","v":0}]
[{"$f":"Actions!A94","v":0},{"$f":"Actions!B94","v":0},{"$f":"Actions!C94","v":0},{"$f":"Actions!D94","v":0},{"$f":"Actions!E94","v":0},{"$f":"Actions!F94","v":"00:00:00"},{"$f":"Actions!G94","v":"00:00:00"},{"$f":"Actions!H94","v":0},{"$f":"Actions!I94","v":"00:00:00"},{"$f":"Actions!J94","v":"00:00:00"},{"$f":"Actions!K94","v":0},{"$f":"Actions!L94","v":0},{"$f":"Actions!M94","v":0},{"$f":"Actions!N94","v":0},{"$f":"Actions!O94","v":0},{"$f":"Actions!P94","v":0},{"$f":"Actions!Q94","v":0},{"$f":"Actions!R94","v":0},null,null,null,null,null,null,null,0,0,0,"","",0,0,0,0,0,0,"","",{"$f":"IFERROR(VLOOKUP(O94,refQualityLevel[],2,0)*AG94,\"\")","v":""},{"$f":"IFERROR(VLOOKUP(P94,refQualityLevel[],2,0)*IF(AH94<>0,AH94,AG94),\"\")","v":""},{"$f":"IFERROR(VLOOKUP($R94,tblRisks[],7),0)","v":0},{"$f":"IFERROR(VLOOKUP(Q94,tblIssues[],7),0)","v":0}]
[{"$f":"Actions!A95","v":0},{"$f":"Actions!B95","v":0},{"$f":"Actions!C95","v":0},{"$f":"Actions!D95","v":0},{"$f":"Actions!E95","v":0},{"$f":"Actions!F95","v":"00:00:00"},{"$f":"Actions!G95","v":"00:00:00"},{"$f":"Actions!H95","v":0},{"$f":"Actions!I95","v":"00:00:00"},{"$f":"Actions!J95","v":"00:00:00"},{"$f":"Actions!K95","v":0},{"$f":"Actions!L95","v":0},{"$f":"Actions!M95","v":0},{"$f":"Actions!N95","v":0},{"$f":"Actions!O95","v":0},{"$f":"Actions!P95","v":0},{"$f":"Actions!Q95","v":0},{"$f":"Actions!R95","v":0},null,null,null,null,null,null,null,0,0,0,"","",0,0,0,0,0,0,"","",{"$f":"IFERROR(VLOOKUP(O95,refQualityLevel[],2,0)*AG95,\"\")","v":""},{"$f":"IFERROR(VLOOKUP(P95,refQualityLevel[],2,0)*IF(AH95<>0,AH95,AG95),\"\")","v":""},{"$f":"IFERROR(VLOOKUP($R95,tblRisks[],7),0)","v":0},{"$f":"IFERROR(VLOOKUP(Q95,tblIssues[],7),0)","v":0}]
[{"$f":"Actions!A96","v":0},{"$f":"Actions!B96","v":0},{"$f":"Actions!C96","v":0},{"$f":"Actions!D96","v":0},{"$f":"Actions!E96","v":0},{"$f":"Actions!F96","v":"00:00:00"},{"$f":"Actions!G96","v":"00:00:00"},{"$f":"Actions!H96","v":0},{"$f":"Actions!I96","v":"00:00:00"},{"$f":"Actions!J96","v":"00:00:00"},{"$f":"Actions!K96","v":0},{"$f":"Actions!L96","v":0},{"$f":"Actions!M96","v":0},{"$f":"Actions!N96","v":0},{"$f":"Actions!O96","v":0},{"$f":"Actions!P96","v":0},{"$f":"Actions!Q96","v":0},{"$f":"Actions!R96","v":0},null,null,null,null,null,null,null,0,0,0,"","",0,0,0,0,0,0,"","",{"$f":"IFERROR(VLOOKUP(O96,refQualityLevel[],2,0)*AG96,\"\")","v":""},{"$f":"IFERROR(VLOOKUP(P96,refQualityLevel[],2,0)*IF(AH96<>0,AH96,AG96),\"\")","v":""},{"$f":"IFERROR(VLOOKUP($R96,tblRisks[],7),0)","v":0},{"$f":"IFERROR(VLOOKUP(Q96,tblIssues[],7),0)","v":0}]
[{"$f":"Actions!A97","v":0},{"$f":"Actions!B97","v":0},{"$f":"Actions!C97","v":0},{"$f":"Actions!D97","v":0},{"$f":"Actions!E97","v":0},{"$f":"Actions!F97","v":"00:00:00"},{"$f":"Actions!G97","v":"00:00:00"},{"$f":"Actions!H97","v":0},{"$f":"Actions!I97","v":"00:00:00"},{"$f":"Actions!J97","v":"00:00:00"},{"$f":"Actions!K97","v":0},{"$f":"Actions!L97","v":0},{"$f":"Actions!M97","v":0},{"$f":"Actions!N97","v":0},{"$f":"Actions!O97","v":0},{"$f":"Actions!P97","v":0},{"$f":"Actions!Q97","v":0},{"$f":"Actions!R97","v":0},null,null,null,null,null,null,null,0,0,0,"","",0,0,0,0,0,0,"","",{"$f":"IFERROR(VLOOKUP(O97,refQualityLevel[],2,0)*AG97,\"\")","v":""},{"$f":"IFERROR(VLOOKUP(P97,refQualityLevel[],2,0)*IF(AH97<>0,AH97,AG97),\"\")","v":""},{"$f":"IFERROR(VLOOKUP($R97,tblRisks[],7),0)","v":0},{"$f":"IFERROR(VLOOKUP(Q97,tblIssues[],7),0)","v":0}]
[{"$f":"Actions!A98","v":0},{"$f":"Actions!B98","v":0},{"$f":"Actions!C98","v":0},{"$f":"Actions!D98","v":0},{"$f":"Actions!E98","v":0},{"$f":"Actions!F98","v":"00:00:00"},{"$f":"Actions!G98","v":"00:00:00"},{"$f":"Actions!H98","v":0},{"$f":"Actions!I98","v":"00:00:00"},{"$f":"Actions!J98","v":"00:00:00"},{"$f":"Actions!K98","v":0},{"$f":"Actions!L98","v":0},{"$f":"Actions!M98","v":0},{"$f":"Actions!N98","v":0},{"$f":"Actions!O98","v":0},{"$f":"Actions!P98","v":0},{"$f":"Actions!Q98","v":0},{"$f":"Actions!R98","v":0},null,null,null,null,null,null,null,0,0,0,"","",0,0,0,0,0,0,"","",{"$f":"IFERROR(VLOOKUP(O98,refQualityLevel[],2,0)*AG98,\"\")","v":""},{"$f":"IFERROR(VLOOKUP(P98,refQualityLevel[],2,0)*IF(AH98<>0,AH98,AG98),\"\")","v":""},{"$f":"IFERROR(VLOOKUP($R98,tblRisks[],7),0)","v":0},{"$f":"IFERROR(VLOOKUP(Q98,tblIssues[],7),0)","v":0}]
[{"$f":"Actions!A99","v":0},{"$f":"Actions!B99","v":0},{"$f":"Actions!C99","v":0},{"$f":"Actions!D99","v":0},{"$f":"Actions!E99","v":0},{"$f":"Actions!F99","v":"00:00:00"},{"$f":"Actions!G99","v":"00:00:00"},{"$f":"Actions!H99","v":0},{"$f":"Actions!I99","v":"00:00:00"},{"$f":"Actions!J99","v":"00:00:00"},{"$f":"Actions!K99","v":0},{"$f":"Actions!L99","v":0},{"$f":"Actions!M99","v":0},{"$f":"Actions!N99","v":0},{"$f":"Actions!O99","v":0},{"$f":"Actions!P99","v":0},{"$f":"Actions!Q99","v":0},{"$f":"Actions!R99","v":0},null,null,null,null,null,null,null,0,0,0,"","",0,0,0,0,0,0,"","",{"$f":"IFERROR(VLOOKUP(O99,refQualityLevel[],2,0)*AG99,\"\")","v":""},{"$f":"IFERROR(VLOOKUP(P99,refQualityLevel[],2,0)*IF(AH99<>0,AH99,AG99),\"\")","v":""},{"$f":"IFERROR(VLOOKUP($R99,tblRisks[],7),0)","v":0},{"$f":"IFERROR(VLOOKUP(Q99,tblIssues[],7),0)","v":0}]
[{"$f":"Actions!A100","v":0},{"$f":"Actions!B100","v":0},{"$f":"Actions!C100","v":0},{"$f":"Actions!D100","v":0},{"$f":"Actions!E100","v":0},{"$f":"Actions!F100","v":"00:00:00"},{"$f":"Actions!G100","v":"00:00:00"},{"$f":"Actions!H100","v":0},{"$f":"Actions!I100","v":"00:00:00"},{"$f":"Actions!J100","v":"00:00:00"},{"$f":"Actions!K100","v":0},{"$f":"Actions!L100","v":0},{"$f":"Actions!M100","v":0},{"$f":"Actions!N100","v":0},{"$f":"Actions!O100","v":0},{"$f":"Actions!P100","v":0},{"$f":"Actions!Q100","v":0},{"$f":"Actions!R100","v":0},null,null,null,null,null,null,null,0,0,0,"","",0,0,0,0,0,0,"","",{"$f":"IFERROR(VLOOKUP(O100,refQualityLevel[],2,0)*AG100,\"\")","v":""},{"$f":"IFERROR(VLOOKUP(P100,refQualityLevel[],2,0)*IF(AH100<>0,AH100,AG100),\"\")","v":""},{"$f":"IFERROR(VLOOKUP($R100,tblRisks[],7),0)","v":0},{"$f":"IFERROR(VLOOKUP(Q100,tblIssues[],7),0)","v":0}]
[{"$f":"Actions!A101","v":0},{"$f":"Actions!B101","v":0},{"$f":"Actions!C101","v":0},{"$f":"Actions!D101","v":0},{"$f":"Actions!E101","v":0},{"$f":"Actions!F101","v":"00:00:00"},{"$f":"Actions!G101","v":"00:00:00"},{"$f":"Actions!H101","v":0},{"$f":"Actions!I101","v":"00:00:00"},{"$f":"Actions!J101","v":"00:00:00"},{"$f":"Actions!K101","v":0},{"$f":"Actions!L101","v":0},{"$f":"Actions!M101","v":0},{"$f":"Actions!N101","v":0},{"$f":"Actions!O101","v":0},{"$f":"Actions!P101","v":0},{"$f":"Actions!Q101","v":0},{"$f":"Actions!R101","v":0},null,null,null,null,null,null,null,0,0,0,"","",0,0,0,0,0,0,"","",{"$f":"IFERROR(VLOOKUP(O101,refQualityLevel[],2,0)*AG101,\"\")","v":""},{"$f":"IFERROR(VLOOKUP(P101,refQualityLevel[],2,0)*IF(AH101<>0,AH101,AG101),\"\")","v":""},{"$f":"IFERROR(VLOOKUP($R101,tblRisks[],7),0)","v":0},{"$f":"IFERROR(VLOOKUP(Q101,tblIssues[],7),0)","v":0}]
[{"$f":"COUNTIF(A2:A101,\"<>0\")","v":35},"-","-",{"$f":"COUNTIF(D2:D101,\"да\")","v":8},"-",{"$f":"IFERROR(SMALL(F2:F101,COUNTIF(F2:F101,0)+1),0)","v":"2014-03-01"},{"$f":"IFERROR(MAX(G2:G101),0)","v":"2014-08-09"},{"$f":"G102-F102+1","v":162},{"$f":"IFERROR(SMALL(I2:I101,COUNTIF(I2:I101,0)+1),0)","v":"2014-05-01"},{"$f":"IFERROR(MAX(J2:J101),0)","v":"2014-11-07"},{"$f":"J102-I102+1","v":191},{"$f":"COUNTIFS($L$2:$L$101,1,$AD$2:$AD$101,TRUE)","v":19},{"$f":"SUM(M2:M101)","v":805000},{"$f":"SUM(N2:N101)","v":828800},null,null,null,null,null,null,null,null,null,null,null,null,null,null,null,{"$f":"COUNTIF($AD$2:$AD$101,TRUE)","v":32},{"$f":"SUM(AE2:AE101)","v":165},194,162,191,24.9,25.7,805000,828800,120.79999999999998,139.30000000000004,2.5000000000000001E-2,6.25E-2]
[]
[]
[null,"Дата окончания проекта",null,null,null,{"$f":"IF(ISBLANK(rngProjectEndOverrided),G102,rngProjectEndOverrided)","v":"2014-08-09"},"Цвет","Светофор","Доля","Статус","Расч.доля"]
[null,"Соответствие графику на сегодня",null,null,null,{"$f":"IF($AG$102<>0,$AH$102/$AG$102,0)","v":1.1790123456790123},{"$f":"IF(Ref!$R2,VLOOKUP($F106,refScaleSchedule[],2),\"D\")","v":"R"},1,{"$f":"VLOOKUP(\"График\",refTrafficLightsSettings[],3,0)","v":0.2},{"$f":"VLOOKUP(\"График\",refTrafficLightsSettings[],2,0)","v":1},{"$f":"IF(J106,F106*I106,0)","v":0.23580246913580247}]
[null,"Соответствие бюджету на сегодня",null,null,null,{"$f":"IF($AK$102<>0,$AL$102/$AK$102-1,0)","v":2.9565217391304355E-2},{"$f":"IF(Ref!$R3,VLOOKUP($F107,refScaleBudget[],2),\"D\")","v":"Y"},2,{"$f":"VLOOKUP(\"Бюджет\",refTrafficLightsSettings[],3,0)","v":0.2},{"$f":"VLOOKUP(\"Бюджет\",refTrafficLightsSettings[],2,0)","v":1},{"$f":"IF(J107,F107*I107,0)","v":5.9130434782608716E-3}]
[null,"Соответствие качеству на сегодня",null,null,null,{"$f":"IFERROR(IF($AM$102-$AN$102>0,($AM$102-$AN$102)/$AG$102,0),0)","v":0},{"$f":"IF(Ref!$R4,VLOOKUP($F108,refScaleQuality[],2),\"D\")","v":"G"},3,{"$f":"VLOOKUP(\"Качество\",refTrafficLightsSettings[],3,0)","v":0.15},{"$f":"VLOOKUP(\"Качество\",refTrafficLightsSettings[],2,0)","v":1},0]
[null,"Соответствие ресурсам на сегодня",null,null,null,{"$f":"IF('Act+Res'!$AL$5>0,'Act+Res'!$AL$5,0)","v":0.12110204660834108},{"$f":"IF(Ref!$R5,VLOOKUP($F109,refScaleResources[],2),\"D\")","v":"Y"},4,{"$f":"VLOOKUP(\"Ресурсы\",refTrafficLightsSettings[],3,0)","v":0.15},{"$f":"VLOOKUP(\"Ресурсы\",refTrafficLightsSettings[],2,0)","v":1},1.816530699125116E-2]
[null,"Риски на сегодня",null,null,null,{"$f":"AO102","v":2.5000000000000001E-2},{"$f":"IF(Ref!$R6,VLOOKUP($F110,refScaleRisks[],2),\"D\")","v":"G"},5,{"$f":"VLOOKUP(\"Риски\",refTrafficLightsSettings[],3,0)","v":0.15},{"$f":"VLOOKUP(\"Риски\",refTrafficLightsSettings[],2,0)","v":1},3.7499999999999999E-3]
[null,"Проблемы на сегодня",null,null,null,{"$f":"AP102","v":6.25E-2},{"$f":"IF(Ref!$R7,VLOOKUP($F111,refScaleIssues[],2),\"D\")","v":"Y"},6,{"$f":"VLOOKUP(\"Проблемы\",refTrafficLightsSettings[],3,0)","v":0.15},{"$f":"VLOOKUP(\"Проблемы\",refTrafficLightsSettings[],2,0)","v":1},9.3749999999999997E-3]
[null,"Общий статус",null,null,null,{"$f":"K112/J112*6","v":0.2730058196053145},{"$f":"VLOOKUP($F112,refScaleIssues[],2)","v":"R"},0,{"$f":"SUM(I106:I111)","v":1},{"$f":"SUM(J106:J111)","v":6},{"$f":"SUM(K106:K111)","v":0.2730058196053145}]
[null,"Количество пройденных вех",null,null,null,{"$f":"COUNTIFS($D$2:$D$101,\"Да\",$L$2:$L$101,1)","v":3}]

{"sheet":"Maintenance","index":10,"n_rows":19,"n_cols":5,"rows_kept":19,"cut":false,"hidden":true,"merged":[]}
["Переменная","Значение",null,"M","View"]
["Видимость технических столбцов и строк",0,null,0.2,1]
[null,null,null,0.25,1]
[null,null,null,0.3333333,1]
[null,null,null,0.5,1]
[null,null,null,1,1]
[null,null,null,2,1]
[null,null,null,3,1]
[null,null,null,4,2]
[null,null,null,5,2]
[null,null,null,6,2]
[null,null,null,7,3]
[null,null,null,10,2]
[null,null,null,12,2]
[null,null,null,14,3]
[null,null,null,15,2]
[null,null,null,20,2]
[null,null,null,21,3]
[null,null,null,30.5,3]